Workbook
Name TableauComplet: Tableau37[]
Name TableauComplet: Tableau37[]
Name TableauComplet: Tableau37[]
Name TableauComplet: Tableau37[]
Name TableauComplet: Tableau37[]
Name TableauComplet: Tableau37[]
Name TableauComplet: Tableau37[]
Name TableauComplet: Tableau37[]

Sheet RECAP
C1: Vopening | D1: 4 | E1: 6 | F1: 7 | G1: 8 | H1: 10 | I1: 12 | J1: 14 | K1: 16 | L1: 18 | M1: 20 | N1: 25 | O1: 32 | P1: 40 | Q1: 50 | R1: 63 | S1: 80 | T1: 100 | U1: 125
C2: Bm | D2: 2.8 | E2: 4 | F2: 5 | G2: 5.5 | H2: 7 | I2: 8.5 | J2: 10 | K2: 11 | L2: 13.5 | M2: 14 | N2: 17.5 | O2: 22 | P2: 28 | Q2: 35 | R2: 45 | S2: 55 | T2: 71 | U2: 89
C3: RiR | D3: 0.7 | E3: 1 | F3: 1.1 | G3: 1.3 | H3: 1.6 | I3: 2 | J3: 2.3 | K3: 2.6 | L3: 3 | M3: 3.3 | N3: 4 | O3: 5 | P3: 6.5 | Q3: 8 | R3: 10 | S3: 13 | T3: 16 | U3: 20
D4: Vopening
A5: Material | B5: MaterialNumber2 | C5: Angle | D5: Thickness | E5: 4 | F5: 6 | G5: 7 | H5: 8 | I5: 10 | J5: 12 | K5: 14 | L5: 16 | M5: 18 | N5: 20 | O5: 25 | P5: 32 | Q5: 40 | R5: 50 | S5: 63 | T5: 80 | U5: 100 | V5: 125
A6: ADX1 | B6: {=_xlfn.LET(_xlpm.x,UPPER(Tableau37[[#This Row],[Material]]),_xlfn.IFS(LEFT(_xlpm.x,3)="ADX",0,LEFT(_xlpm.x,3)="ALU",1,LEFT(_xlpm.x,4)="INOX",2,TRUE,""))} -> 0 | C6: 30 | D6: 0.5 | E6: 0.166 | F6: 0.192 | G6: 0.206 | H6: 0.22 | I6: 0.246 | J6: 0.274
A7: ADX1 | B7: {=_xlfn.LET(_xlpm.x,UPPER(Tableau37[[#This Row],[Material]]),_xlfn.IFS(LEFT(_xlpm.x,3)="ADX",0,LEFT(_xlpm.x,3)="ALU",1,LEFT(_xlpm.x,4)="INOX",2,TRUE,""))} -> 0 | C7: 30 | D7: 0.8 | E7: 0.234 | F7: 0.26 | G7: 0.274 | H7: 0.288 | I7: 0.314 | J7: 0.342 | K7: 0.368 | L7: 0.396
A8: ADX1 | B8: {=_xlfn.LET(_xlpm.x,UPPER(Tableau37[[#This Row],[Material]]),_xlfn.IFS(LEFT(_xlpm.x,3)="ADX",0,LEFT(_xlpm.x,3)="ALU",1,LEFT(_xlpm.x,4)="INOX",2,TRUE,""))} -> 0 | C8: 30 | D8: 1 | E8: 0.278 | F8: 0.306 | G8: 0.32 | H8: 0.332 | I8: 0.36 | J8: 0.386 | K8: 0.414 | L8: 0.44 | M8: 0.468 | N8: 0.494
A9: ADX1 | B9: {=_xlfn.LET(_xlpm.x,UPPER(Tableau37[[#This Row],[Material]]),_xlfn.IFS(LEFT(_xlpm.x,3)="ADX",0,LEFT(_xlpm.x,3)="ALU",1,LEFT(_xlpm.x,4)="INOX",2,TRUE,""))} -> 0 | C9: 30 | D9: 1.2 | F9: 0.352 | G9: 0.364 | H9: 0.378 | I9: 0.406 | J9: 0.432 | K9: 0.458 | L9: 0.486 | M9: 0.512 | N9: 0.54 | O9: 0.608
A10: ADX1 | B10: {=_xlfn.LET(_xlpm.x,UPPER(Tableau37[[#This Row],[Material]]),_xlfn.IFS(LEFT(_xlpm.x,3)="ADX",0,LEFT(_xlpm.x,3)="ALU",1,LEFT(_xlpm.x,4)="INOX",2,TRUE,""))} -> 0 | C10: 30 | D10: 1.5 | H10: 0.44 | I10: 0.466 | J10: 0.492 | K10: 0.518 | L10: 0.546 | M10: 0.572 | N10: 0.598 | O10: 0.664 | P10: 0.756
A11: ADX1 | B11: {=_xlfn.LET(_xlpm.x,UPPER(Tableau37[[#This Row],[Material]]),_xlfn.IFS(LEFT(_xlpm.x,3)="ADX",0,LEFT(_xlpm.x,3)="ALU",1,LEFT(_xlpm.x,4)="INOX",2,TRUE,""))} -> 0 | C11: 30 | D11: 2 | H11: 0.552 | I11: 0.578 | J11: 0.604 | K11: 0.63 | L11: 0.658 | M11: 0.684 | N11: 0.71 | O11: 0.676 | P11: 0.868 | Q11: 0.972
A12: ADX1 | B12: {=_xlfn.LET(_xlpm.x,UPPER(Tableau37[[#This Row],[Material]]),_xlfn.IFS(LEFT(_xlpm.x,3)="ADX",0,LEFT(_xlpm.x,3)="ALU",1,LEFT(_xlpm.x,4)="INOX",2,TRUE,""))} -> 0 | C12: 30 | D12: 2.5 | J12: 0.726 | K12: 0.752 | L12: 0.778 | M12: 0.804 | N12: 0.832 | O12: 0.896 | P12: 0.99 | Q12: 1.094 | R12: 1.226 | S12: 1.398
A13: ADX1 | B13: {=_xlfn.LET(_xlpm.x,UPPER(Tableau37[[#This Row],[Material]]),_xlfn.IFS(LEFT(_xlpm.x,3)="ADX",0,LEFT(_xlpm.x,3)="ALU",1,LEFT(_xlpm.x,4)="INOX",2,TRUE,""))} -> 0 | C13: 30 | D13: 3 | J13: 0.834 | K13: 0.86 | L13: 0.884 | M13: 0.91 | N13: 0.936 | O13: 1 | P13: 1.09 | Q13: 1.192 | R13: 1.32 | S13: 1.486
A14: ADX1 | B14: {=_xlfn.LET(_xlpm.x,UPPER(Tableau37[[#This Row],[Material]]),_xlfn.IFS(LEFT(_xlpm.x,3)="ADX",0,LEFT(_xlpm.x,3)="ALU",1,LEFT(_xlpm.x,4)="INOX",2,TRUE,""))} -> 0 | C14: 30 | D14: 4 | L14: 1.116 | M14: 1.142 | N14: 1.168 | O14: 1.232 | P14: 1.322 | Q14: 1.424 | R14: 1.552 | S14: 1.718 | T14: 1.936 | U14: 2.192 | V14: 2.512
A15: ADX1 | B15: {=_xlfn.LET(_xlpm.x,UPPER(Tableau37[[#This Row],[Material]]),_xlfn.IFS(LEFT(_xlpm.x,3)="ADX",0,LEFT(_xlpm.x,3)="ALU",1,LEFT(_xlpm.x,4)="INOX",2,TRUE,""))} -> 0 | C15: 30 | D15: 5 | O15: 1.46 | P15: 1.55 | Q15: 1.652 | R15: 1.78 | S15: 1.946 | T15: 2.164 | U15: 2.42 | V15: 2.74
A16: ADX1 | B16: {=_xlfn.LET(_xlpm.x,UPPER(Tableau37[[#This Row],[Material]]),_xlfn.IFS(LEFT(_xlpm.x,3)="ADX",0,LEFT(_xlpm.x,3)="ALU",1,LEFT(_xlpm.x,4)="INOX",2,TRUE,""))} -> 0 | C16: 30 | D16: 6 | R16: 2.008 | S16: 2.174 | T16: 2.392 | U16: 2.648 | V16: 2.968
A17: ADX1 | B17: {=_xlfn.LET(_xlpm.x,UPPER(Tableau37[[#This Row],[Material]]),_xlfn.IFS(LEFT(_xlpm.x,3)="ADX",0,LEFT(_xlpm.x,3)="ALU",1,LEFT(_xlpm.x,4)="INOX",2,TRUE,""))} -> 0 | C17: 30 | D17: 8 | S17: 2.63 | T17: 2.848 | U17: 3.104 | V17: 3.424
A18: ADX1 | B18: {=_xlfn.LET(_xlpm.x,UPPER(Tableau37[[#This Row],[Material]]),_xlfn.IFS(LEFT(_xlpm.x,3)="ADX",0,LEFT(_xlpm.x,3)="ALU",1,LEFT(_xlpm.x,4)="INOX",2,TRUE,""))} -> 0 | C18: 30 | D18: 12 | T18: 3.762 | U18: 4.018 | V18: 4.338
A19: ADX1 | B19: {=_xlfn.LET(_xlpm.x,UPPER(Tableau37[[#This Row],[Material]]),_xlfn.IFS(LEFT(_xlpm.x,3)="ADX",0,LEFT(_xlpm.x,3)="ALU",1,LEFT(_xlpm.x,4)="INOX",2,TRUE,""))} -> 0 | C19: 30 | D19: 15 | V19: 5.022
A20: ADX1 | B20: {=_xlfn.LET(_xlpm.x,UPPER(Tableau37[[#This Row],[Material]]),_xlfn.IFS(LEFT(_xlpm.x,3)="ADX",0,LEFT(_xlpm.x,3)="ALU",1,LEFT(_xlpm.x,4)="INOX",2,TRUE,""))} -> 0 | C20: 30 | D20: 20 | V20: 6.162
A21: ADX1 | B21: {=_xlfn.LET(_xlpm.x,UPPER(Tableau37[[#This Row],[Material]]),_xlfn.IFS(LEFT(_xlpm.x,3)="ADX",0,LEFT(_xlpm.x,3)="ALU",1,LEFT(_xlpm.x,4)="INOX",2,TRUE,""))} -> 0 | C21: 30 | D21: 25 | V21: 7.304
A22: ADX1 | B22: {=_xlfn.LET(_xlpm.x,UPPER(Tableau37[[#This Row],[Material]]),_xlfn.IFS(LEFT(_xlpm.x,3)="ADX",0,LEFT(_xlpm.x,3)="ALU",1,LEFT(_xlpm.x,4)="INOX",2,TRUE,""))} -> 0 | C22: 30 | D22: 30 | V22: 8.444
A23: ADX1 | B23: {=_xlfn.LET(_xlpm.x,UPPER(Tableau37[[#This Row],[Material]]),_xlfn.IFS(LEFT(_xlpm.x,3)="ADX",0,LEFT(_xlpm.x,3)="ALU",1,LEFT(_xlpm.x,4)="INOX",2,TRUE,""))} -> 0 | C23: 45 | D23: 0.5 | E23: 0.254 | F23: 0.412 | G23: 0.44 | H23: 0.468 | I23: 0.526 | J23: 0.584
A24: ADX1 | B24: {=_xlfn.LET(_xlpm.x,UPPER(Tableau37[[#This Row],[Material]]),_xlfn.IFS(LEFT(_xlpm.x,3)="ADX",0,LEFT(_xlpm.x,3)="ALU",1,LEFT(_xlpm.x,4)="INOX",2,TRUE,""))} -> 0 | C24: 45 | D24: 0.8 | E24: 0.498 | F24: 0.556 | G24: 0.584 | H24: 0.612 | I24: 0.67 | J24: 0.728 | K24: 0.784 | L24: 0.842
A25: ADX1 | B25: {=_xlfn.LET(_xlpm.x,UPPER(Tableau37[[#This Row],[Material]]),_xlfn.IFS(LEFT(_xlpm.x,3)="ADX",0,LEFT(_xlpm.x,3)="ALU",1,LEFT(_xlpm.x,4)="INOX",2,TRUE,""))} -> 0 | C25: 45 | D25: 1 | E25: 0.594 | F25: 0.652 | G25: 0.68 | H25: 0.708 | I25: 0.766 | J25: 0.824 | K25: 0.88 | L25: 0.938 | M25: 0.996 | N25: 1.052
A26: ADX1 | B26: {=_xlfn.LET(_xlpm.x,UPPER(Tableau37[[#This Row],[Material]]),_xlfn.IFS(LEFT(_xlpm.x,3)="ADX",0,LEFT(_xlpm.x,3)="ALU",1,LEFT(_xlpm.x,4)="INOX",2,TRUE,""))} -> 0 | C26: 45 | D26: 1.2 | F26: 0.748 | G26: 0.776 | H26: 0.804 | I26: 0.862 | J26: 0.92 | K26: 0.976 | L26: 1.034 | M26: 1.092 | N26: 1.148 | O26: 1.292
A27: ADX1 | B27: {=_xlfn.LET(_xlpm.x,UPPER(Tableau37[[#This Row],[Material]]),_xlfn.IFS(LEFT(_xlpm.x,3)="ADX",0,LEFT(_xlpm.x,3)="ALU",1,LEFT(_xlpm.x,4)="INOX",2,TRUE,""))} -> 0 | C27: 45 | D27: 1.5 | H27: 0.926 | I27: 0.992 | J27: 1.048 | K27: 1.104 | L27: 1.16 | M27: 1.216 | N27: 1.272 | O27: 1.412 | P27: 1.608
A28: ADX1 | B28: {=_xlfn.LET(_xlpm.x,UPPER(Tableau37[[#This Row],[Material]]),_xlfn.IFS(LEFT(_xlpm.x,3)="ADX",0,LEFT(_xlpm.x,3)="ALU",1,LEFT(_xlpm.x,4)="INOX",2,TRUE,""))} -> 0 | C28: 45 | D28: 2 | H28: 1.174 | I28: 1.23 | J28: 1.286 | K28: 1.342 | L28: 1.398 | M28: 1.454 | N28: 1.51 | O28: 1.648 | P28: 1.844 | Q28: 2.068
A29: ADX1 | B29: {=_xlfn.LET(_xlpm.x,UPPER(Tableau37[[#This Row],[Material]]),_xlfn.IFS(LEFT(_xlpm.x,3)="ADX",0,LEFT(_xlpm.x,3)="ALU",1,LEFT(_xlpm.x,4)="INOX",2,TRUE,""))} -> 0 | C29: 45 | D29: 2.5 | J29: 1.544 | K29: 1.6 | L29: 1.656 | M29: 1.712 | N29: 1.768 | O29: 1.908 | P29: 2.102 | Q29: 2.326 | R29: 2.606 | S29: 2.97
A30: ADX1 | B30: {=_xlfn.LET(_xlpm.x,UPPER(Tableau37[[#This Row],[Material]]),_xlfn.IFS(LEFT(_xlpm.x,3)="ADX",0,LEFT(_xlpm.x,3)="ALU",1,LEFT(_xlpm.x,4)="INOX",2,TRUE,""))} -> 0 | C30: 45 | D30: 3 | J30: 1.772 | K30: 1.828 | L30: 1.882 | M30: 1.936 | N30: 1.99 | O30: 2.126 | P30: 2.318 | Q30: 2.534 | R30: 2.806 | S30: 3.16
A31: ADX1 | B31: {=_xlfn.LET(_xlpm.x,UPPER(Tableau37[[#This Row],[Material]]),_xlfn.IFS(LEFT(_xlpm.x,3)="ADX",0,LEFT(_xlpm.x,3)="ALU",1,LEFT(_xlpm.x,4)="INOX",2,TRUE,""))} -> 0 | C31: 45 | D31: 4 | L31: 2.374 | M31: 2.428 | N31: 2.482 | O31: 2.618 | P31: 2.808 | Q31: 3.026 | R31: 3.298 | S31: 3.652 | T31: 4.114 | U31: 4.658 | V31: 5.34
A32: ADX1 | B32: {=_xlfn.LET(_xlpm.x,UPPER(Tableau37[[#This Row],[Material]]),_xlfn.IFS(LEFT(_xlpm.x,3)="ADX",0,LEFT(_xlpm.x,3)="ALU",1,LEFT(_xlpm.x,4)="INOX",2,TRUE,""))} -> 0 | C32: 45 | D32: 5 | O32: 3.104 | P32: 3.294 | Q32: 3.512 | R32: 3.784 | S32: 4.138 | T32: 4.6 | U32: 5.144 | V32: 5.824
A33: ADX1 | B33: {=_xlfn.LET(_xlpm.x,UPPER(Tableau37[[#This Row],[Material]]),_xlfn.IFS(LEFT(_xlpm.x,3)="ADX",0,LEFT(_xlpm.x,3)="ALU",1,LEFT(_xlpm.x,4)="INOX",2,TRUE,""))} -> 0 | C33: 45 | D33: 6 | R33: 4.268 | S33: 4.622 | T33: 5.84 | U33: 5.628 | V33: 6.308
A34: ADX1 | B34: {=_xlfn.LET(_xlpm.x,UPPER(Tableau37[[#This Row],[Material]]),_xlfn.IFS(LEFT(_xlpm.x,3)="ADX",0,LEFT(_xlpm.x,3)="ALU",1,LEFT(_xlpm.x,4)="INOX",2,TRUE,""))} -> 0 | C34: 45 | D34: 8 | S34: 5.592 | T34: 6.054 | U34: 6.598 | V34: 7.272
A35: ADX1 | B35: {=_xlfn.LET(_xlpm.x,UPPER(Tableau37[[#This Row],[Material]]),_xlfn.IFS(LEFT(_xlpm.x,3)="ADX",0,LEFT(_xlpm.x,3)="ALU",1,LEFT(_xlpm.x,4)="INOX",2,TRUE,""))} -> 0 | C35: 45 | D35: 12 | T35: 7.994 | U35: 8.538 | V35: 9.218
A36: ADX1 | B36: {=_xlfn.LET(_xlpm.x,UPPER(Tableau37[[#This Row],[Material]]),_xlfn.IFS(LEFT(_xlpm.x,3)="ADX",0,LEFT(_xlpm.x,3)="ALU",1,LEFT(_xlpm.x,4)="INOX",2,TRUE,""))} -> 0 | C36: 45 | D36: 15 | V36: 10.672
A37: ADX1 | B37: {=_xlfn.LET(_xlpm.x,UPPER(Tableau37[[#This Row],[Material]]),_xlfn.IFS(LEFT(_xlpm.x,3)="ADX",0,LEFT(_xlpm.x,3)="ALU",1,LEFT(_xlpm.x,4)="INOX",2,TRUE,""))} -> 0 | C37: 45 | D37: 20 | V37: 13.096
A38: ADX1 | B38: {=_xlfn.LET(_xlpm.x,UPPER(Tableau37[[#This Row],[Material]]),_xlfn.IFS(LEFT(_xlpm.x,3)="ADX",0,LEFT(_xlpm.x,3)="ALU",1,LEFT(_xlpm.x,4)="INOX",2,TRUE,""))} -> 0 | C38: 45 | D38: 25 | V38: 15.52
A39: ADX1 | B39: {=_xlfn.LET(_xlpm.x,UPPER(Tableau37[[#This Row],[Material]]),_xlfn.IFS(LEFT(_xlpm.x,3)="ADX",0,LEFT(_xlpm.x,3)="ALU",1,LEFT(_xlpm.x,4)="INOX",2,TRUE,""))} -> 0 | C39: 45 | D39: 30 | V39: 17.944
A40: ADX1 | B40: {=_xlfn.LET(_xlpm.x,UPPER(Tableau37[[#This Row],[Material]]),_xlfn.IFS(LEFT(_xlpm.x,3)="ADX",0,LEFT(_xlpm.x,3)="ALU",1,LEFT(_xlpm.x,4)="INOX",2,TRUE,""))} -> 0 | C40: 60 | D40: 0.5 | E40: 0.552 | F40: 0.642 | G40: 0.686 | H40: 0.732 | I40: 0.82 | J40: 0.91
...

Sheet pour csv
A1: 1 | B1: 2 | C1: 3 | D1: 4 | E1: 5 | F1: 6 | G1: 7 | H1: 8 | I1: 9 | J1: 10 | K1: 11 | L1: 12 | M1: 13 | N1: 14 | O1: 15 | P1: 16 | Q1: 17
A2: Material | B2: Thickness | C2: R | D2: Vopening | E2: RiR | F2: 0 | G2: 15 | H2: 30 | I2: 45 | J2: 60 | K2: 75 | L2: 90 | M2: 105 | N2: 120 | O2: 135 | P2: 150 | Q2: 165
A3: ADX1 | B3: 0.5 | C3: 1 | D3: 4 | E3: 0.7 | H3: 0.166 | I3: 0.254 | J3: 0.552 | L3: 0.948 | N3: 0.466 | O3: 0.302 | P3: 0.158
A4: ADX1 | B4: 0.5 | C4: 1 | D4: 6 | E4: 1 | H4: 0.192 | I4: 0.412 | J4: 0.642 | L4: 1.1 | N4: 0.542 | O4: 0.35 | P4: 0.182
A5: ADX1 | B5: 0.5 | C5: 1 | D5: 7 | E5: 1.1 | H5: 0.206 | I5: 0.44 | J5: 0.686 | L5: 1.178 | N5: 0.578 | O5: 0.356 | P5: 0.196
A6: ADX1 | B6: 0.5 | C6: 1 | D6: 8 | E6: 1.3 | H6: 0.22 | I6: 0.468 | J6: 0.732 | L6: 1.254 | N6: 0.618 | O6: 0.398 | P6: 0.208
A7: ADX1 | B7: 0.5 | C7: 1 | D7: 10 | E7: 1.6 | H7: 0.246 | I7: 0.526 | J7: 0.82 | L7: 1.408 | N7: 0.692 | O7: 0.448 | P7: 0.234
A8: ADX1 | B8: 0.5 | C8: 1 | D8: 12 | E8: 2 | H8: 0.274 | I8: 0.584 | J8: 0.91 | L8: 1.56 | N8: 0.768 | O8: 0.496 | P8: 0.26
A9: ADX1 | B9: 0.8 | C9: 1 | D9: 4 | E9: 0.7 | H9: 0.234 | I9: 0.498 | J9: 0.796 | L9: 1.332 | N9: 0.656 | O9: 0.424 | P9: 0.222
A10: ADX1 | B10: 0.8 | C10: 1 | D10: 6 | E10: 1 | H10: 0.26 | I10: 0.556 | J10: 0.866 | L10: 1.486 | N10: 0.73 | O10: 0.472 | P10: 0.248
A11: ADX1 | B11: 0.8 | C11: 1 | D11: 7 | E11: 1.1 | H11: 0.274 | I11: 0.584 | J11: 0.912 | L11: 1.562 | N11: 0.768 | O11: 0.496 | P11: 0.26
A12: ADX1 | B12: 0.8 | C12: 1 | D12: 8 | E12: 1.3 | H12: 0.288 | I12: 0.612 | J12: 0.956 | L12: 1.64 | N12: 0.806 | O12: 0.522 | P12: 0.272
A13: ADX1 | B13: 0.8 | C13: 1 | D13: 10 | E13: 1.6 | H13: 0.314 | I13: 0.67 | J13: 1.046 | L13: 1.79 | N13: 0.882 | O13: 0.57 | P13: 0.296
A14: ADX1 | B14: 0.8 | C14: 1 | D14: 12 | E14: 2 | H14: 0.342 | I14: 0.728 | J14: 1.134 | L14: 1.946 | N14: 0.956 | O14: 0.62 | P14: 0.324
... A297: ALU1 | B297: 4 | C297: 1 | D297: 100 | E297: 16 | H297: 1.694 | I297: 3.602 | J297: 5.62 | L297: 9.632 | N297: 4.474 | O297: 2.782 | P297: 2.006
A298: ALU1 | B298: 4 | C298: 1 | D298: 125 | E298: 20 | H298: 1.908 | I298: 4.056 | J298: 6.328 | L298: 10.844 | N298: 5.036 | O298: 3.314
A299: ALU1 | B299: 5 | C299: 1 | D299: 18 | E299: 3 | I299: z
A300: ALU1 | B300: 5 | C300: 1 | D300: 25 | E300: 4 | H300: 1.264 | I300: 2.688 | J300: 4.196 | L300: 7.19 | N300: 3.34 | O300: 2.078 | P300: 1.774
A301: ALU1 | B301: 5 | C301: 1 | D301: 32 | E301: 5 | H301: 1.324 | I301: 2.816 | J301: 4.196 | L301: 7.53 | N301: 3.498 | O301: 2.288 | P301: 1.892
A302: ALU1 | B302: 5 | C302: 1 | D302: 40 | E302: 6.5 | H302: 1.392 | I302: 2.96 | J302: 4.62 | L302: 7.918 | N302: 3.678 | O302: 2.288 | P302: 1.464
A303: ALU1 | B303: 5 | C303: 1 | D303: 50 | E303: 8 | H303: 1.478 | I303: 3.142 | J303: 4.902 | L303: 8.402 | N303: 3.902 | O303: 2.482 | P303: 1.554
A304: ALU1 | B304: 5 | C304: 1 | D304: 63 | E304: 10 | H304: 1.59 | I304: 3.378 | J304: 5.27 | L304: 9.034 | N304: 4.196 | O304: 2.61 | P304: 1.67
A305: ALU1 | B305: 5 | C305: 1 | D305: 80 | E305: 13 | H305: 0.867 | I305: 3.686 | J305: 5.752 | L305: 9.858 | N305: 4.578 | O305: 2.848 | P305: 1.822
A306: ALU1 | B306: 5 | C306: 1 | D306: 100 | E306: 16 | H306: 1.904 | I306: 4.048 | J306: 6.318 | L306: 10.828 | N306: 5.028 | O306: 3.128 | P306: 2.002
A307: ALU1 | B307: 5 | C307: 1 | D307: 125 | E307: 20 | H307: 2.118 | I307: 4.502 | J307: 7.024 | L307: 12.04 | N307: 5.592 | O307: 3.478 | P307: 2.226
A308: ALU1 | B308: 6 | C308: 1 | D308: 50 | E308: 8 | H308: 1.688 | I308: 3.59 | J308: 5.6 | L308: 9.598 | N308: 4.458 | O308: 2.774 | P308: 1.774
A309: ALU1 | B309: 6 | C309: 1 | D309: 63 | E309: 10 | H309: 1.8 | I309: 3.824 | J309: 5.968 | L309: 10.228 | N309: 4.75 | O309: 2.956 | P309: 1.892
A310: ALU1 | B310: 6 | C310: 1 | D310: 80 | E310: 13 | H310: 1.944 | I310: 4.134 | J310: 6.45 | L310: 11.054 | N310: 5.134 | O310: 3.194 | P310: 2.044
A311: ALU1 | B311: 6 | C311: 1 | D311: 100 | E311: 16 | H311: 2.116 | I311: 4.496 | J311: 7.016 | L311: 12.024 | N311: 5.584 | O311: 3.474 | P311: 2.224
... A407: INOX1 | B407: 4 | C407: 1 | D407: 125 | E407: 20 | H407: 3.3 | I407: 7.012 | J407: 10.942 | L407: 18.752 | N407: 8.166 | O407: 5.832 | P407: 3.506
A408: INOX1 | B408: 5 | C408: 1 | D408: 25 | E408: 4 | H408: 1.536 | J408: 5.094 | L408: 8.732 | N408: 3.802 | O408: 2.716 | P408: 1.632
A409: INOX1 | B409: 5 | C409: 1 | D409: 32 | E409: 5 | H409: 1.674 | I409: 3.558 | J409: 5.552 | L409: 9.516 | N409: 4.144 | O409: 2.958 | P409: 1.778
A410: INOX1 | B410: 5 | C410: 1 | D410: 40 | E410: 6.5 | H410: 1.832 | I410: 3.894 | J410: 6.076 | L410: 10.414 | N410: 4.534 | O410: 3.238 | P410: 1.946
A411: INOX1 | B411: 5 | C411: 1 | D411: 50 | E411: 8 | H411: 2.03 | I411: 4.314 | J411: 6.73 | L411: 11.534 | N411: 5.022 | O411: 3.586 | P411: 2.156
A412: INOX1 | B412: 5 | C412: 1 | D412: 63 | E412: 10 | H412: 2.286 | I412: 4.858 | J412: 7.58 | L412: 12.99 | N412: 5.656 | O412: 4.04 | P412: 2.4028
A413: INOX1 | B413: 5 | C413: 1 | D413: 80 | E413: 13 | H413: 2.62 | I413: 5.57 | J413: 8.692 | L413: 14.896 | N413: 6.486 | O413: 4.672 | P413: 2.784
A414: INOX1 | B414: 5 | C414: 1 | D414: 100 | E414: 16 | H414: 3.016 | I414: 6.408 | J414: 10 | L414: 17.136 | N414: 7.462 | O414: 5.328 | P414: 3.204
A415: INOX1 | B415: 5 | C415: 1 | D415: 125 | E415: 20 | H415: 3.508 | I415: 7.456 | J415: 11.634 | L415: 19.938 | N415: 8.682 | O415: 6.2 | P415: 3.728
A416: INOX1 | B416: 6 | C416: 1 | D416: 50 | E416: 8 | H416: 2.238 | I416: 4.756 | J416: 7.422 | L416: 12.72 | N416: 5.54 | O416: 3.956 | P416: 2.378
A417: INOX1 | B417: 6 | C417: 1 | D417: 63 | E417: 10 | H417: 2.494 | I417: 5.302 | J417: 4.272 | L417: 14.176 | N417: 6.174 | O417: 4.408 | P417: 2.65
...

Sheet BENDATA_xml
A1: MaterialNumber | B1: Thickness | C1: PunchRadius | D1: BendRadius | E1: Vopening | F1: SpringBack | G1: 0 | H1: 30 | I1: 45 | J1: 60 | K1: 90 | L1: 120 | M1: 135 | N1: 150 | O1: 180
A2: 0 | B2: 0.5 | C2: 1 | D2: 0.7 | E2: 4 | F2: 0 | G2: 0 | H2: {=_xlfn.LET(_xlpm.m,$A2,_xlpm.ang,VALUE(H$1),_xlpm.th,$B2,_xlpm.v,$E2,_xlpm.r,_xlfn.XMATCH(1,(Tableau37[MaterialNumber2]=_xlpm.m)*(Tableau37[Angle]=_xlpm.ang)*(Tableau37[Thickness]=_xlpm.th),0),_xlpm.c,_xlfn.XMATCH(TEXT(_xlpm.v,"0"),Tableau37[#Headers],0),IFERROR(INDEX(Tableau37[],_xlpm.r,_xlpm.c),""))} -> 0.166 | I2: {=_xlfn.LET(_xlpm.m,$A2,_xlpm.ang,VALUE(I$1),_xlpm.th,$B2,_xlpm.v,$E2,_xlpm.r,_xlfn.XMATCH(1,(Tableau37[MaterialNumber2]=_xlpm.m)*(Tableau37[Angle]=_xlpm.ang)*(Tableau37[Thickness]=_xlpm.th),0),_xlpm.c,_xlfn.XMATCH(TEXT(_xlpm.v,"0"),Tableau37[#Headers],0),IFERROR(INDEX(Tableau37[],_xlpm.r,_xlpm.c),""))} -> 0.254 | J2: {=_xlfn.LET(_xlpm.m,$A2,_xlpm.ang,VALUE(J$1),_xlpm.th,$B2,_xlpm.v,$E2,_xlpm.r,_xlfn.XMATCH(1,(Tableau37[MaterialNumber2]=_xlpm.m)*(Tableau37[Angle]=_xlpm.ang)*(Tableau37[Thickness]=_xlpm.th),0),_xlpm.c,_xlfn.XMATCH(TEXT(_xlpm.v,"0"),Tableau37[#Headers],0),IFERROR(INDEX(Tableau37[],_xlpm.r,_xlpm.c),""))} -> 0.552 | K2: {=_xlfn.LET(_xlpm.m,$A2,_xlpm.ang,VALUE(K$1),_xlpm.th,$B2,_xlpm.v,$E2,_xlpm.r,_xlfn.XMATCH(1,(Tableau37[MaterialNumber2]=_xlpm.m)*(Tableau37[Angle]=_xlpm.ang)*(Tableau37[Thickness]=_xlpm.th),0),_xlpm.c,_xlfn.XMATCH(TEXT(_xlpm.v,"0"),Tableau37[#Headers],0),IFERROR(INDEX(Tableau37[],_xlpm.r,_xlpm.c),""))} -> 0.948 | L2: {=_xlfn.LET(_xlpm.m,$A2,_xlpm.ang,VALUE(L$1),_xlpm.th,$B2,_xlpm.v,$E2,_xlpm.r,_xlfn.XMATCH(1,(Tableau37[MaterialNumber2]=_xlpm.m)*(Tableau37[Angle]=_xlpm.ang)*(Tableau37[Thickness]=_xlpm.th),0),_xlpm.c,_xlfn.XMATCH(TEXT(_xlpm.v,"0"),Tableau37[#Headers],0),IFERROR(INDEX(Tableau37[],_xlpm.r,_xlpm.c),""))} -> 0.466 | M2: {=_xlfn.LET(_xlpm.m,$A2,_xlpm.ang,VALUE(M$1),_xlpm.th,$B2,_xlpm.v,$E2,_xlpm.r,_xlfn.XMATCH(1,(Tableau37[MaterialNumber2]=_xlpm.m)*(Tableau37[Angle]=_xlpm.ang)*(Tableau37[Thickness]=_xlpm.th),0),_xlpm.c,_xlfn.XMATCH(TEXT(_xlpm.v,"0"),Tableau37[#Headers],0),IFERROR(INDEX(Tableau37[],_xlpm.r,_xlpm.c),""))} -> 0.302 | N2: {=_xlfn.LET(_xlpm.m,$A2,_xlpm.ang,VALUE(N$1),_xlpm.th,$B2,_xlpm.v,$E2,_xlpm.r,_xlfn.XMATCH(1,(Tableau37[MaterialNumber2]=_xlpm.m)*(Tableau37[Angle]=_xlpm.ang)*(Tableau37[Thickness]=_xlpm.th),0),_xlpm.c,_xlfn.XMATCH(TEXT(_xlpm.v,"0"),Tableau37[#Headers],0),IFERROR(INDEX(Tableau37[],_xlpm.r,_xlpm.c),""))} -> 0.158 | O2: 0
A3: 0 | B3: 0.5 | C3: 1 | D3: 1 | E3: 6 | F3: 0 | G3: 0 | H3: {=_xlfn.LET(_xlpm.m,$A3,_xlpm.ang,VALUE(H$1),_xlpm.th,$B3,_xlpm.v,$E3,_xlpm.r,_xlfn.XMATCH(1,(Tableau37[MaterialNumber2]=_xlpm.m)*(Tableau37[Angle]=_xlpm.ang)*(Tableau37[Thickness]=_xlpm.th),0),_xlpm.c,_xlfn.XMATCH(TEXT(_xlpm.v,"0"),Tableau37[#Headers],0),IFERROR(INDEX(Tableau37[],_xlpm.r,_xlpm.c),""))} -> 0.192 | I3: {=_xlfn.LET(_xlpm.m,$A3,_xlpm.ang,VALUE(I$1),_xlpm.th,$B3,_xlpm.v,$E3,_xlpm.r,_xlfn.XMATCH(1,(Tableau37[MaterialNumber2]=_xlpm.m)*(Tableau37[Angle]=_xlpm.ang)*(Tableau37[Thickness]=_xlpm.th),0),_xlpm.c,_xlfn.XMATCH(TEXT(_xlpm.v,"0"),Tableau37[#Headers],0),IFERROR(INDEX(Tableau37[],_xlpm.r,_xlpm.c),""))} -> 0.412 | J3: {=_xlfn.LET(_xlpm.m,$A3,_xlpm.ang,VALUE(J$1),_xlpm.th,$B3,_xlpm.v,$E3,_xlpm.r,_xlfn.XMATCH(1,(Tableau37[MaterialNumber2]=_xlpm.m)*(Tableau37[Angle]=_xlpm.ang)*(Tableau37[Thickness]=_xlpm.th),0),_xlpm.c,_xlfn.XMATCH(TEXT(_xlpm.v,"0"),Tableau37[#Headers],0),IFERROR(INDEX(Tableau37[],_xlpm.r,_xlpm.c),""))} -> 0.642 | K3: {=_xlfn.LET(_xlpm.m,$A3,_xlpm.ang,VALUE(K$1),_xlpm.th,$B3,_xlpm.v,$E3,_xlpm.r,_xlfn.XMATCH(1,(Tableau37[MaterialNumber2]=_xlpm.m)*(Tableau37[Angle]=_xlpm.ang)*(Tableau37[Thickness]=_xlpm.th),0),_xlpm.c,_xlfn.XMATCH(TEXT(_xlpm.v,"0"),Tableau37[#Headers],0),IFERROR(INDEX(Tableau37[],_xlpm.r,_xlpm.c),""))} -> 1.1 | L3: {=_xlfn.LET(_xlpm.m,$A3,_xlpm.ang,VALUE(L$1),_xlpm.th,$B3,_xlpm.v,$E3,_xlpm.r,_xlfn.XMATCH(1,(Tableau37[MaterialNumber2]=_xlpm.m)*(Tableau37[Angle]=_xlpm.ang)*(Tableau37[Thickness]=_xlpm.th),0),_xlpm.c,_xlfn.XMATCH(TEXT(_xlpm.v,"0"),Tableau37[#Headers],0),IFERROR(INDEX(Tableau37[],_xlpm.r,_xlpm.c),""))} -> 0.542 | M3: {=_xlfn.LET(_xlpm.m,$A3,_xlpm.ang,VALUE(M$1),_xlpm.th,$B3,_xlpm.v,$E3,_xlpm.r,_xlfn.XMATCH(1,(Tableau37[MaterialNumber2]=_xlpm.m)*(Tableau37[Angle]=_xlpm.ang)*(Tableau37[Thickness]=_xlpm.th),0),_xlpm.c,_xlfn.XMATCH(TEXT(_xlpm.v,"0"),Tableau37[#Headers],0),IFERROR(INDEX(Tableau37[],_xlpm.r,_xlpm.c),""))} -> 0.35 | N3: {=_xlfn.LET(_xlpm.m,$A3,_xlpm.ang,VALUE(N$1),_xlpm.th,$B3,_xlpm.v,$E3,_xlpm.r,_xlfn.XMATCH(1,(Tableau37[MaterialNumber2]=_xlpm.m)*(Tableau37[Angle]=_xlpm.ang)*(Tableau37[Thickness]=_xlpm.th),0),_xlpm.c,_xlfn.XMATCH(TEXT(_xlpm.v,"0"),Tableau37[#Headers],0),IFERROR(INDEX(Tableau37[],_xlpm.r,_xlpm.c),""))} -> 0.182 | O3: 0
A4: 0 | B4: 0.5 | C4: 1 | D4: 1.1 | E4: 7 | F4: 0 | G4: 0 | H4: {=_xlfn.LET(_xlpm.m,$A4,_xlpm.ang,VALUE(H$1),_xlpm.th,$B4,_xlpm.v,$E4,_xlpm.r,_xlfn.XMATCH(1,(Tableau37[MaterialNumber2]=_xlpm.m)*(Tableau37[Angle]=_xlpm.ang)*(Tableau37[Thickness]=_xlpm.th),0),_xlpm.c,_xlfn.XMATCH(TEXT(_xlpm.v,"0"),Tableau37[#Headers],0),IFERROR(INDEX(Tableau37[],_xlpm.r,_xlpm.c),""))} -> 0.206 | I4: {=_xlfn.LET(_xlpm.m,$A4,_xlpm.ang,VALUE(I$1),_xlpm.th,$B4,_xlpm.v,$E4,_xlpm.r,_xlfn.XMATCH(1,(Tableau37[MaterialNumber2]=_xlpm.m)*(Tableau37[Angle]=_xlpm.ang)*(Tableau37[Thickness]=_xlpm.th),0),_xlpm.c,_xlfn.XMATCH(TEXT(_xlpm.v,"0"),Tableau37[#Headers],0),IFERROR(INDEX(Tableau37[],_xlpm.r,_xlpm.c),""))} -> 0.44 | J4: {=_xlfn.LET(_xlpm.m,$A4,_xlpm.ang,VALUE(J$1),_xlpm.th,$B4,_xlpm.v,$E4,_xlpm.r,_xlfn.XMATCH(1,(Tableau37[MaterialNumber2]=_xlpm.m)*(Tableau37[Angle]=_xlpm.ang)*(Tableau37[Thickness]=_xlpm.th),0),_xlpm.c,_xlfn.XMATCH(TEXT(_xlpm.v,"0"),Tableau37[#Headers],0),IFERROR(INDEX(Tableau37[],_xlpm.r,_xlpm.c),""))} -> 0.686 | K4: {=_xlfn.LET(_xlpm.m,$A4,_xlpm.ang,VALUE(K$1),_xlpm.th,$B4,_xlpm.v,$E4,_xlpm.r,_xlfn.XMATCH(1,(Tableau37[MaterialNumber2]=_xlpm.m)*(Tableau37[Angle]=_xlpm.ang)*(Tableau37[Thickness]=_xlpm.th),0),_xlpm.c,_xlfn.XMATCH(TEXT(_xlpm.v,"0"),Tableau37[#Headers],0),IFERROR(INDEX(Tableau37[],_xlpm.r,_xlpm.c),""))} -> 1.178 | L4: {=_xlfn.LET(_xlpm.m,$A4,_xlpm.ang,VALUE(L$1),_xlpm.th,$B4,_xlpm.v,$E4,_xlpm.r,_xlfn.XMATCH(1,(Tableau37[MaterialNumber2]=_xlpm.m)*(Tableau37[Angle]=_xlpm.ang)*(Tableau37[Thickness]=_xlpm.th),0),_xlpm.c,_xlfn.XMATCH(TEXT(_xlpm.v,"0"),Tableau37[#Headers],0),IFERROR(INDEX(Tableau37[],_xlpm.r,_xlpm.c),""))} -> 0.578 | M4: {=_xlfn.LET(_xlpm.m,$A4,_xlpm.ang,VALUE(M$1),_xlpm.th,$B4,_xlpm.v,$E4,_xlpm.r,_xlfn.XMATCH(1,(Tableau37[MaterialNumber2]=_xlpm.m)*(Tableau37[Angle]=_xlpm.ang)*(Tableau37[Thickness]=_xlpm.th),0),_xlpm.c,_xlfn.XMATCH(TEXT(_xlpm.v,"0"),Tableau37[#Headers],0),IFERROR(INDEX(Tableau37[],_xlpm.r,_xlpm.c),""))} -> 0.356 | N4: {=_xlfn.LET(_xlpm.m,$A4,_xlpm.ang,VALUE(N$1),_xlpm.th,$B4,_xlpm.v,$E4,_xlpm.r,_xlfn.XMATCH(1,(Tableau37[MaterialNumber2]=_xlpm.m)*(Tableau37[Angle]=_xlpm.ang)*(Tableau37[Thickness]=_xlpm.th),0),_xlpm.c,_xlfn.XMATCH(TEXT(_xlpm.v,"0"),Tableau37[#Headers],0),IFERROR(INDEX(Tableau37[],_xlpm.r,_xlpm.c),""))} -> 0.196 | O4: 0
A5: 0 | B5: 0.5 | C5: 1 | D5: 1.3 | E5: 8 | F5: 0 | G5: 0 | H5: {=_xlfn.LET(_xlpm.m,$A5,_xlpm.ang,VALUE(H$1),_xlpm.th,$B5,_xlpm.v,$E5,_xlpm.r,_xlfn.XMATCH(1,(Tableau37[MaterialNumber2]=_xlpm.m)*(Tableau37[Angle]=_xlpm.ang)*(Tableau37[Thickness]=_xlpm.th),0),_xlpm.c,_xlfn.XMATCH(TEXT(_xlpm.v,"0"),Tableau37[#Headers],0),IFERROR(INDEX(Tableau37[],_xlpm.r,_xlpm.c),""))} -> 0.22 | I5: {=_xlfn.LET(_xlpm.m,$A5,_xlpm.ang,VALUE(I$1),_xlpm.th,$B5,_xlpm.v,$E5,_xlpm.r,_xlfn.XMATCH(1,(Tableau37[MaterialNumber2]=_xlpm.m)*(Tableau37[Angle]=_xlpm.ang)*(Tableau37[Thickness]=_xlpm.th),0),_xlpm.c,_xlfn.XMATCH(TEXT(_xlpm.v,"0"),Tableau37[#Headers],0),IFERROR(INDEX(Tableau37[],_xlpm.r,_xlpm.c),""))} -> 0.468 | J5: {=_xlfn.LET(_xlpm.m,$A5,_xlpm.ang,VALUE(J$1),_xlpm.th,$B5,_xlpm.v,$E5,_xlpm.r,_xlfn.XMATCH(1,(Tableau37[MaterialNumber2]=_xlpm.m)*(Tableau37[Angle]=_xlpm.ang)*(Tableau37[Thickness]=_xlpm.th),0),_xlpm.c,_xlfn.XMATCH(TEXT(_xlpm.v,"0"),Tableau37[#Headers],0),IFERROR(INDEX(Tableau37[],_xlpm.r,_xlpm.c),""))} -> 0.732 | K5: {=_xlfn.LET(_xlpm.m,$A5,_xlpm.ang,VALUE(K$1),_xlpm.th,$B5,_xlpm.v,$E5,_xlpm.r,_xlfn.XMATCH(1,(Tableau37[MaterialNumber2]=_xlpm.m)*(Tableau37[Angle]=_xlpm.ang)*(Tableau37[Thickness]=_xlpm.th),0),_xlpm.c,_xlfn.XMATCH(TEXT(_xlpm.v,"0"),Tableau37[#Headers],0),IFERROR(INDEX(Tableau37[],_xlpm.r,_xlpm.c),""))} -> 1.254 | L5: {=_xlfn.LET(_xlpm.m,$A5,_xlpm.ang,VALUE(L$1),_xlpm.th,$B5,_xlpm.v,$E5,_xlpm.r,_xlfn.XMATCH(1,(Tableau37[MaterialNumber2]=_xlpm.m)*(Tableau37[Angle]=_xlpm.ang)*(Tableau37[Thickness]=_xlpm.th),0),_xlpm.c,_xlfn.XMATCH(TEXT(_xlpm.v,"0"),Tableau37[#Headers],0),IFERROR(INDEX(Tableau37[],_xlpm.r,_xlpm.c),""))} -> 0.618 | M5: {=_xlfn.LET(_xlpm.m,$A5,_xlpm.ang,VALUE(M$1),_xlpm.th,$B5,_xlpm.v,$E5,_xlpm.r,_xlfn.XMATCH(1,(Tableau37[MaterialNumber2]=_xlpm.m)*(Tableau37[Angle]=_xlpm.ang)*(Tableau37[Thickness]=_xlpm.th),0),_xlpm.c,_xlfn.XMATCH(TEXT(_xlpm.v,"0"),Tableau37[#Headers],0),IFERROR(INDEX(Tableau37[],_xlpm.r,_xlpm.c),""))} -> 0.398 | N5: {=_xlfn.LET(_xlpm.m,$A5,_xlpm.ang,VALUE(N$1),_xlpm.th,$B5,_xlpm.v,$E5,_xlpm.r,_xlfn.XMATCH(1,(Tableau37[MaterialNumber2]=_xlpm.m)*(Tableau37[Angle]=_xlpm.ang)*(Tableau37[Thickness]=_xlpm.th),0),_xlpm.c,_xlfn.XMATCH(TEXT(_xlpm.v,"0"),Tableau37[#Headers],0),IFERROR(INDEX(Tableau37[],_xlpm.r,_xlpm.c),""))} -> 0.208 | O5: 0
A6: 0 | B6: 0.5 | C6: 1 | D6: 1.6 | E6: 10 | F6: 0 | G6: 0 | H6: {=_xlfn.LET(_xlpm.m,$A6,_xlpm.ang,VALUE(H$1),_xlpm.th,$B6,_xlpm.v,$E6,_xlpm.r,_xlfn.XMATCH(1,(Tableau37[MaterialNumber2]=_xlpm.m)*(Tableau37[Angle]=_xlpm.ang)*(Tableau37[Thickness]=_xlpm.th),0),_xlpm.c,_xlfn.XMATCH(TEXT(_xlpm.v,"0"),Tableau37[#Headers],0),IFERROR(INDEX(Tableau37[],_xlpm.r,_xlpm.c),""))} -> 0.246 | I6: {=_xlfn.LET(_xlpm.m,$A6,_xlpm.ang,VALUE(I$1),_xlpm.th,$B6,_xlpm.v,$E6,_xlpm.r,_xlfn.XMATCH(1,(Tableau37[MaterialNumber2]=_xlpm.m)*(Tableau37[Angle]=_xlpm.ang)*(Tableau37[Thickness]=_xlpm.th),0),_xlpm.c,_xlfn.XMATCH(TEXT(_xlpm.v,"0"),Tableau37[#Headers],0),IFERROR(INDEX(Tableau37[],_xlpm.r,_xlpm.c),""))} -> 0.526 | J6: {=_xlfn.LET(_xlpm.m,$A6,_xlpm.ang,VALUE(J$1),_xlpm.th,$B6,_xlpm.v,$E6,_xlpm.r,_xlfn.XMATCH(1,(Tableau37[MaterialNumber2]=_xlpm.m)*(Tableau37[Angle]=_xlpm.ang)*(Tableau37[Thickness]=_xlpm.th),0),_xlpm.c,_xlfn.XMATCH(TEXT(_xlpm.v,"0"),Tableau37[#Headers],0),IFERROR(INDEX(Tableau37[],_xlpm.r,_xlpm.c),""))} -> 0.82 | K6: {=_xlfn.LET(_xlpm.m,$A6,_xlpm.ang,VALUE(K$1),_xlpm.th,$B6,_xlpm.v,$E6,_xlpm.r,_xlfn.XMATCH(1,(Tableau37[MaterialNumber2]=_xlpm.m)*(Tableau37[Angle]=_xlpm.ang)*(Tableau37[Thickness]=_xlpm.th),0),_xlpm.c,_xlfn.XMATCH(TEXT(_xlpm.v,"0"),Tableau37[#Headers],0),IFERROR(INDEX(Tableau37[],_xlpm.r,_xlpm.c),""))} -> 1.408 | L6: {=_xlfn.LET(_xlpm.m,$A6,_xlpm.ang,VALUE(L$1),_xlpm.th,$B6,_xlpm.v,$E6,_xlpm.r,_xlfn.XMATCH(1,(Tableau37[MaterialNumber2]=_xlpm.m)*(Tableau37[Angle]=_xlpm.ang)*(Tableau37[Thickness]=_xlpm.th),0),_xlpm.c,_xlfn.XMATCH(TEXT(_xlpm.v,"0"),Tableau37[#Headers],0),IFERROR(INDEX(Tableau37[],_xlpm.r,_xlpm.c),""))} -> 0.692 | M6: {=_xlfn.LET(_xlpm.m,$A6,_xlpm.ang,VALUE(M$1),_xlpm.th,$B6,_xlpm.v,$E6,_xlpm.r,_xlfn.XMATCH(1,(Tableau37[MaterialNumber2]=_xlpm.m)*(Tableau37[Angle]=_xlpm.ang)*(Tableau37[Thickness]=_xlpm.th),0),_xlpm.c,_xlfn.XMATCH(TEXT(_xlpm.v,"0"),Tableau37[#Headers],0),IFERROR(INDEX(Tableau37[],_xlpm.r,_xlpm.c),""))} -> 0.448 | N6: {=_xlfn.LET(_xlpm.m,$A6,_xlpm.ang,VALUE(N$1),_xlpm.th,$B6,_xlpm.v,$E6,_xlpm.r,_xlfn.XMATCH(1,(Tableau37[MaterialNumber2]=_xlpm.m)*(Tableau37[Angle]=_xlpm.ang)*(Tableau37[Thickness]=_xlpm.th),0),_xlpm.c,_xlfn.XMATCH(TEXT(_xlpm.v,"0"),Tableau37[#Headers],0),IFERROR(INDEX(Tableau37[],_xlpm.r,_xlpm.c),""))} -> 0.234 | O6: 0
A7: 0 | B7: 0.5 | C7: 1 | D7: 2 | E7: 12 | F7: 0 | G7: 0 | H7: {=_xlfn.LET(_xlpm.m,$A7,_xlpm.ang,VALUE(H$1),_xlpm.th,$B7,_xlpm.v,$E7,_xlpm.r,_xlfn.XMATCH(1,(Tableau37[MaterialNumber2]=_xlpm.m)*(Tableau37[Angle]=_xlpm.ang)*(Tableau37[Thickness]=_xlpm.th),0),_xlpm.c,_xlfn.XMATCH(TEXT(_xlpm.v,"0"),Tableau37[#Headers],0),IFERROR(INDEX(Tableau37[],_xlpm.r,_xlpm.c),""))} -> 0.274 | I7: {=_xlfn.LET(_xlpm.m,$A7,_xlpm.ang,VALUE(I$1),_xlpm.th,$B7,_xlpm.v,$E7,_xlpm.r,_xlfn.XMATCH(1,(Tableau37[MaterialNumber2]=_xlpm.m)*(Tableau37[Angle]=_xlpm.ang)*(Tableau37[Thickness]=_xlpm.th),0),_xlpm.c,_xlfn.XMATCH(TEXT(_xlpm.v,"0"),Tableau37[#Headers],0),IFERROR(INDEX(Tableau37[],_xlpm.r,_xlpm.c),""))} -> 0.584 | J7: {=_xlfn.LET(_xlpm.m,$A7,_xlpm.ang,VALUE(J$1),_xlpm.th,$B7,_xlpm.v,$E7,_xlpm.r,_xlfn.XMATCH(1,(Tableau37[MaterialNumber2]=_xlpm.m)*(Tableau37[Angle]=_xlpm.ang)*(Tableau37[Thickness]=_xlpm.th),0),_xlpm.c,_xlfn.XMATCH(TEXT(_xlpm.v,"0"),Tableau37[#Headers],0),IFERROR(INDEX(Tableau37[],_xlpm.r,_xlpm.c),""))} -> 0.91 | K7: {=_xlfn.LET(_xlpm.m,$A7,_xlpm.ang,VALUE(K$1),_xlpm.th,$B7,_xlpm.v,$E7,_xlpm.r,_xlfn.XMATCH(1,(Tableau37[MaterialNumber2]=_xlpm.m)*(Tableau37[Angle]=_xlpm.ang)*(Tableau37[Thickness]=_xlpm.th),0),_xlpm.c,_xlfn.XMATCH(TEXT(_xlpm.v,"0"),Tableau37[#Headers],0),IFERROR(INDEX(Tableau37[],_xlpm.r,_xlpm.c),""))} -> 1.56 | L7: {=_xlfn.LET(_xlpm.m,$A7,_xlpm.ang,VALUE(L$1),_xlpm.th,$B7,_xlpm.v,$E7,_xlpm.r,_xlfn.XMATCH(1,(Tableau37[MaterialNumber2]=_xlpm.m)*(Tableau37[Angle]=_xlpm.ang)*(Tableau37[Thickness]=_xlpm.th),0),_xlpm.c,_xlfn.XMATCH(TEXT(_xlpm.v,"0"),Tableau37[#Headers],0),IFERROR(INDEX(Tableau37[],_xlpm.r,_xlpm.c),""))} -> 0.768 | M7: {=_xlfn.LET(_xlpm.m,$A7,_xlpm.ang,VALUE(M$1),_xlpm.th,$B7,_xlpm.v,$E7,_xlpm.r,_xlfn.XMATCH(1,(Tableau37[MaterialNumber2]=_xlpm.m)*(Tableau37[Angle]=_xlpm.ang)*(Tableau37[Thickness]=_xlpm.th),0),_xlpm.c,_xlfn.XMATCH(TEXT(_xlpm.v,"0"),Tableau37[#Headers],0),IFERROR(INDEX(Tableau37[],_xlpm.r,_xlpm.c),""))} -> 0.496 | N7: {=_xlfn.LET(_xlpm.m,$A7,_xlpm.ang,VALUE(N$1),_xlpm.th,$B7,_xlpm.v,$E7,_xlpm.r,_xlfn.XMATCH(1,(Tableau37[MaterialNumber2]=_xlpm.m)*(Tableau37[Angle]=_xlpm.ang)*(Tableau37[Thickness]=_xlpm.th),0),_xlpm.c,_xlfn.XMATCH(TEXT(_xlpm.v,"0"),Tableau37[#Headers],0),IFERROR(INDEX(Tableau37[],_xlpm.r,_xlpm.c),""))} -> 0.26 | O7: 0
A8: 0 | B8: 0.5 | C8: 1 | D8: 2.3 | E8: 14 | F8: 0 | G8: 0 | H8: {=_xlfn.LET(_xlpm.m,$A8,_xlpm.ang,VALUE(H$1),_xlpm.th,$B8,_xlpm.v,$E8,_xlpm.r,_xlfn.XMATCH(1,(Tableau37[MaterialNumber2]=_xlpm.m)*(Tableau37[Angle]=_xlpm.ang)*(Tableau37[Thickness]=_xlpm.th),0),_xlpm.c,_xlfn.XMATCH(TEXT(_xlpm.v,"0"),Tableau37[#Headers],0),IFERROR(INDEX(Tableau37[],_xlpm.r,_xlpm.c),""))} -> 0 | I8: {=_xlfn.LET(_xlpm.m,$A8,_xlpm.ang,VALUE(I$1),_xlpm.th,$B8,_xlpm.v,$E8,_xlpm.r,_xlfn.XMATCH(1,(Tableau37[MaterialNumber2]=_xlpm.m)*(Tableau37[Angle]=_xlpm.ang)*(Tableau37[Thickness]=_xlpm.th),0),_xlpm.c,_xlfn.XMATCH(TEXT(_xlpm.v,"0"),Tableau37[#Headers],0),IFERROR(INDEX(Tableau37[],_xlpm.r,_xlpm.c),""))} -> 0 | J8: {=_xlfn.LET(_xlpm.m,$A8,_xlpm.ang,VALUE(J$1),_xlpm.th,$B8,_xlpm.v,$E8,_xlpm.r,_xlfn.XMATCH(1,(Tableau37[MaterialNumber2]=_xlpm.m)*(Tableau37[Angle]=_xlpm.ang)*(Tableau37[Thickness]=_xlpm.th),0),_xlpm.c,_xlfn.XMATCH(TEXT(_xlpm.v,"0"),Tableau37[#Headers],0),IFERROR(INDEX(Tableau37[],_xlpm.r,_xlpm.c),""))} -> 0 | K8: {=_xlfn.LET(_xlpm.m,$A8,_xlpm.ang,VALUE(K$1),_xlpm.th,$B8,_xlpm.v,$E8,_xlpm.r,_xlfn.XMATCH(1,(Tableau37[MaterialNumber2]=_xlpm.m)*(Tableau37[Angle]=_xlpm.ang)*(Tableau37[Thickness]=_xlpm.th),0),_xlpm.c,_xlfn.XMATCH(TEXT(_xlpm.v,"0"),Tableau37[#Headers],0),IFERROR(INDEX(Tableau37[],_xlpm.r,_xlpm.c),""))} -> 0 | L8: {=_xlfn.LET(_xlpm.m,$A8,_xlpm.ang,VALUE(L$1),_xlpm.th,$B8,_xlpm.v,$E8,_xlpm.r,_xlfn.XMATCH(1,(Tableau37[MaterialNumber2]=_xlpm.m)*(Tableau37[Angle]=_xlpm.ang)*(Tableau37[Thickness]=_xlpm.th),0),_xlpm.c,_xlfn.XMATCH(TEXT(_xlpm.v,"0"),Tableau37[#Headers],0),IFERROR(INDEX(Tableau37[],_xlpm.r,_xlpm.c),""))} -> 0 | M8: {=_xlfn.LET(_xlpm.m,$A8,_xlpm.ang,VALUE(M$1),_xlpm.th,$B8,_xlpm.v,$E8,_xlpm.r,_xlfn.XMATCH(1,(Tableau37[MaterialNumber2]=_xlpm.m)*(Tableau37[Angle]=_xlpm.ang)*(Tableau37[Thickness]=_xlpm.th),0),_xlpm.c,_xlfn.XMATCH(TEXT(_xlpm.v,"0"),Tableau37[#Headers],0),IFERROR(INDEX(Tableau37[],_xlpm.r,_xlpm.c),""))} -> 0 | N8: {=_xlfn.LET(_xlpm.m,$A8,_xlpm.ang,VALUE(N$1),_xlpm.th,$B8,_xlpm.v,$E8,_xlpm.r,_xlfn.XMATCH(1,(Tableau37[MaterialNumber2]=_xlpm.m)*(Tableau37[Angle]=_xlpm.ang)*(Tableau37[Thickness]=_xlpm.th),0),_xlpm.c,_xlfn.XMATCH(TEXT(_xlpm.v,"0"),Tableau37[#Headers],0),IFERROR(INDEX(Tableau37[],_xlpm.r,_xlpm.c),""))} -> 0 | O8: 0
A9: 0 | B9: 0.5 | C9: 1 | E9: 15 | F9: 0 | G9: 0 | H9: {=_xlfn.LET(_xlpm.m,$A9,_xlpm.ang,VALUE(H$1),_xlpm.th,$B9,_xlpm.v,$E9,_xlpm.r,_xlfn.XMATCH(1,(Tableau37[MaterialNumber2]=_xlpm.m)*(Tableau37[Angle]=_xlpm.ang)*(Tableau37[Thickness]=_xlpm.th),0),_xlpm.c,_xlfn.XMATCH(TEXT(_xlpm.v,"0"),Tableau37[#Headers],0),IFERROR(INDEX(Tableau37[],_xlpm.r,_xlpm.c),""))} | I9: {=_xlfn.LET(_xlpm.m,$A9,_xlpm.ang,VALUE(I$1),_xlpm.th,$B9,_xlpm.v,$E9,_xlpm.r,_xlfn.XMATCH(1,(Tableau37[MaterialNumber2]=_xlpm.m)*(Tableau37[Angle]=_xlpm.ang)*(Tableau37[Thickness]=_xlpm.th),0),_xlpm.c,_xlfn.XMATCH(TEXT(_xlpm.v,"0"),Tableau37[#Headers],0),IFERROR(INDEX(Tableau37[],_xlpm.r,_xlpm.c),""))} | J9: {=_xlfn.LET(_xlpm.m,$A9,_xlpm.ang,VALUE(J$1),_xlpm.th,$B9,_xlpm.v,$E9,_xlpm.r,_xlfn.XMATCH(1,(Tableau37[MaterialNumber2]=_xlpm.m)*(Tableau37[Angle]=_xlpm.ang)*(Tableau37[Thickness]=_xlpm.th),0),_xlpm.c,_xlfn.XMATCH(TEXT(_xlpm.v,"0"),Tableau37[#Headers],0),IFERROR(INDEX(Tableau37[],_xlpm.r,_xlpm.c),""))} | K9: {=_xlfn.LET(_xlpm.m,$A9,_xlpm.ang,VALUE(K$1),_xlpm.th,$B9,_xlpm.v,$E9,_xlpm.r,_xlfn.XMATCH(1,(Tableau37[MaterialNumber2]=_xlpm.m)*(Tableau37[Angle]=_xlpm.ang)*(Tableau37[Thickness]=_xlpm.th),0),_xlpm.c,_xlfn.XMATCH(TEXT(_xlpm.v,"0"),Tableau37[#Headers],0),IFERROR(INDEX(Tableau37[],_xlpm.r,_xlpm.c),""))} | L9: {=_xlfn.LET(_xlpm.m,$A9,_xlpm.ang,VALUE(L$1),_xlpm.th,$B9,_xlpm.v,$E9,_xlpm.r,_xlfn.XMATCH(1,(Tableau37[MaterialNumber2]=_xlpm.m)*(Tableau37[Angle]=_xlpm.ang)*(Tableau37[Thickness]=_xlpm.th),0),_xlpm.c,_xlfn.XMATCH(TEXT(_xlpm.v,"0"),Tableau37[#Headers],0),IFERROR(INDEX(Tableau37[],_xlpm.r,_xlpm.c),""))} | M9: {=_xlfn.LET(_xlpm.m,$A9,_xlpm.ang,VALUE(M$1),_xlpm.th,$B9,_xlpm.v,$E9,_xlpm.r,_xlfn.XMATCH(1,(Tableau37[MaterialNumber2]=_xlpm.m)*(Tableau37[Angle]=_xlpm.ang)*(Tableau37[Thickness]=_xlpm.th),0),_xlpm.c,_xlfn.XMATCH(TEXT(_xlpm.v,"0"),Tableau37[#Headers],0),IFERROR(INDEX(Tableau37[],_xlpm.r,_xlpm.c),""))} | N9: {=_xlfn.LET(_xlpm.m,$A9,_xlpm.ang,VALUE(N$1),_xlpm.th,$B9,_xlpm.v,$E9,_xlpm.r,_xlfn.XMATCH(1,(Tableau37[MaterialNumber2]=_xlpm.m)*(Tableau37[Angle]=_xlpm.ang)*(Tableau37[Thickness]=_xlpm.th),0),_xlpm.c,_xlfn.XMATCH(TEXT(_xlpm.v,"0"),Tableau37[#Headers],0),IFERROR(INDEX(Tableau37[],_xlpm.r,_xlpm.c),""))} | O9: 0
A10: 0 | B10: 0.5 | C10: 1 | D10: 2.6 | E10: 16 | F10: 0 | G10: 0 | H10: {=_xlfn.LET(_xlpm.m,$A10,_xlpm.ang,VALUE(H$1),_xlpm.th,$B10,_xlpm.v,$E10,_xlpm.r,_xlfn.XMATCH(1,(Tableau37[MaterialNumber2]=_xlpm.m)*(Tableau37[Angle]=_xlpm.ang)*(Tableau37[Thickness]=_xlpm.th),0),_xlpm.c,_xlfn.XMATCH(TEXT(_xlpm.v,"0"),Tableau37[#Headers],0),IFERROR(INDEX(Tableau37[],_xlpm.r,_xlpm.c),""))} -> 0 | I10: {=_xlfn.LET(_xlpm.m,$A10,_xlpm.ang,VALUE(I$1),_xlpm.th,$B10,_xlpm.v,$E10,_xlpm.r,_xlfn.XMATCH(1,(Tableau37[MaterialNumber2]=_xlpm.m)*(Tableau37[Angle]=_xlpm.ang)*(Tableau37[Thickness]=_xlpm.th),0),_xlpm.c,_xlfn.XMATCH(TEXT(_xlpm.v,"0"),Tableau37[#Headers],0),IFERROR(INDEX(Tableau37[],_xlpm.r,_xlpm.c),""))} -> 0 | J10: {=_xlfn.LET(_xlpm.m,$A10,_xlpm.ang,VALUE(J$1),_xlpm.th,$B10,_xlpm.v,$E10,_xlpm.r,_xlfn.XMATCH(1,(Tableau37[MaterialNumber2]=_xlpm.m)*(Tableau37[Angle]=_xlpm.ang)*(Tableau37[Thickness]=_xlpm.th),0),_xlpm.c,_xlfn.XMATCH(TEXT(_xlpm.v,"0"),Tableau37[#Headers],0),IFERROR(INDEX(Tableau37[],_xlpm.r,_xlpm.c),""))} -> 0 | K10: {=_xlfn.LET(_xlpm.m,$A10,_xlpm.ang,VALUE(K$1),_xlpm.th,$B10,_xlpm.v,$E10,_xlpm.r,_xlfn.XMATCH(1,(Tableau37[MaterialNumber2]=_xlpm.m)*(Tableau37[Angle]=_xlpm.ang)*(Tableau37[Thickness]=_xlpm.th),0),_xlpm.c,_xlfn.XMATCH(TEXT(_xlpm.v,"0"),Tableau37[#Headers],0),IFERROR(INDEX(Tableau37[],_xlpm.r,_xlpm.c),""))} -> 0 | L10: {=_xlfn.LET(_xlpm.m,$A10,_xlpm.ang,VALUE(L$1),_xlpm.th,$B10,_xlpm.v,$E10,_xlpm.r,_xlfn.XMATCH(1,(Tableau37[MaterialNumber2]=_xlpm.m)*(Tableau37[Angle]=_xlpm.ang)*(Tableau37[Thickness]=_xlpm.th),0),_xlpm.c,_xlfn.XMATCH(TEXT(_xlpm.v,"0"),Tableau37[#Headers],0),IFERROR(INDEX(Tableau37[],_xlpm.r,_xlpm.c),""))} -> 0 | M10: {=_xlfn.LET(_xlpm.m,$A10,_xlpm.ang,VALUE(M$1),_xlpm.th,$B10,_xlpm.v,$E10,_xlpm.r,_xlfn.XMATCH(1,(Tableau37[MaterialNumber2]=_xlpm.m)*(Tableau37[Angle]=_xlpm.ang)*(Tableau37[Thickness]=_xlpm.th),0),_xlpm.c,_xlfn.XMATCH(TEXT(_xlpm.v,"0"),Tableau37[#Headers],0),IFERROR(INDEX(Tableau37[],_xlpm.r,_xlpm.c),""))} -> 0 | N10: {=_xlfn.LET(_xlpm.m,$A10,_xlpm.ang,VALUE(N$1),_xlpm.th,$B10,_xlpm.v,$E10,_xlpm.r,_xlfn.XMATCH(1,(Tableau37[MaterialNumber2]=_xlpm.m)*(Tableau37[Angle]=_xlpm.ang)*(Tableau37[Thickness]=_xlpm.th),0),_xlpm.c,_xlfn.XMATCH(TEXT(_xlpm.v,"0"),Tableau37[#Headers],0),IFERROR(INDEX(Tableau37[],_xlpm.r,_xlpm.c),""))} -> 0 | O10: 0
A11: 0 | B11: 0.5 | C11: 1 | D11: 3 | E11: 18 | F11: 0 | G11: 0 | H11: {=_xlfn.LET(_xlpm.m,$A11,_xlpm.ang,VALUE(H$1),_xlpm.th,$B11,_xlpm.v,$E11,_xlpm.r,_xlfn.XMATCH(1,(Tableau37[MaterialNumber2]=_xlpm.m)*(Tableau37[Angle]=_xlpm.ang)*(Tableau37[Thickness]=_xlpm.th),0),_xlpm.c,_xlfn.XMATCH(TEXT(_xlpm.v,"0"),Tableau37[#Headers],0),IFERROR(INDEX(Tableau37[],_xlpm.r,_xlpm.c),""))} -> 0 | I11: {=_xlfn.LET(_xlpm.m,$A11,_xlpm.ang,VALUE(I$1),_xlpm.th,$B11,_xlpm.v,$E11,_xlpm.r,_xlfn.XMATCH(1,(Tableau37[MaterialNumber2]=_xlpm.m)*(Tableau37[Angle]=_xlpm.ang)*(Tableau37[Thickness]=_xlpm.th),0),_xlpm.c,_xlfn.XMATCH(TEXT(_xlpm.v,"0"),Tableau37[#Headers],0),IFERROR(INDEX(Tableau37[],_xlpm.r,_xlpm.c),""))} -> 0 | J11: {=_xlfn.LET(_xlpm.m,$A11,_xlpm.ang,VALUE(J$1),_xlpm.th,$B11,_xlpm.v,$E11,_xlpm.r,_xlfn.XMATCH(1,(Tableau37[MaterialNumber2]=_xlpm.m)*(Tableau37[Angle]=_xlpm.ang)*(Tableau37[Thickness]=_xlpm.th),0),_xlpm.c,_xlfn.XMATCH(TEXT(_xlpm.v,"0"),Tableau37[#Headers],0),IFERROR(INDEX(Tableau37[],_xlpm.r,_xlpm.c),""))} -> 0 | K11: {=_xlfn.LET(_xlpm.m,$A11,_xlpm.ang,VALUE(K$1),_xlpm.th,$B11,_xlpm.v,$E11,_xlpm.r,_xlfn.XMATCH(1,(Tableau37[MaterialNumber2]=_xlpm.m)*(Tableau37[Angle]=_xlpm.ang)*(Tableau37[Thickness]=_xlpm.th),0),_xlpm.c,_xlfn.XMATCH(TEXT(_xlpm.v,"0"),Tableau37[#Headers],0),IFERROR(INDEX(Tableau37[],_xlpm.r,_xlpm.c),""))} -> 0 | L11: {=_xlfn.LET(_xlpm.m,$A11,_xlpm.ang,VALUE(L$1),_xlpm.th,$B11,_xlpm.v,$E11,_xlpm.r,_xlfn.XMATCH(1,(Tableau37[MaterialNumber2]=_xlpm.m)*(Tableau37[Angle]=_xlpm.ang)*(Tableau37[Thickness]=_xlpm.th),0),_xlpm.c,_xlfn.XMATCH(TEXT(_xlpm.v,"0"),Tableau37[#Headers],0),IFERROR(INDEX(Tableau37[],_xlpm.r,_xlpm.c),""))} -> 0 | M11: {=_xlfn.LET(_xlpm.m,$A11,_xlpm.ang,VALUE(M$1),_xlpm.th,$B11,_xlpm.v,$E11,_xlpm.r,_xlfn.XMATCH(1,(Tableau37[MaterialNumber2]=_xlpm.m)*(Tableau37[Angle]=_xlpm.ang)*(Tableau37[Thickness]=_xlpm.th),0),_xlpm.c,_xlfn.XMATCH(TEXT(_xlpm.v,"0"),Tableau37[#Headers],0),IFERROR(INDEX(Tableau37[],_xlpm.r,_xlpm.c),""))} -> 0 | N11: {=_xlfn.LET(_xlpm.m,$A11,_xlpm.ang,VALUE(N$1),_xlpm.th,$B11,_xlpm.v,$E11,_xlpm.r,_xlfn.XMATCH(1,(Tableau37[MaterialNumber2]=_xlpm.m)*(Tableau37[Angle]=_xlpm.ang)*(Tableau37[Thickness]=_xlpm.th),0),_xlpm.c,_xlfn.XMATCH(TEXT(_xlpm.v,"0"),Tableau37[#Headers],0),IFERROR(INDEX(Tableau37[],_xlpm.r,_xlpm.c),""))} -> 0 | O11: 0
A12: 0 | B12: 0.5 | C12: 1 | D12: 3.3 | E12: 20 | F12: 0 | G12: 0 | H12: {=_xlfn.LET(_xlpm.m,$A12,_xlpm.ang,VALUE(H$1),_xlpm.th,$B12,_xlpm.v,$E12,_xlpm.r,_xlfn.XMATCH(1,(Tableau37[MaterialNumber2]=_xlpm.m)*(Tableau37[Angle]=_xlpm.ang)*(Tableau37[Thickness]=_xlpm.th),0),_xlpm.c,_xlfn.XMATCH(TEXT(_xlpm.v,"0"),Tableau37[#Headers],0),IFERROR(INDEX(Tableau37[],_xlpm.r,_xlpm.c),""))} -> 0 | I12: {=_xlfn.LET(_xlpm.m,$A12,_xlpm.ang,VALUE(I$1),_xlpm.th,$B12,_xlpm.v,$E12,_xlpm.r,_xlfn.XMATCH(1,(Tableau37[MaterialNumber2]=_xlpm.m)*(Tableau37[Angle]=_xlpm.ang)*(Tableau37[Thickness]=_xlpm.th),0),_xlpm.c,_xlfn.XMATCH(TEXT(_xlpm.v,"0"),Tableau37[#Headers],0),IFERROR(INDEX(Tableau37[],_xlpm.r,_xlpm.c),""))} -> 0 | J12: {=_xlfn.LET(_xlpm.m,$A12,_xlpm.ang,VALUE(J$1),_xlpm.th,$B12,_xlpm.v,$E12,_xlpm.r,_xlfn.XMATCH(1,(Tableau37[MaterialNumber2]=_xlpm.m)*(Tableau37[Angle]=_xlpm.ang)*(Tableau37[Thickness]=_xlpm.th),0),_xlpm.c,_xlfn.XMATCH(TEXT(_xlpm.v,"0"),Tableau37[#Headers],0),IFERROR(INDEX(Tableau37[],_xlpm.r,_xlpm.c),""))} -> 0 | K12: {=_xlfn.LET(_xlpm.m,$A12,_xlpm.ang,VALUE(K$1),_xlpm.th,$B12,_xlpm.v,$E12,_xlpm.r,_xlfn.XMATCH(1,(Tableau37[MaterialNumber2]=_xlpm.m)*(Tableau37[Angle]=_xlpm.ang)*(Tableau37[Thickness]=_xlpm.th),0),_xlpm.c,_xlfn.XMATCH(TEXT(_xlpm.v,"0"),Tableau37[#Headers],0),IFERROR(INDEX(Tableau37[],_xlpm.r,_xlpm.c),""))} -> 0 | L12: {=_xlfn.LET(_xlpm.m,$A12,_xlpm.ang,VALUE(L$1),_xlpm.th,$B12,_xlpm.v,$E12,_xlpm.r,_xlfn.XMATCH(1,(Tableau37[MaterialNumber2]=_xlpm.m)*(Tableau37[Angle]=_xlpm.ang)*(Tableau37[Thickness]=_xlpm.th),0),_xlpm.c,_xlfn.XMATCH(TEXT(_xlpm.v,"0"),Tableau37[#Headers],0),IFERROR(INDEX(Tableau37[],_xlpm.r,_xlpm.c),""))} -> 0 | M12: {=_xlfn.LET(_xlpm.m,$A12,_xlpm.ang,VALUE(M$1),_xlpm.th,$B12,_xlpm.v,$E12,_xlpm.r,_xlfn.XMATCH(1,(Tableau37[MaterialNumber2]=_xlpm.m)*(Tableau37[Angle]=_xlpm.ang)*(Tableau37[Thickness]=_xlpm.th),0),_xlpm.c,_xlfn.XMATCH(TEXT(_xlpm.v,"0"),Tableau37[#Headers],0),IFERROR(INDEX(Tableau37[],_xlpm.r,_xlpm.c),""))} -> 0 | N12: {=_xlfn.LET(_xlpm.m,$A12,_xlpm.ang,VALUE(N$1),_xlpm.th,$B12,_xlpm.v,$E12,_xlpm.r,_xlfn.XMATCH(1,(Tableau37[MaterialNumber2]=_xlpm.m)*(Tableau37[Angle]=_xlpm.ang)*(Tableau37[Thickness]=_xlpm.th),0),_xlpm.c,_xlfn.XMATCH(TEXT(_xlpm.v,"0"),Tableau37[#Headers],0),IFERROR(INDEX(Tableau37[],_xlpm.r,_xlpm.c),""))} -> 0 | O12: 0
A13: 0 | B13: 0.5 | C13: 1 | E13: 22 | F13: 0 | G13: 0 | H13: {=_xlfn.LET(_xlpm.m,$A13,_xlpm.ang,VALUE(H$1),_xlpm.th,$B13,_xlpm.v,$E13,_xlpm.r,_xlfn.XMATCH(1,(Tableau37[MaterialNumber2]=_xlpm.m)*(Tableau37[Angle]=_xlpm.ang)*(Tableau37[Thickness]=_xlpm.th),0),_xlpm.c,_xlfn.XMATCH(TEXT(_xlpm.v,"0"),Tableau37[#Headers],0),IFERROR(INDEX(Tableau37[],_xlpm.r,_xlpm.c),""))} | I13: {=_xlfn.LET(_xlpm.m,$A13,_xlpm.ang,VALUE(I$1),_xlpm.th,$B13,_xlpm.v,$E13,_xlpm.r,_xlfn.XMATCH(1,(Tableau37[MaterialNumber2]=_xlpm.m)*(Tableau37[Angle]=_xlpm.ang)*(Tableau37[Thickness]=_xlpm.th),0),_xlpm.c,_xlfn.XMATCH(TEXT(_xlpm.v,"0"),Tableau37[#Headers],0),IFERROR(INDEX(Tableau37[],_xlpm.r,_xlpm.c),""))} | J13: {=_xlfn.LET(_xlpm.m,$A13,_xlpm.ang,VALUE(J$1),_xlpm.th,$B13,_xlpm.v,$E13,_xlpm.r,_xlfn.XMATCH(1,(Tableau37[MaterialNumber2]=_xlpm.m)*(Tableau37[Angle]=_xlpm.ang)*(Tableau37[Thickness]=_xlpm.th),0),_xlpm.c,_xlfn.XMATCH(TEXT(_xlpm.v,"0"),Tableau37[#Headers],0),IFERROR(INDEX(Tableau37[],_xlpm.r,_xlpm.c),""))} | K13: {=_xlfn.LET(_xlpm.m,$A13,_xlpm.ang,VALUE(K$1),_xlpm.th,$B13,_xlpm.v,$E13,_xlpm.r,_xlfn.XMATCH(1,(Tableau37[MaterialNumber2]=_xlpm.m)*(Tableau37[Angle]=_xlpm.ang)*(Tableau37[Thickness]=_xlpm.th),0),_xlpm.c,_xlfn.XMATCH(TEXT(_xlpm.v,"0"),Tableau37[#Headers],0),IFERROR(INDEX(Tableau37[],_xlpm.r,_xlpm.c),""))} | L13: {=_xlfn.LET(_xlpm.m,$A13,_xlpm.ang,VALUE(L$1),_xlpm.th,$B13,_xlpm.v,$E13,_xlpm.r,_xlfn.XMATCH(1,(Tableau37[MaterialNumber2]=_xlpm.m)*(Tableau37[Angle]=_xlpm.ang)*(Tableau37[Thickness]=_xlpm.th),0),_xlpm.c,_xlfn.XMATCH(TEXT(_xlpm.v,"0"),Tableau37[#Headers],0),IFERROR(INDEX(Tableau37[],_xlpm.r,_xlpm.c),""))} | M13: {=_xlfn.LET(_xlpm.m,$A13,_xlpm.ang,VALUE(M$1),_xlpm.th,$B13,_xlpm.v,$E13,_xlpm.r,_xlfn.XMATCH(1,(Tableau37[MaterialNumber2]=_xlpm.m)*(Tableau37[Angle]=_xlpm.ang)*(Tableau37[Thickness]=_xlpm.th),0),_xlpm.c,_xlfn.XMATCH(TEXT(_xlpm.v,"0"),Tableau37[#Headers],0),IFERROR(INDEX(Tableau37[],_xlpm.r,_xlpm.c),""))} | N13: {=_xlfn.LET(_xlpm.m,$A13,_xlpm.ang,VALUE(N$1),_xlpm.th,$B13,_xlpm.v,$E13,_xlpm.r,_xlfn.XMATCH(1,(Tableau37[MaterialNumber2]=_xlpm.m)*(Tableau37[Angle]=_xlpm.ang)*(Tableau37[Thickness]=_xlpm.th),0),_xlpm.c,_xlfn.XMATCH(TEXT(_xlpm.v,"0"),Tableau37[#Headers],0),IFERROR(INDEX(Tableau37[],_xlpm.r,_xlpm.c),""))} | O13: 0
A14: 0 | B14: 0.5 | C14: 1 | D14: 4 | E14: 25 | F14: 0 | G14: 0 | H14: {=_xlfn.LET(_xlpm.m,$A14,_xlpm.ang,VALUE(H$1),_xlpm.th,$B14,_xlpm.v,$E14,_xlpm.r,_xlfn.XMATCH(1,(Tableau37[MaterialNumber2]=_xlpm.m)*(Tableau37[Angle]=_xlpm.ang)*(Tableau37[Thickness]=_xlpm.th),0),_xlpm.c,_xlfn.XMATCH(TEXT(_xlpm.v,"0"),Tableau37[#Headers],0),IFERROR(INDEX(Tableau37[],_xlpm.r,_xlpm.c),""))} -> 0 | I14: {=_xlfn.LET(_xlpm.m,$A14,_xlpm.ang,VALUE(I$1),_xlpm.th,$B14,_xlpm.v,$E14,_xlpm.r,_xlfn.XMATCH(1,(Tableau37[MaterialNumber2]=_xlpm.m)*(Tableau37[Angle]=_xlpm.ang)*(Tableau37[Thickness]=_xlpm.th),0),_xlpm.c,_xlfn.XMATCH(TEXT(_xlpm.v,"0"),Tableau37[#Headers],0),IFERROR(INDEX(Tableau37[],_xlpm.r,_xlpm.c),""))} -> 0 | J14: {=_xlfn.LET(_xlpm.m,$A14,_xlpm.ang,VALUE(J$1),_xlpm.th,$B14,_xlpm.v,$E14,_xlpm.r,_xlfn.XMATCH(1,(Tableau37[MaterialNumber2]=_xlpm.m)*(Tableau37[Angle]=_xlpm.ang)*(Tableau37[Thickness]=_xlpm.th),0),_xlpm.c,_xlfn.XMATCH(TEXT(_xlpm.v,"0"),Tableau37[#Headers],0),IFERROR(INDEX(Tableau37[],_xlpm.r,_xlpm.c),""))} -> 0 | K14: {=_xlfn.LET(_xlpm.m,$A14,_xlpm.ang,VALUE(K$1),_xlpm.th,$B14,_xlpm.v,$E14,_xlpm.r,_xlfn.XMATCH(1,(Tableau37[MaterialNumber2]=_xlpm.m)*(Tableau37[Angle]=_xlpm.ang)*(Tableau37[Thickness]=_xlpm.th),0),_xlpm.c,_xlfn.XMATCH(TEXT(_xlpm.v,"0"),Tableau37[#Headers],0),IFERROR(INDEX(Tableau37[],_xlpm.r,_xlpm.c),""))} -> 0 | L14: {=_xlfn.LET(_xlpm.m,$A14,_xlpm.ang,VALUE(L$1),_xlpm.th,$B14,_xlpm.v,$E14,_xlpm.r,_xlfn.XMATCH(1,(Tableau37[MaterialNumber2]=_xlpm.m)*(Tableau37[Angle]=_xlpm.ang)*(Tableau37[Thickness]=_xlpm.th),0),_xlpm.c,_xlfn.XMATCH(TEXT(_xlpm.v,"0"),Tableau37[#Headers],0),IFERROR(INDEX(Tableau37[],_xlpm.r,_xlpm.c),""))} -> 0 | M14: {=_xlfn.LET(_xlpm.m,$A14,_xlpm.ang,VALUE(M$1),_xlpm.th,$B14,_xlpm.v,$E14,_xlpm.r,_xlfn.XMATCH(1,(Tableau37[MaterialNumber2]=_xlpm.m)*(Tableau37[Angle]=_xlpm.ang)*(Tableau37[Thickness]=_xlpm.th),0),_xlpm.c,_xlfn.XMATCH(TEXT(_xlpm.v,"0"),Tableau37[#Headers],0),IFERROR(INDEX(Tableau37[],_xlpm.r,_xlpm.c),""))} -> 0 | N14: {=_xlfn.LET(_xlpm.m,$A14,_xlpm.ang,VALUE(N$1),_xlpm.th,$B14,_xlpm.v,$E14,_xlpm.r,_xlfn.XMATCH(1,(Tableau37[MaterialNumber2]=_xlpm.m)*(Tableau37[Angle]=_xlpm.ang)*(Tableau37[Thickness]=_xlpm.th),0),_xlpm.c,_xlfn.XMATCH(TEXT(_xlpm.v,"0"),Tableau37[#Headers],0),IFERROR(INDEX(Tableau37[],_xlpm.r,_xlpm.c),""))} -> 0 | O14: 0
A15: 0 | B15: 0.5 | C15: 1 | E15: 30 | F15: 0 | G15: 0 | H15: {=_xlfn.LET(_xlpm.m,$A15,_xlpm.ang,VALUE(H$1),_xlpm.th,$B15,_xlpm.v,$E15,_xlpm.r,_xlfn.XMATCH(1,(Tableau37[MaterialNumber2]=_xlpm.m)*(Tableau37[Angle]=_xlpm.ang)*(Tableau37[Thickness]=_xlpm.th),0),_xlpm.c,_xlfn.XMATCH(TEXT(_xlpm.v,"0"),Tableau37[#Headers],0),IFERROR(INDEX(Tableau37[],_xlpm.r,_xlpm.c),""))} | I15: {=_xlfn.LET(_xlpm.m,$A15,_xlpm.ang,VALUE(I$1),_xlpm.th,$B15,_xlpm.v,$E15,_xlpm.r,_xlfn.XMATCH(1,(Tableau37[MaterialNumber2]=_xlpm.m)*(Tableau37[Angle]=_xlpm.ang)*(Tableau37[Thickness]=_xlpm.th),0),_xlpm.c,_xlfn.XMATCH(TEXT(_xlpm.v,"0"),Tableau37[#Headers],0),IFERROR(INDEX(Tableau37[],_xlpm.r,_xlpm.c),""))} | J15: {=_xlfn.LET(_xlpm.m,$A15,_xlpm.ang,VALUE(J$1),_xlpm.th,$B15,_xlpm.v,$E15,_xlpm.r,_xlfn.XMATCH(1,(Tableau37[MaterialNumber2]=_xlpm.m)*(Tableau37[Angle]=_xlpm.ang)*(Tableau37[Thickness]=_xlpm.th),0),_xlpm.c,_xlfn.XMATCH(TEXT(_xlpm.v,"0"),Tableau37[#Headers],0),IFERROR(INDEX(Tableau37[],_xlpm.r,_xlpm.c),""))} | K15: {=_xlfn.LET(_xlpm.m,$A15,_xlpm.ang,VALUE(K$1),_xlpm.th,$B15,_xlpm.v,$E15,_xlpm.r,_xlfn.XMATCH(1,(Tableau37[MaterialNumber2]=_xlpm.m)*(Tableau37[Angle]=_xlpm.ang)*(Tableau37[Thickness]=_xlpm.th),0),_xlpm.c,_xlfn.XMATCH(TEXT(_xlpm.v,"0"),Tableau37[#Headers],0),IFERROR(INDEX(Tableau37[],_xlpm.r,_xlpm.c),""))} | L15: {=_xlfn.LET(_xlpm.m,$A15,_xlpm.ang,VALUE(L$1),_xlpm.th,$B15,_xlpm.v,$E15,_xlpm.r,_xlfn.XMATCH(1,(Tableau37[MaterialNumber2]=_xlpm.m)*(Tableau37[Angle]=_xlpm.ang)*(Tableau37[Thickness]=_xlpm.th),0),_xlpm.c,_xlfn.XMATCH(TEXT(_xlpm.v,"0"),Tableau37[#Headers],0),IFERROR(INDEX(Tableau37[],_xlpm.r,_xlpm.c),""))} | M15: {=_xlfn.LET(_xlpm.m,$A15,_xlpm.ang,VALUE(M$1),_xlpm.th,$B15,_xlpm.v,$E15,_xlpm.r,_xlfn.XMATCH(1,(Tableau37[MaterialNumber2]=_xlpm.m)*(Tableau37[Angle]=_xlpm.ang)*(Tableau37[Thickness]=_xlpm.th),0),_xlpm.c,_xlfn.XMATCH(TEXT(_xlpm.v,"0"),Tableau37[#Headers],0),IFERROR(INDEX(Tableau37[],_xlpm.r,_xlpm.c),""))} | N15: {=_xlfn.LET(_xlpm.m,$A15,_xlpm.ang,VALUE(N$1),_xlpm.th,$B15,_xlpm.v,$E15,_xlpm.r,_xlfn.XMATCH(1,(Tableau37[MaterialNumber2]=_xlpm.m)*(Tableau37[Angle]=_xlpm.ang)*(Tableau37[Thickness]=_xlpm.th),0),_xlpm.c,_xlfn.XMATCH(TEXT(_xlpm.v,"0"),Tableau37[#Headers],0),IFERROR(INDEX(Tableau37[],_xlpm.r,_xlpm.c),""))} | O15: 0
A16: 0 | B16: 0.5 | C16: 1 | D16: 5 | E16: 32 | F16: 0 | G16: 0 | H16: {=_xlfn.LET(_xlpm.m,$A16,_xlpm.ang,VALUE(H$1),_xlpm.th,$B16,_xlpm.v,$E16,_xlpm.r,_xlfn.XMATCH(1,(Tableau37[MaterialNumber2]=_xlpm.m)*(Tableau37[Angle]=_xlpm.ang)*(Tableau37[Thickness]=_xlpm.th),0),_xlpm.c,_xlfn.XMATCH(TEXT(_xlpm.v,"0"),Tableau37[#Headers],0),IFERROR(INDEX(Tableau37[],_xlpm.r,_xlpm.c),""))} -> 0 | I16: {=_xlfn.LET(_xlpm.m,$A16,_xlpm.ang,VALUE(I$1),_xlpm.th,$B16,_xlpm.v,$E16,_xlpm.r,_xlfn.XMATCH(1,(Tableau37[MaterialNumber2]=_xlpm.m)*(Tableau37[Angle]=_xlpm.ang)*(Tableau37[Thickness]=_xlpm.th),0),_xlpm.c,_xlfn.XMATCH(TEXT(_xlpm.v,"0"),Tableau37[#Headers],0),IFERROR(INDEX(Tableau37[],_xlpm.r,_xlpm.c),""))} -> 0 | J16: {=_xlfn.LET(_xlpm.m,$A16,_xlpm.ang,VALUE(J$1),_xlpm.th,$B16,_xlpm.v,$E16,_xlpm.r,_xlfn.XMATCH(1,(Tableau37[MaterialNumber2]=_xlpm.m)*(Tableau37[Angle]=_xlpm.ang)*(Tableau37[Thickness]=_xlpm.th),0),_xlpm.c,_xlfn.XMATCH(TEXT(_xlpm.v,"0"),Tableau37[#Headers],0),IFERROR(INDEX(Tableau37[],_xlpm.r,_xlpm.c),""))} -> 0 | K16: {=_xlfn.LET(_xlpm.m,$A16,_xlpm.ang,VALUE(K$1),_xlpm.th,$B16,_xlpm.v,$E16,_xlpm.r,_xlfn.XMATCH(1,(Tableau37[MaterialNumber2]=_xlpm.m)*(Tableau37[Angle]=_xlpm.ang)*(Tableau37[Thickness]=_xlpm.th),0),_xlpm.c,_xlfn.XMATCH(TEXT(_xlpm.v,"0"),Tableau37[#Headers],0),IFERROR(INDEX(Tableau37[],_xlpm.r,_xlpm.c),""))} -> 0 | L16: {=_xlfn.LET(_xlpm.m,$A16,_xlpm.ang,VALUE(L$1),_xlpm.th,$B16,_xlpm.v,$E16,_xlpm.r,_xlfn.XMATCH(1,(Tableau37[MaterialNumber2]=_xlpm.m)*(Tableau37[Angle]=_xlpm.ang)*(Tableau37[Thickness]=_xlpm.th),0),_xlpm.c,_xlfn.XMATCH(TEXT(_xlpm.v,"0"),Tableau37[#Headers],0),IFERROR(INDEX(Tableau37[],_xlpm.r,_xlpm.c),""))} -> 0 | M16: {=_xlfn.LET(_xlpm.m,$A16,_xlpm.ang,VALUE(M$1),_xlpm.th,$B16,_xlpm.v,$E16,_xlpm.r,_xlfn.XMATCH(1,(Tableau37[MaterialNumber2]=_xlpm.m)*(Tableau37[Angle]=_xlpm.ang)*(Tableau37[Thickness]=_xlpm.th),0),_xlpm.c,_xlfn.XMATCH(TEXT(_xlpm.v,"0"),Tableau37[#Headers],0),IFERROR(INDEX(Tableau37[],_xlpm.r,_xlpm.c),""))} -> 0 | N16: {=_xlfn.LET(_xlpm.m,$A16,_xlpm.ang,VALUE(N$1),_xlpm.th,$B16,_xlpm.v,$E16,_xlpm.r,_xlfn.XMATCH(1,(Tableau37[MaterialNumber2]=_xlpm.m)*(Tableau37[Angle]=_xlpm.ang)*(Tableau37[Thickness]=_xlpm.th),0),_xlpm.c,_xlfn.XMATCH(TEXT(_xlpm.v,"0"),Tableau37[#Headers],0),IFERROR(INDEX(Tableau37[],_xlpm.r,_xlpm.c),""))} -> 0 | O16: 0
A17: 0 | B17: 0.5 | C17: 1 | D17: 6.5 | E17: 40 | F17: 0 | G17: 0 | H17: {=_xlfn.LET(_xlpm.m,$A17,_xlpm.ang,VALUE(H$1),_xlpm.th,$B17,_xlpm.v,$E17,_xlpm.r,_xlfn.XMATCH(1,(Tableau37[MaterialNumber2]=_xlpm.m)*(Tableau37[Angle]=_xlpm.ang)*(Tableau37[Thickness]=_xlpm.th),0),_xlpm.c,_xlfn.XMATCH(TEXT(_xlpm.v,"0"),Tableau37[#Headers],0),IFERROR(INDEX(Tableau37[],_xlpm.r,_xlpm.c),""))} -> 0 | I17: {=_xlfn.LET(_xlpm.m,$A17,_xlpm.ang,VALUE(I$1),_xlpm.th,$B17,_xlpm.v,$E17,_xlpm.r,_xlfn.XMATCH(1,(Tableau37[MaterialNumber2]=_xlpm.m)*(Tableau37[Angle]=_xlpm.ang)*(Tableau37[Thickness]=_xlpm.th),0),_xlpm.c,_xlfn.XMATCH(TEXT(_xlpm.v,"0"),Tableau37[#Headers],0),IFERROR(INDEX(Tableau37[],_xlpm.r,_xlpm.c),""))} -> 0 | J17: {=_xlfn.LET(_xlpm.m,$A17,_xlpm.ang,VALUE(J$1),_xlpm.th,$B17,_xlpm.v,$E17,_xlpm.r,_xlfn.XMATCH(1,(Tableau37[MaterialNumber2]=_xlpm.m)*(Tableau37[Angle]=_xlpm.ang)*(Tableau37[Thickness]=_xlpm.th),0),_xlpm.c,_xlfn.XMATCH(TEXT(_xlpm.v,"0"),Tableau37[#Headers],0),IFERROR(INDEX(Tableau37[],_xlpm.r,_xlpm.c),""))} -> 0 | K17: {=_xlfn.LET(_xlpm.m,$A17,_xlpm.ang,VALUE(K$1),_xlpm.th,$B17,_xlpm.v,$E17,_xlpm.r,_xlfn.XMATCH(1,(Tableau37[MaterialNumber2]=_xlpm.m)*(Tableau37[Angle]=_xlpm.ang)*(Tableau37[Thickness]=_xlpm.th),0),_xlpm.c,_xlfn.XMATCH(TEXT(_xlpm.v,"0"),Tableau37[#Headers],0),IFERROR(INDEX(Tableau37[],_xlpm.r,_xlpm.c),""))} -> 0 | L17: {=_xlfn.LET(_xlpm.m,$A17,_xlpm.ang,VALUE(L$1),_xlpm.th,$B17,_xlpm.v,$E17,_xlpm.r,_xlfn.XMATCH(1,(Tableau37[MaterialNumber2]=_xlpm.m)*(Tableau37[Angle]=_xlpm.ang)*(Tableau37[Thickness]=_xlpm.th),0),_xlpm.c,_xlfn.XMATCH(TEXT(_xlpm.v,"0"),Tableau37[#Headers],0),IFERROR(INDEX(Tableau37[],_xlpm.r,_xlpm.c),""))} -> 0 | M17: {=_xlfn.LET(_xlpm.m,$A17,_xlpm.ang,VALUE(M$1),_xlpm.th,$B17,_xlpm.v,$E17,_xlpm.r,_xlfn.XMATCH(1,(Tableau37[MaterialNumber2]=_xlpm.m)*(Tableau37[Angle]=_xlpm.ang)*(Tableau37[Thickness]=_xlpm.th),0),_xlpm.c,_xlfn.XMATCH(TEXT(_xlpm.v,"0"),Tableau37[#Headers],0),IFERROR(INDEX(Tableau37[],_xlpm.r,_xlpm.c),""))} -> 0 | N17: {=_xlfn.LET(_xlpm.m,$A17,_xlpm.ang,VALUE(N$1),_xlpm.th,$B17,_xlpm.v,$E17,_xlpm.r,_xlfn.XMATCH(1,(Tableau37[MaterialNumber2]=_xlpm.m)*(Tableau37[Angle]=_xlpm.ang)*(Tableau37[Thickness]=_xlpm.th),0),_xlpm.c,_xlfn.XMATCH(TEXT(_xlpm.v,"0"),Tableau37[#Headers],0),IFERROR(INDEX(Tableau37[],_xlpm.r,_xlpm.c),""))} -> 0 | O17: 0
A18: 0 | B18: 0.5 | C18: 1 | D18: 8 | E18: 50 | F18: 0 | G18: 0 | H18: {=_xlfn.LET(_xlpm.m,$A18,_xlpm.ang,VALUE(H$1),_xlpm.th,$B18,_xlpm.v,$E18,_xlpm.r,_xlfn.XMATCH(1,(Tableau37[MaterialNumber2]=_xlpm.m)*(Tableau37[Angle]=_xlpm.ang)*(Tableau37[Thickness]=_xlpm.th),0),_xlpm.c,_xlfn.XMATCH(TEXT(_xlpm.v,"0"),Tableau37[#Headers],0),IFERROR(INDEX(Tableau37[],_xlpm.r,_xlpm.c),""))} -> 0 | I18: {=_xlfn.LET(_xlpm.m,$A18,_xlpm.ang,VALUE(I$1),_xlpm.th,$B18,_xlpm.v,$E18,_xlpm.r,_xlfn.XMATCH(1,(Tableau37[MaterialNumber2]=_xlpm.m)*(Tableau37[Angle]=_xlpm.ang)*(Tableau37[Thickness]=_xlpm.th),0),_xlpm.c,_xlfn.XMATCH(TEXT(_xlpm.v,"0"),Tableau37[#Headers],0),IFERROR(INDEX(Tableau37[],_xlpm.r,_xlpm.c),""))} -> 0 | J18: {=_xlfn.LET(_xlpm.m,$A18,_xlpm.ang,VALUE(J$1),_xlpm.th,$B18,_xlpm.v,$E18,_xlpm.r,_xlfn.XMATCH(1,(Tableau37[MaterialNumber2]=_xlpm.m)*(Tableau37[Angle]=_xlpm.ang)*(Tableau37[Thickness]=_xlpm.th),0),_xlpm.c,_xlfn.XMATCH(TEXT(_xlpm.v,"0"),Tableau37[#Headers],0),IFERROR(INDEX(Tableau37[],_xlpm.r,_xlpm.c),""))} -> 0 | K18: {=_xlfn.LET(_xlpm.m,$A18,_xlpm.ang,VALUE(K$1),_xlpm.th,$B18,_xlpm.v,$E18,_xlpm.r,_xlfn.XMATCH(1,(Tableau37[MaterialNumber2]=_xlpm.m)*(Tableau37[Angle]=_xlpm.ang)*(Tableau37[Thickness]=_xlpm.th),0),_xlpm.c,_xlfn.XMATCH(TEXT(_xlpm.v,"0"),Tableau37[#Headers],0),IFERROR(INDEX(Tableau37[],_xlpm.r,_xlpm.c),""))} -> 0 | L18: {=_xlfn.LET(_xlpm.m,$A18,_xlpm.ang,VALUE(L$1),_xlpm.th,$B18,_xlpm.v,$E18,_xlpm.r,_xlfn.XMATCH(1,(Tableau37[MaterialNumber2]=_xlpm.m)*(Tableau37[Angle]=_xlpm.ang)*(Tableau37[Thickness]=_xlpm.th),0),_xlpm.c,_xlfn.XMATCH(TEXT(_xlpm.v,"0"),Tableau37[#Headers],0),IFERROR(INDEX(Tableau37[],_xlpm.r,_xlpm.c),""))} -> 0 | M18: {=_xlfn.LET(_xlpm.m,$A18,_xlpm.ang,VALUE(M$1),_xlpm.th,$B18,_xlpm.v,$E18,_xlpm.r,_xlfn.XMATCH(1,(Tableau37[MaterialNumber2]=_xlpm.m)*(Tableau37[Angle]=_xlpm.ang)*(Tableau37[Thickness]=_xlpm.th),0),_xlpm.c,_xlfn.XMATCH(TEXT(_xlpm.v,"0"),Tableau37[#Headers],0),IFERROR(INDEX(Tableau37[],_xlpm.r,_xlpm.c),""))} -> 0 | N18: {=_xlfn.LET(_xlpm.m,$A18,_xlpm.ang,VALUE(N$1),_xlpm.th,$B18,_xlpm.v,$E18,_xlpm.r,_xlfn.XMATCH(1,(Tableau37[MaterialNumber2]=_xlpm.m)*(Tableau37[Angle]=_xlpm.ang)*(Tableau37[Thickness]=_xlpm.th),0),_xlpm.c,_xlfn.XMATCH(TEXT(_xlpm.v,"0"),Tableau37[#Headers],0),IFERROR(INDEX(Tableau37[],_xlpm.r,_xlpm.c),""))} -> 0 | O18: 0
A19: 0 | B19: 0.5 | C19: 1 | D19: 10 | E19: 63 | F19: 0 | G19: 0 | H19: {=_xlfn.LET(_xlpm.m,$A19,_xlpm.ang,VALUE(H$1),_xlpm.th,$B19,_xlpm.v,$E19,_xlpm.r,_xlfn.XMATCH(1,(Tableau37[MaterialNumber2]=_xlpm.m)*(Tableau37[Angle]=_xlpm.ang)*(Tableau37[Thickness]=_xlpm.th),0),_xlpm.c,_xlfn.XMATCH(TEXT(_xlpm.v,"0"),Tableau37[#Headers],0),IFERROR(INDEX(Tableau37[],_xlpm.r,_xlpm.c),""))} -> 0 | I19: {=_xlfn.LET(_xlpm.m,$A19,_xlpm.ang,VALUE(I$1),_xlpm.th,$B19,_xlpm.v,$E19,_xlpm.r,_xlfn.XMATCH(1,(Tableau37[MaterialNumber2]=_xlpm.m)*(Tableau37[Angle]=_xlpm.ang)*(Tableau37[Thickness]=_xlpm.th),0),_xlpm.c,_xlfn.XMATCH(TEXT(_xlpm.v,"0"),Tableau37[#Headers],0),IFERROR(INDEX(Tableau37[],_xlpm.r,_xlpm.c),""))} -> 0 | J19: {=_xlfn.LET(_xlpm.m,$A19,_xlpm.ang,VALUE(J$1),_xlpm.th,$B19,_xlpm.v,$E19,_xlpm.r,_xlfn.XMATCH(1,(Tableau37[MaterialNumber2]=_xlpm.m)*(Tableau37[Angle]=_xlpm.ang)*(Tableau37[Thickness]=_xlpm.th),0),_xlpm.c,_xlfn.XMATCH(TEXT(_xlpm.v,"0"),Tableau37[#Headers],0),IFERROR(INDEX(Tableau37[],_xlpm.r,_xlpm.c),""))} -> 0 | K19: {=_xlfn.LET(_xlpm.m,$A19,_xlpm.ang,VALUE(K$1),_xlpm.th,$B19,_xlpm.v,$E19,_xlpm.r,_xlfn.XMATCH(1,(Tableau37[MaterialNumber2]=_xlpm.m)*(Tableau37[Angle]=_xlpm.ang)*(Tableau37[Thickness]=_xlpm.th),0),_xlpm.c,_xlfn.XMATCH(TEXT(_xlpm.v,"0"),Tableau37[#Headers],0),IFERROR(INDEX(Tableau37[],_xlpm.r,_xlpm.c),""))} -> 0 | L19: {=_xlfn.LET(_xlpm.m,$A19,_xlpm.ang,VALUE(L$1),_xlpm.th,$B19,_xlpm.v,$E19,_xlpm.r,_xlfn.XMATCH(1,(Tableau37[MaterialNumber2]=_xlpm.m)*(Tableau37[Angle]=_xlpm.ang)*(Tableau37[Thickness]=_xlpm.th),0),_xlpm.c,_xlfn.XMATCH(TEXT(_xlpm.v,"0"),Tableau37[#Headers],0),IFERROR(INDEX(Tableau37[],_xlpm.r,_xlpm.c),""))} -> 0 | M19: {=_xlfn.LET(_xlpm.m,$A19,_xlpm.ang,VALUE(M$1),_xlpm.th,$B19,_xlpm.v,$E19,_xlpm.r,_xlfn.XMATCH(1,(Tableau37[MaterialNumber2]=_xlpm.m)*(Tableau37[Angle]=_xlpm.ang)*(Tableau37[Thickness]=_xlpm.th),0),_xlpm.c,_xlfn.XMATCH(TEXT(_xlpm.v,"0"),Tableau37[#Headers],0),IFERROR(INDEX(Tableau37[],_xlpm.r,_xlpm.c),""))} -> 0 | N19: {=_xlfn.LET(_xlpm.m,$A19,_xlpm.ang,VALUE(N$1),_xlpm.th,$B19,_xlpm.v,$E19,_xlpm.r,_xlfn.XMATCH(1,(Tableau37[MaterialNumber2]=_xlpm.m)*(Tableau37[Angle]=_xlpm.ang)*(Tableau37[Thickness]=_xlpm.th),0),_xlpm.c,_xlfn.XMATCH(TEXT(_xlpm.v,"0"),Tableau37[#Headers],0),IFERROR(INDEX(Tableau37[],_xlpm.r,_xlpm.c),""))} -> 0 | O19: 0
