Workbook
Name TableauComplet: Tableau37[]
Name TableauComplet: Tableau37[]
Name TableauComplet: Tableau37[]
Name TableauComplet: Tableau37[]
Name TableauComplet: Tableau37[]
Name TableauComplet: Tableau37[]
Name TableauComplet: Tableau37[]
Name TableauComplet: Tableau37[]

Sheet RECAP
C1: Vopening | D1: 4 | E1: 6 | F1: 7 | G1: 8 | H1: 10 | I1: 12 | J1: 14 | K1: 16 | L1: 18 | M1: 20 | N1: 25 | O1: 32 | P1: 40 | Q1: 50 | R1: 63 | S1: 80 | T1: 100 | U1: 125
C2: Bm | D2: 2.8 | E2: 4 | F2: 5 | G2: 5.5 | H2: 7 | I2: 8.5 | J2: 10 | K2: 11 | L2: 13.5 | M2: 14 | N2: 17.5 | O2: 22 | P2: 28 | Q2: 35 | R2: 45 | S2: 55 | T2: 71 | U2: 89
C3: RiR | D3: 0.7 | E3: 1 | F3: 1.1 | G3: 1.3 | H3: 1.6 | I3: 2 | J3: 2.3 | K3: 2.6 | L3: 3 | M3: 3.3 | N3: 4 | O3: 5 | P3: 6.5 | Q3: 8 | R3: 10 | S3: 13 | T3: 16 | U3: 20
D4: Vopening
A5: Material | B5: MaterialNumber2 | C5: Angle | D5: Thickness | E5: 4 | F5: 6 | G5: 7 | H5: 8 | I5: 10 | J5: 12 | K5: 14 | L5: 16 | M5: 18 | N5: 20 | O5: 25 | P5: 32 | Q5: 40 | R5: 50 | S5: 63 | T5: 80 | U5: 100 | V5: 125
A6: ADX1 | B6: {=_xlfn.LET(_xlpm.x,UPPER(Tableau37[[#This Row],[Material]]),_xlfn.IFS(LEFT(_xlpm.x,3)="ADX",0,LEFT(_xlpm.x,3)="ALU",1,LEFT(_xlpm.x,4)="INOX",2,TRUE,""))} -> 0 | C6: 30 | D6: 0.5 | E6: 0.166 | F6: 0.192 | G6: 0.206 | H6: 0.22 | I6: 0.246 | J6: 0.274
A7: ADX1 | B7: {=_xlfn.LET(_xlpm.x,UPPER(Tableau37[[#This Row],[Material]]),_xlfn.IFS(LEFT(_xlpm.x,3)="ADX",0,LEFT(_xlpm.x,3)="ALU",1,LEFT(_xlpm.x,4)="INOX",2,TRUE,""))} -> 0 | C7: 30 | D7: 0.8 | E7: 0.234 | F7: 0.26 | G7: 0.274 | H7: 0.288 | I7: 0.314 | J7: 0.342 | K7: 0.368 | L7: 0.396
A8: ADX1 | B8: {=_xlfn.LET(_xlpm.x,UPPER(Tableau37[[#This Row],[Material]]),_xlfn.IFS(LEFT(_xlpm.x,3)="ADX",0,LEFT(_xlpm.x,3)="ALU",1,LEFT(_xlpm.x,4)="INOX",2,TRUE,""))} -> 0 | C8: 30 | D8: 1 | E8: 0.278 | F8: 0.306 | G8: 0.32 | H8: 0.332 | I8: 0.36 | J8: 0.386 | K8: 0.414 | L8: 0.44 | M8: 0.468 | N8: 0.494
A9: ADX1 | B9: {=_xlfn.LET(_xlpm.x,UPPER(Tableau37[[#This Row],[Material]]),_xlfn.IFS(LEFT(_xlpm.x,3)="ADX",0,LEFT(_xlpm.x,3)="ALU",1,LEFT(_xlpm.x,4)="INOX",2,TRUE,""))} -> 0 | C9: 30 | D9: 1.2 | F9: 0.352 | G9: 0.364 | H9: 0.378 | I9: 0.406 | J9: 0.432 | K9: 0.458 | L9: 0.486 | M9: 0.512 | N9: 0.54 | O9: 0.608
A10: ADX1 | B10: {=_xlfn.LET(_xlpm.x,UPPER(Tableau37[[#This Row],[Material]]),_xlfn.IFS(LEFT(_xlpm.x,3)="ADX",0,LEFT(_xlpm.x,3)="ALU",1,LEFT(_xlpm.x,4)="INOX",2,TRUE,""))} -> 0 | C10: 30 | D10: 1.5 | H10: 0.44 | I10: 0.466 | J10: 0.492 | K10: 0.518 | L10: 0.546 | M10: 0.572 | N10: 0.598 | O10: 0.664 | P10: 0.756
A11: ADX1 | B11: {=_xlfn.LET(_xlpm.x,UPPER(Tableau37[[#This Row],[Material]]),_xlfn.IFS(LEFT(_xlpm.x,3)="ADX",0,LEFT(_xlpm.x,3)="ALU",1,LEFT(_xlpm.x,4)="INOX",2,TRUE,""))} -> 0 | C11: 30 | D11: 2 | H11: 0.552 | I11: 0.578 | J11: 0.604 | K11: 0.63 | L11: 0.658 | M11: 0.684 | N11: 0.71 | O11: 0.676 | P11: 0.868 | Q11: 0.972
A12: ADX1 | B12: {=_xlfn.LET(_xlpm.x,UPPER(Tableau37[[#This Row],[Material]]),_xlfn.IFS(LEFT(_xlpm.x,3)="ADX",0,LEFT(_xlpm.x,3)="ALU",1,LEFT(_xlpm.x,4)="INOX",2,TRUE,""))} -> 0 | C12: 30 | D12: 2.5 | J12: 0.726 | K12: 0.752 | L12: 0.778 | M12: 0.804 | N12: 0.832 | O12: 0.896 | P12: 0.99 | Q12: 1.094 | R12: 1.226 | S12: 1.398
A13: ADX1 | B13: {=_xlfn.LET(_xlpm.x,UPPER(Tableau37[[#This Row],[Material]]),_xlfn.IFS(LEFT(_xlpm.x,3)="ADX",0,LEFT(_xlpm.x,3)="ALU",1,LEFT(_xlpm.x,4)="INOX",2,TRUE,""))} -> 0 | C13: 30 | D13: 3 | J13: 0.834 | K13: 0.86 | L13: 0.884 | M13: 0.91 | N13: 0.936 | O13: 1 | P13: 1.09 | Q13: 1.192 | R13: 1.32 | S13: 1.486
A14: ADX1 | B14: {=_xlfn.LET(_xlpm.x,UPPER(Tableau37[[#This Row],[Material]]),_xlfn.IFS(LEFT(_xlpm.x,3)="ADX",0,LEFT(_xlpm.x,3)="ALU",1,LEFT(_xlpm.x,4)="INOX",2,TRUE,""))} -> 0 | C14: 30 | D14: 4 | L14: 1.116 | M14: 1.142 | N14: 1.168 | O14: 1.232 | P14: 1.322 | Q14: 1.424 | R14: 1.552 | S14: 1.718 | T14: 1.936 | U14: 2.192 | V14: 2.512
A15: ADX1 | B15: {=_xlfn.LET(_xlpm.x,UPPER(Tableau37[[#This Row],[Material]]),_xlfn.IFS(LEFT(_xlpm.x,3)="ADX",0,LEFT(_xlpm.x,3)="ALU",1,LEFT(_xlpm.x,4)="INOX",2,TRUE,""))} -> 0 | C15: 30 | D15: 5 | O15: 1.46 | P15: 1.55 | Q15: 1.652 | R15: 1.78 | S15: 1.946 | T15: 2.164 | U15: 2.42 | V15: 2.74
A16: ADX1 | B16: {=_xlfn.LET(_xlpm.x,UPPER(Tableau37[[#This Row],[Material]]),_xlfn.IFS(LEFT(_xlpm.x,3)="ADX",0,LEFT(_xlpm.x,3)="ALU",1,LEFT(_xlpm.x,4)="INOX",2,TRUE,""))} -> 0 | C16: 30 | D16: 6 | R16: 2.008 | S16: 2.174 | T16: 2.392 | U16: 2.648 | V16: 2.968
A17: ADX1 | B17: {=_xlfn.LET(_xlpm.x,UPPER(Tableau37[[#This Row],[Material]]),_xlfn.IFS(LEFT(_xlpm.x,3)="ADX",0,LEFT(_xlpm.x,3)="ALU",1,LEFT(_xlpm.x,4)="INOX",2,TRUE,""))} -> 0 | C17: 30 | D17: 8 | S17: 2.63 | T17: 2.848 | U17: 3.104 | V17: 3.424
A18: ADX1 | B18: {=_xlfn.LET(_xlpm.x,UPPER(Tableau37[[#This Row],[Material]]),_xlfn.IFS(LEFT(_xlpm.x,3)="ADX",0,LEFT(_xlpm.x,3)="ALU",1,LEFT(_xlpm.x,4)="INOX",2,TRUE,""))} -> 0 | C18: 30 | D18: 12 | T18: 3.762 | U18: 4.018 | V18: 4.338
A19: ADX1 | B19: {=_xlfn.LET(_xlpm.x,UPPER(Tableau37[[#This Row],[Material]]),_xlfn.IFS(LEFT(_xlpm.x,3)="ADX",0,LEFT(_xlpm.x,3)="ALU",1,LEFT(_xlpm.x,4)="INOX",2,TRUE,""))} -> 0 | C19: 30 | D19: 15 | V19: 5.022
A20: ADX1 | B20: {=_xlfn.LET(_xlpm.x,UPPER(Tableau37[[#This Row],[Material]]),_xlfn.IFS(LEFT(_xlpm.x,3)="ADX",0,LEFT(_xlpm.x,3)="ALU",1,LEFT(_xlpm.x,4)="INOX",2,TRUE,""))} -> 0 | C20: 30 | D20: 20 | V20: 6.162
A21: ADX1 | B21: {=_xlfn.LET(_xlpm.x,UPPER(Tableau37[[#This Row],[Material]]),_xlfn.IFS(LEFT(_xlpm.x,3)="ADX",0,LEFT(_xlpm.x,3)="ALU",1,LEFT(_xlpm.x,4)="INOX",2,TRUE,""))} -> 0 | C21: 30 | D21: 25 | V21: 7.304
A22: ADX1 | B22: {=_xlfn.LET(_xlpm.x,UPPER(Tableau37[[#This Row],[Material]]),_xlfn.IFS(LEFT(_xlpm.x,3)="ADX",0,LEFT(_xlpm.x,3)="ALU",1,LEFT(_xlpm.x,4)="INOX",2,TRUE,""))} -> 0 | C22: 30 | D22: 30 | V22: 8.444
A23: ADX1 | B23: {=_xlfn.LET(_xlpm.x,UPPER(Tableau37[[#This Row],[Material]]),_xlfn.IFS(LEFT(_xlpm.x,3)="ADX",0,LEFT(_xlpm.x,3)="ALU",1,LEFT(_xlpm.x,4)="INOX",2,TRUE,""))} -> 0 | C23: 45 | D23: 0.5 | E23: 0.254 | F23: 0.412 | G23: 0.44 | H23: 0.468 | I23: 0.526 | J23: 0.584
A24: ADX1 | B24: {=_xlfn.LET(_xlpm.x,UPPER(Tableau37[[#This Row],[Material]]),_xlfn.IFS(LEFT(_xlpm.x,3)="ADX",0,LEFT(_xlpm.x,3)="ALU",1,LEFT(_xlpm.x,4)="INOX",2,TRUE,""))} -> 0 | C24: 45 | D24: 0.8 | E24: 0.498 | F24: 0.556 | G24: 0.584 | H24: 0.612 | I24: 0.67 | J24: 0.728 | K24: 0.784 | L24: 0.842
A25: ADX1 | B25: {=_xlfn.LET(_xlpm.x,UPPER(Tableau37[[#This Row],[Material]]),_xlfn.IFS(LEFT(_xlpm.x,3)="ADX",0,LEFT(_xlpm.x,3)="ALU",1,LEFT(_xlpm.x,4)="INOX",2,TRUE,""))} -> 0 | C25: 45 | D25: 1 | E25: 0.594 | F25: 0.652 | G25: 0.68 | H25: 0.708 | I25: 0.766 | J25: 0.824 | K25: 0.88 | L25: 0.938 | M25: 0.996 | N25: 1.052
A26: ADX1 | B26: {=_xlfn.LET(_xlpm.x,UPPER(Tableau37[[#This Row],[Material]]),_xlfn.IFS(LEFT(_xlpm.x,3)="ADX",0,LEFT(_xlpm.x,3)="ALU",1,LEFT(_xlpm.x,4)="INOX",2,TRUE,""))} -> 0 | C26: 45 | D26: 1.2 | F26: 0.748 | G26: 0.776 | H26: 0.804 | I26: 0.862 | J26: 0.92 | K26: 0.976 | L26: 1.034 | M26: 1.092 | N26: 1.148 | O26: 1.292
A27: ADX1 | B27: {=_xlfn.LET(_xlpm.x,UPPER(Tableau37[[#This Row],[Material]]),_xlfn.IFS(LEFT(_xlpm.x,3)="ADX",0,LEFT(_xlpm.x,3)="ALU",1,LEFT(_xlpm.x,4)="INOX",2,TRUE,""))} -> 0 | C27: 45 | D27: 1.5 | H27: 0.926 | I27: 0.992 | J27: 1.048 | K27: 1.104 | L27: 1.16 | M27: 1.216 | N27: 1.272 | O27: 1.412 | P27: 1.608
A28: ADX1 | B28: {=_xlfn.LET(_xlpm.x,UPPER(Tableau37[[#This Row],[Material]]),_xlfn.IFS(LEFT(_xlpm.x,3)="ADX",0,LEFT(_xlpm.x,3)="ALU",1,LEFT(_xlpm.x,4)="INOX",2,TRUE,""))} -> 0 | C28: 45 | D28: 2 | H28: 1.174 | I28: 1.23 | J28: 1.286 | K28: 1.342 | L28: 1.398 | M28: 1.454 | N28: 1.51 | O28: 1.648 | P28: 1.844 | Q28: 2.068
A29: ADX1 | B29: {=_xlfn.LET(_xlpm.x,UPPER(Tableau37[[#This Row],[Material]]),_xlfn.IFS(LEFT(_xlpm.x,3)="ADX",0,LEFT(_xlpm.x,3)="ALU",1,LEFT(_xlpm.x,4)="INOX",2,TRUE,""))} -> 0 | C29: 45 | D29: 2.5 | J29: 1.544 | K29: 1.6 | L29: 1.656 | M29: 1.712 | N29: 1.768 | O29: 1.908 | P29: 2.102 | Q29: 2.326 | R29: 2.606 | S29: 2.97
A30: ADX1 | B30: {=_xlfn.LET(_xlpm.x,UPPER(Tableau37[[#This Row],[Material]]),_xlfn.IFS(LEFT(_xlpm.x,3)="ADX",0,LEFT(_xlpm.x,3)="ALU",1,LEFT(_xlpm.x,4)="INOX",2,TRUE,""))} -> 0 | C30: 45 | D30: 3 | J30: 1.772 | K30: 1.828 | L30: 1.882 | M30: 1.936 | N30: 1.99 | O30: 2.126 | P30: 2.318 | Q30: 2.534 | R30: 2.806 | S30: 3.16
A31: ADX1 | B31: {=_xlfn.LET(_xlpm.x,UPPER(Tableau37[[#This Row],[Material]]),_xlfn.IFS(LEFT(_xlpm.x,3)="ADX",0,LEFT(_xlpm.x,3)="ALU",1,LEFT(_xlpm.x,4)="INOX",2,TRUE,""))} -> 0 | C31: 45 | D31: 4 | L31: 2.374 | M31: 2.428 | N31: 2.482 | O31: 2.618 | P31: 2.808 | Q31: 3.026 | R31: 3.298 | S31: 3.652 | T31: 4.114 | U31: 4.658 | V31: 5.34
A32: ADX1 | B32: {=_xlfn.LET(_xlpm.x,UPPER(Tableau37[[#This Row],[Material]]),_xlfn.IFS(LEFT(_xlpm.x,3)="ADX",0,LEFT(_xlpm.x,3)="ALU",1,LEFT(_xlpm.x,4)="INOX",2,TRUE,""))} -> 0 | C32: 45 | D32: 5 | O32: 3.104 | P32: 3.294 | Q32: 3.512 | R32: 3.784 | S32: 4.138 | T32: 4.6 | U32: 5.144 | V32: 5.824
A33: ADX1 | B33: {=_xlfn.LET(_xlpm.x,UPPER(Tableau37[[#This Row],[Material]]),_xlfn.IFS(LEFT(_xlpm.x,3)="ADX",0,LEFT(_xlpm.x,3)="ALU",1,LEFT(_xlpm.x,4)="INOX",2,TRUE,""))} -> 0 | C33: 45 | D33: 6 | R33: 4.268 | S33: 4.622 | T33: 5.84 | U33: 5.628 | V33: 6.308
A34: ADX1 | B34: {=_xlfn.LET(_xlpm.x,UPPER(Tableau37[[#This Row],[Material]]),_xlfn.IFS(LEFT(_xlpm.x,3)="ADX",0,LEFT(_xlpm.x,3)="ALU",1,LEFT(_xlpm.x,4)="INOX",2,TRUE,""))} -> 0 | C34: 45 | D34: 8 | S34: 5.592 | T34: 6.054 | U34: 6.598 | V34: 7.272
A35: ADX1 | B35: {=_xlfn.LET(_xlpm.x,UPPER(Tableau37[[#This Row],[Material]]),_xlfn.IFS(LEFT(_xlpm.x,3)="ADX",0,LEFT(_xlpm.x,3)="ALU",1,LEFT(_xlpm.x,4)="INOX",2,TRUE,""))} -> 0 | C35: 45 | D35: 12 | T35: 7.994 | U35: 8.538 | V35: 9.218
A36: ADX1 | B36: {=_xlfn.LET(_xlpm.x,UPPER(Tableau37[[#This Row],[Material]]),_xlfn.IFS(LEFT(_xlpm.x,3)="ADX",0,LEFT(_xlpm.x,3)="ALU",1,LEFT(_xlpm.x,4)="INOX",2,TRUE,""))} -> 0 | C36: 45 | D36: 15 | V36: 10.672
A37: ADX1 | B37: {=_xlfn.LET(_xlpm.x,UPPER(Tableau37[[#This Row],[Material]]),_xlfn.IFS(LEFT(_xlpm.x,3)="ADX",0,LEFT(_xlpm.x,3)="ALU",1,LEFT(_xlpm.x,4)="INOX",2,TRUE,""))} -> 0 | C37: 45 | D37: 20 | V37: 13.096
A38: ADX1 | B38: {=_xlfn.LET(_xlpm.x,UPPER(Tableau37[[#This Row],[Material]]),_xlfn.IFS(LEFT(_xlpm.x,3)="ADX",0,LEFT(_xlpm.x,3)="ALU",1,LEFT(_xlpm.x,4)="INOX",2,TRUE,""))} -> 0 | C38: 45 | D38: 25 | V38: 15.52
A39: ADX1 | B39: {=_xlfn.LET(_xlpm.x,UPPER(Tableau37[[#This Row],[Material]]),_xlfn.IFS(LEFT(_xlpm.x,3)="ADX",0,LEFT(_xlpm.x,3)="ALU",1,LEFT(_xlpm.x,4)="INOX",2,TRUE,""))} -> 0 | C39: 45 | D39: 30 | V39: 17.944
A40: ADX1 | B40: {=_xlfn.LET(_xlpm.x,UPPER(Tableau37[[#This Row],[Material]]),_xlfn.IFS(LEFT(_xlpm.x,3)="ADX",0,LEFT(_xlpm.x,3)="ALU",1,LEFT(_xlpm.x,4)="INOX",2,TRUE,""))} -> 0 | C40: 60 | D40: 0.5 | E40: 0.552 | F40: 0.642 | G40: 0.686 | H40: 0.732 | I40: 0.82 | J40: 0.91
A41: ADX1 | B41: {=_xlfn.LET(_xlpm.x,UPPER(Tableau37[[#This Row],[Material]]),_xlfn.IFS(LEFT(_xlpm.x,3)="ADX",0,LEFT(_xlpm.x,3)="ALU",1,LEFT(_xlpm.x,4)="INOX",2,TRUE,""))} -> 0 | C41: 60 | D41: 0.8 | E41: 0.796 | F41: 0.866 | G41: 0.912 | H41: 0.956 | I41: 1.046 | J41: 1.134 | K41: 1.224 | L41: 1.314
A42: ADX1 | B42: {=_xlfn.LET(_xlpm.x,UPPER(Tableau37[[#This Row],[Material]]),_xlfn.IFS(LEFT(_xlpm.x,3)="ADX",0,LEFT(_xlpm.x,3)="ALU",1,LEFT(_xlpm.x,4)="INOX",2,TRUE,""))} -> 0 | C42: 60 | D42: 1 | E42: 0.926 | F42: 1.016 | G42: 1.062 | H42: 1.106 | I42: 1.196 | J42: 1.284 | K42: 1.374 | L42: 1.464 | M42: 1.554 | N42: 1.642
A43: ADX1 | B43: {=_xlfn.LET(_xlpm.x,UPPER(Tableau37[[#This Row],[Material]]),_xlfn.IFS(LEFT(_xlpm.x,3)="ADX",0,LEFT(_xlpm.x,3)="ALU",1,LEFT(_xlpm.x,4)="INOX",2,TRUE,""))} -> 0 | C43: 60 | D43: 1.2 | F43: 1.166 | G43: 1.21 | H43: 1.256 | I43: 1.346 | J43: 1.434 | K43: 1.524 | L43: 1.524 | M43: 1.614 | N43: 1.792 | O43: 2.016
A44: ADX1 | B44: {=_xlfn.LET(_xlpm.x,UPPER(Tableau37[[#This Row],[Material]]),_xlfn.IFS(LEFT(_xlpm.x,3)="ADX",0,LEFT(_xlpm.x,3)="ALU",1,LEFT(_xlpm.x,4)="INOX",2,TRUE,""))} -> 0 | C44: 60 | D44: 1.5 | H44: 1.46 | I44: 1.548 | J44: 1.636 | K44: 1.722 | L44: 1.81 | M44: 1.896 | N44: 1.984 | O44: 2.202 | P44: 2.508
A45: ADX1 | B45: {=_xlfn.LET(_xlpm.x,UPPER(Tableau37[[#This Row],[Material]]),_xlfn.IFS(LEFT(_xlpm.x,3)="ADX",0,LEFT(_xlpm.x,3)="ALU",1,LEFT(_xlpm.x,4)="INOX",2,TRUE,""))} -> 0 | C45: 60 | D45: 2 | H45: 1.832 | I45: 1.918 | J45: 2.006 | K45: 2.094 | L45: 2.18 | M45: 2.268 | N45: 2.356 | O45: 2.574 | P45: 2.878 | Q45: 3.228
A46: ADX1 | B46: {=_xlfn.LET(_xlpm.x,UPPER(Tableau37[[#This Row],[Material]]),_xlfn.IFS(LEFT(_xlpm.x,3)="ADX",0,LEFT(_xlpm.x,3)="ALU",1,LEFT(_xlpm.x,4)="INOX",2,TRUE,""))} -> 0 | C46: 60 | D46: 2.5 | J46: 2.408 | K46: 2.496 | L46: 2.584 | M46: 2.67 | N46: 2.758 | O46: 2.976 | P46: 3.282 | Q46: 3.63 | R46: 4.066 | S46: 4.634
A47: ADX1 | B47: {=_xlfn.LET(_xlpm.x,UPPER(Tableau37[[#This Row],[Material]]),_xlfn.IFS(LEFT(_xlpm.x,3)="ADX",0,LEFT(_xlpm.x,3)="ALU",1,LEFT(_xlpm.x,4)="INOX",2,TRUE,""))} -> 0 | C47: 60 | D47: 3 | J47: 2.766 | K47: 2.852 | L47: 2.936 | M47: 3.022 | N47: 3.106 | O47: 3.318 | P47: 3.616 | Q47: 3.956 | R47: 4.38 | S47: 4.932
A48: ADX1 | B48: {=_xlfn.LET(_xlpm.x,UPPER(Tableau37[[#This Row],[Material]]),_xlfn.IFS(LEFT(_xlpm.x,3)="ADX",0,LEFT(_xlpm.x,3)="ALU",1,LEFT(_xlpm.x,4)="INOX",2,TRUE,""))} -> 0 | C48: 60 | D48: 4 | L48: 3.704 | M48: 3.788 | N48: 3.874 | O48: 4.086 | P48: 4.382 | Q48: 4.722 | R48: 5.146 | S48: 5.698 | T48: 6.42 | U48: 7.27 | V48: 8.33
A49: ADX1 | B49: {=_xlfn.LET(_xlpm.x,UPPER(Tableau37[[#This Row],[Material]]),_xlfn.IFS(LEFT(_xlpm.x,3)="ADX",0,LEFT(_xlpm.x,3)="ALU",1,LEFT(_xlpm.x,4)="INOX",2,TRUE,""))} -> 0 | C49: 60 | D49: 5 | O49: 4.842 | P49: 5.14 | Q49: 5.478 | R49: 5.904 | S49: 6.456 | T49: 7.176 | U49: 8.026 | V49: 9.086
A50: ADX1 | B50: {=_xlfn.LET(_xlpm.x,UPPER(Tableau37[[#This Row],[Material]]),_xlfn.IFS(LEFT(_xlpm.x,3)="ADX",0,LEFT(_xlpm.x,3)="ALU",1,LEFT(_xlpm.x,4)="INOX",2,TRUE,""))} -> 0 | C50: 60 | D50: 6 | R50: 6.66 | S50: 7.212 | T50: 7.934 | U50: 8.782 | V50: 12.472
A51: ADX1 | B51: {=_xlfn.LET(_xlpm.x,UPPER(Tableau37[[#This Row],[Material]]),_xlfn.IFS(LEFT(_xlpm.x,3)="ADX",0,LEFT(_xlpm.x,3)="ALU",1,LEFT(_xlpm.x,4)="INOX",2,TRUE,""))} -> 0 | C51: 60 | D51: 8 | S51: 8.724 | T51: 9.446 | U51: 10.294 | V51: 11.356
A52: ADX1 | B52: {=_xlfn.LET(_xlpm.x,UPPER(Tableau37[[#This Row],[Material]]),_xlfn.IFS(LEFT(_xlpm.x,3)="ADX",0,LEFT(_xlpm.x,3)="ALU",1,LEFT(_xlpm.x,4)="INOX",2,TRUE,""))} -> 0 | C52: 60 | D52: 12 | T52: 12.472 | U52: 13.32 | V52: 14.382
A53: ADX1 | B53: {=_xlfn.LET(_xlpm.x,UPPER(Tableau37[[#This Row],[Material]]),_xlfn.IFS(LEFT(_xlpm.x,3)="ADX",0,LEFT(_xlpm.x,3)="ALU",1,LEFT(_xlpm.x,4)="INOX",2,TRUE,""))} -> 0 | C53: 60 | D53: 15 | V53: 16.65
A54: ADX1 | B54: {=_xlfn.LET(_xlpm.x,UPPER(Tableau37[[#This Row],[Material]]),_xlfn.IFS(LEFT(_xlpm.x,3)="ADX",0,LEFT(_xlpm.x,3)="ALU",1,LEFT(_xlpm.x,4)="INOX",2,TRUE,""))} -> 0 | C54: 60 | D54: 20 | V54: 20.432
A55: ADX1 | B55: {=_xlfn.LET(_xlpm.x,UPPER(Tableau37[[#This Row],[Material]]),_xlfn.IFS(LEFT(_xlpm.x,3)="ADX",0,LEFT(_xlpm.x,3)="ALU",1,LEFT(_xlpm.x,4)="INOX",2,TRUE,""))} -> 0 | C55: 60 | D55: 25 | V55: 24.214
A56: ADX1 | B56: {=_xlfn.LET(_xlpm.x,UPPER(Tableau37[[#This Row],[Material]]),_xlfn.IFS(LEFT(_xlpm.x,3)="ADX",0,LEFT(_xlpm.x,3)="ALU",1,LEFT(_xlpm.x,4)="INOX",2,TRUE,""))} -> 0 | C56: 60 | D56: 30 | V56: 27.996
A57: ADX1 | B57: {=_xlfn.LET(_xlpm.x,UPPER(Tableau37[[#This Row],[Material]]),_xlfn.IFS(LEFT(_xlpm.x,3)="ADX",0,LEFT(_xlpm.x,3)="ALU",1,LEFT(_xlpm.x,4)="INOX",2,TRUE,""))} -> 0 | C57: 90 | D57: 0.5 | E57: 0.948 | F57: 1.1 | G57: 1.178 | H57: 1.254 | I57: 1.408 | J57: 1.56
A58: ADX1 | B58: {=_xlfn.LET(_xlpm.x,UPPER(Tableau37[[#This Row],[Material]]),_xlfn.IFS(LEFT(_xlpm.x,3)="ADX",0,LEFT(_xlpm.x,3)="ALU",1,LEFT(_xlpm.x,4)="INOX",2,TRUE,""))} -> 0 | C58: 90 | D58: 0.8 | E58: 1.332 | F58: 1.486 | G58: 1.562 | H58: 1.64 | I58: 1.79 | J58: 1.946 | K58: 2.098 | L58: 2.252
A59: ADX1 | B59: {=_xlfn.LET(_xlpm.x,UPPER(Tableau37[[#This Row],[Material]]),_xlfn.IFS(LEFT(_xlpm.x,3)="ADX",0,LEFT(_xlpm.x,3)="ALU",1,LEFT(_xlpm.x,4)="INOX",2,TRUE,""))} -> 0 | C59: 90 | D59: 1 | E59: 1.59 | F59: 1.742 | G59: 1.82 | H59: 1.896 | I59: 2.05 | J59: 2.022 | K59: 2.356 | L59: 2.51 | M59: 2.662 | N59: 2.816
A60: ADX1 | B60: {=_xlfn.LET(_xlpm.x,UPPER(Tableau37[[#This Row],[Material]]),_xlfn.IFS(LEFT(_xlpm.x,3)="ADX",0,LEFT(_xlpm.x,3)="ALU",1,LEFT(_xlpm.x,4)="INOX",2,TRUE,""))} -> 0 | C60: 90 | D60: 1.2 | F60: 2 | G60: 2.076 | H60: 2.152 | I60: 2.306 | J60: 2.46 | K60: 2.612 | L60: 2.766 | M60: 2.92 | N60: 3.072 | O60: 3.056
A61: ADX1 | B61: {=_xlfn.LET(_xlpm.x,UPPER(Tableau37[[#This Row],[Material]]),_xlfn.IFS(LEFT(_xlpm.x,3)="ADX",0,LEFT(_xlpm.x,3)="ALU",1,LEFT(_xlpm.x,4)="INOX",2,TRUE,""))} -> 0 | C61: 90 | D61: 1.5 | H61: 3.05 | I61: 2.654 | J61: 2.804 | K61: 2.952 | L61: 3.102 | M61: 3.252 | N61: 3.402 | O61: 3.776 | P61: 4.298
A62: ADX1 | B62: {=_xlfn.LET(_xlpm.x,UPPER(Tableau37[[#This Row],[Material]]),_xlfn.IFS(LEFT(_xlpm.x,3)="ADX",0,LEFT(_xlpm.x,3)="ALU",1,LEFT(_xlpm.x,4)="INOX",2,TRUE,""))} -> 0 | C62: 90 | D62: 2 | H62: 3.14 | I62: 3.29 | J62: 3.438 | K62: 3.588 | L62: 3.738 | M62: 3.888 | N62: 4.036 | O62: 4.41 | P62: 4.934 | Q62: 5.532
A63: ADX1 | B63: {=_xlfn.LET(_xlpm.x,UPPER(Tableau37[[#This Row],[Material]]),_xlfn.IFS(LEFT(_xlpm.x,3)="ADX",0,LEFT(_xlpm.x,3)="ALU",1,LEFT(_xlpm.x,4)="INOX",2,TRUE,""))} -> 0 | C63: 90 | D63: 2.5 | J63: 4.13 | K63: 4.278 | L63: 4.428 | M63: 4.578 | N63: 4.728 | O63: 5.102 | P63: 5.624 | Q63: 6.222 | R63: 6.97 | S63: 7.942
A64: ADX1 | B64: {=_xlfn.LET(_xlpm.x,UPPER(Tableau37[[#This Row],[Material]]),_xlfn.IFS(LEFT(_xlpm.x,3)="ADX",0,LEFT(_xlpm.x,3)="ALU",1,LEFT(_xlpm.x,4)="INOX",2,TRUE,""))} -> 0 | C64: 90 | D64: 3 | J64: 4.742 | K64: 4.888 | L64: 5.032 | M64: 5.178 | N64: 5.324 | O64: 5.688 | P64: 6.196 | Q64: 6.778 | R64: 7.506 | S64: 8.452
A65: ADX1 | B65: {=_xlfn.LET(_xlpm.x,UPPER(Tableau37[[#This Row],[Material]]),_xlfn.IFS(LEFT(_xlpm.x,3)="ADX",0,LEFT(_xlpm.x,3)="ALU",1,LEFT(_xlpm.x,4)="INOX",2,TRUE,""))} -> 0 | C65: 90 | D65: 4 | L65: 6.348 | M65: 6.494 | N65: 6.64 | O65: 7.002 | P65: 7.512 | Q65: 8.054 | R65: 8.822 | S65: 9.768 | T65: 11.004 | U65: 12.458 | V65: 14.278
A66: ADX1 | B66: {=_xlfn.LET(_xlpm.x,UPPER(Tableau37[[#This Row],[Material]]),_xlfn.IFS(LEFT(_xlpm.x,3)="ADX",0,LEFT(_xlpm.x,3)="ALU",1,LEFT(_xlpm.x,4)="INOX",2,TRUE,""))} -> 0 | C66: 90 | D66: 5 | O66: 8.3 | P66: 8.808 | Q66: 9.39 | R66: 10.118 | S66: 11.064 | T66: 12.3 | U66: 13.756 | V66: 15.574
A67: ADX1 | B67: {=_xlfn.LET(_xlpm.x,UPPER(Tableau37[[#This Row],[Material]]),_xlfn.IFS(LEFT(_xlpm.x,3)="ADX",0,LEFT(_xlpm.x,3)="ALU",1,LEFT(_xlpm.x,4)="INOX",2,TRUE,""))} -> 0 | C67: 90 | D67: 6 | R67: 11.414 | S67: 12.36 | T67: 13.596 | U67: 15.052 | V67: 16.87
A68: ADX1 | B68: {=_xlfn.LET(_xlpm.x,UPPER(Tableau37[[#This Row],[Material]]),_xlfn.IFS(LEFT(_xlpm.x,3)="ADX",0,LEFT(_xlpm.x,3)="ALU",1,LEFT(_xlpm.x,4)="INOX",2,TRUE,""))} -> 0 | C68: 90 | D68: 8 | S68: 14.952 | T68: 16.188 | U68: 17.644 | V68: 19.462
A69: ADX1 | B69: {=_xlfn.LET(_xlpm.x,UPPER(Tableau37[[#This Row],[Material]]),_xlfn.IFS(LEFT(_xlpm.x,3)="ADX",0,LEFT(_xlpm.x,3)="ALU",1,LEFT(_xlpm.x,4)="INOX",2,TRUE,""))} -> 0 | C69: 90 | D69: 12 | T69: 21.374 | U69: 22.83 | V69: 24.648
A70: ADX1 | B70: {=_xlfn.LET(_xlpm.x,UPPER(Tableau37[[#This Row],[Material]]),_xlfn.IFS(LEFT(_xlpm.x,3)="ADX",0,LEFT(_xlpm.x,3)="ALU",1,LEFT(_xlpm.x,4)="INOX",2,TRUE,""))} -> 0 | C70: 90 | D70: 15 | V70: 28.536
A71: ADX1 | B71: {=_xlfn.LET(_xlpm.x,UPPER(Tableau37[[#This Row],[Material]]),_xlfn.IFS(LEFT(_xlpm.x,3)="ADX",0,LEFT(_xlpm.x,3)="ALU",1,LEFT(_xlpm.x,4)="INOX",2,TRUE,""))} -> 0 | C71: 90 | D71: 20 | V71: 35.018
A72: ADX1 | B72: {=_xlfn.LET(_xlpm.x,UPPER(Tableau37[[#This Row],[Material]]),_xlfn.IFS(LEFT(_xlpm.x,3)="ADX",0,LEFT(_xlpm.x,3)="ALU",1,LEFT(_xlpm.x,4)="INOX",2,TRUE,""))} -> 0 | C72: 90 | D72: 25 | V72: 41.5
A73: ADX1 | B73: {=_xlfn.LET(_xlpm.x,UPPER(Tableau37[[#This Row],[Material]]),_xlfn.IFS(LEFT(_xlpm.x,3)="ADX",0,LEFT(_xlpm.x,3)="ALU",1,LEFT(_xlpm.x,4)="INOX",2,TRUE,""))} -> 0 | C73: 90 | D73: 30 | V73: 47.98
A74: ADX1 | B74: {=_xlfn.LET(_xlpm.x,UPPER(Tableau37[[#This Row],[Material]]),_xlfn.IFS(LEFT(_xlpm.x,3)="ADX",0,LEFT(_xlpm.x,3)="ALU",1,LEFT(_xlpm.x,4)="INOX",2,TRUE,""))} -> 0 | C74: 120 | D74: 0.5 | E74: 0.466 | F74: 0.542 | G74: 0.578 | H74: 0.618 | I74: 0.692 | J74: 0.768
A75: ADX1 | B75: {=_xlfn.LET(_xlpm.x,UPPER(Tableau37[[#This Row],[Material]]),_xlfn.IFS(LEFT(_xlpm.x,3)="ADX",0,LEFT(_xlpm.x,3)="ALU",1,LEFT(_xlpm.x,4)="INOX",2,TRUE,""))} -> 0 | C75: 120 | D75: 0.8 | E75: 0.656 | F75: 0.73 | G75: 0.768 | H75: 0.806 | I75: 0.882 | J75: 0.956 | K75: 1.032 | L75: 1.108
A76: ADX1 | B76: {=_xlfn.LET(_xlpm.x,UPPER(Tableau37[[#This Row],[Material]]),_xlfn.IFS(LEFT(_xlpm.x,3)="ADX",0,LEFT(_xlpm.x,3)="ALU",1,LEFT(_xlpm.x,4)="INOX",2,TRUE,""))} -> 0 | C76: 120 | D76: 1 | E76: 0.792 | F76: 0.856 | G76: 0.894 | H76: 0.932 | I76: 1.008 | J76: 1.084 | K76: 1.158 | L76: 1.234 | M76: 1.31 | N76: 1.384
A77: ADX1 | B77: {=_xlfn.LET(_xlpm.x,UPPER(Tableau37[[#This Row],[Material]]),_xlfn.IFS(LEFT(_xlpm.x,3)="ADX",0,LEFT(_xlpm.x,3)="ALU",1,LEFT(_xlpm.x,4)="INOX",2,TRUE,""))} -> 0 | C77: 120 | D77: 1.2 | F77: 0.584 | G77: 1.02 | H77: 1.058 | I77: 1.134 | J77: 1.21 | K77: 1.284 | L77: 1.36 | M77: 1.436 | N77: 1.512 | O77: 1.7
A78: ADX1 | B78: {=_xlfn.LET(_xlpm.x,UPPER(Tableau37[[#This Row],[Material]]),_xlfn.IFS(LEFT(_xlpm.x,3)="ADX",0,LEFT(_xlpm.x,3)="ALU",1,LEFT(_xlpm.x,4)="INOX",2,TRUE,""))} -> 0 | C78: 120 | D78: 1.5 | H78: 1.232 | I78: 1.304 | J78: 1.378 | K78: 1.452 | L78: 1.526 | M78: 1.6 | N78: 1.672 | O78: 1.856 | P78: 2.144
A79: ADX1 | B79: {=_xlfn.LET(_xlpm.x,UPPER(Tableau37[[#This Row],[Material]]),_xlfn.IFS(LEFT(_xlpm.x,3)="ADX",0,LEFT(_xlpm.x,3)="ALU",1,LEFT(_xlpm.x,4)="INOX",2,TRUE,""))} -> 0 | C79: 120 | D79: 2 | H79: 1.544 | I79: 1.618 | J79: 1.692 | K79: 1.764 | L79: 1.838 | M79: 1.912 | N79: 1.986 | O79: 2.17 | P79: 2.428 | Q79: 2.722
A80: ADX1 | B80: {=_xlfn.LET(_xlpm.x,UPPER(Tableau37[[#This Row],[Material]]),_xlfn.IFS(LEFT(_xlpm.x,3)="ADX",0,LEFT(_xlpm.x,3)="ALU",1,LEFT(_xlpm.x,4)="INOX",2,TRUE,""))} -> 0 | C80: 120 | D80: 2.5 | J80: 2.032 | K80: 2.104 | L80: 2.178 | M80: 2.252 | N80: 2.326 | O80: 2.51 | P80: 2.766 | Q80: 3.062 | R80: 3.43 | S80: 3.908
A81: ADX1 | B81: {=_xlfn.LET(_xlpm.x,UPPER(Tableau37[[#This Row],[Material]]),_xlfn.IFS(LEFT(_xlpm.x,3)="ADX",0,LEFT(_xlpm.x,3)="ALU",1,LEFT(_xlpm.x,4)="INOX",2,TRUE,""))} -> 0 | C81: 120 | D81: 3 | J81: 2.332 | K81: 2.404 | L81: 2.476 | M81: 2.548 | N81: 2.618 | O81: 2.798 | P81: 3.048 | Q81: 1.667 | R81: 3.692 | S81: 4.932
A82: ADX1 | B82: {=_xlfn.LET(_xlpm.x,UPPER(Tableau37[[#This Row],[Material]]),_xlfn.IFS(LEFT(_xlpm.x,3)="ADX",0,LEFT(_xlpm.x,3)="ALU",1,LEFT(_xlpm.x,4)="INOX",2,TRUE,""))} -> 0 | C82: 120 | D82: 4 | L82: 3.122 | M82: 3.194 | N82: 3.266 | O82: 3.44 | P82: 3.696 | Q82: 3.982 | R82: 4.34 | S82: 4.804 | T82: 5.414 | U82: 6.13 | V82: 7.024
A83: ADX1 | B83: {=_xlfn.LET(_xlpm.x,UPPER(Tableau37[[#This Row],[Material]]),_xlfn.IFS(LEFT(_xlpm.x,3)="ADX",0,LEFT(_xlpm.x,3)="ALU",1,LEFT(_xlpm.x,4)="INOX",2,TRUE,""))} -> 0 | C83: 120 | D83: 5 | O83: 4.082 | P83: 4.334 | Q83: 4.62 | R83: 4.978 | S83: 5.442 | T83: 6.052 | U83: 6.766 | V83: 7.662
A84: ADX1 | B84: {=_xlfn.LET(_xlpm.x,UPPER(Tableau37[[#This Row],[Material]]),_xlfn.IFS(LEFT(_xlpm.x,3)="ADX",0,LEFT(_xlpm.x,3)="ALU",1,LEFT(_xlpm.x,4)="INOX",2,TRUE,""))} -> 0 | C84: 120 | D84: 6 | R84: 5.616 | S84: 6.08 | T84: 6.688 | U84: 7.404 | V84: 8.3
A85: ADX1 | B85: {=_xlfn.LET(_xlpm.x,UPPER(Tableau37[[#This Row],[Material]]),_xlfn.IFS(LEFT(_xlpm.x,3)="ADX",0,LEFT(_xlpm.x,3)="ALU",1,LEFT(_xlpm.x,4)="INOX",2,TRUE,""))} -> 0 | C85: 120 | D85: 8 | S85: 7.356 | T85: 7.964 | U85: 8.68 | V85: 9.576
A86: ADX1 | B86: {=_xlfn.LET(_xlpm.x,UPPER(Tableau37[[#This Row],[Material]]),_xlfn.IFS(LEFT(_xlpm.x,3)="ADX",0,LEFT(_xlpm.x,3)="ALU",1,LEFT(_xlpm.x,4)="INOX",2,TRUE,""))} -> 0 | C86: 120 | D86: 12 | T86: 10.516 | U86: 11.232 | V86: 12.126
A87: ADX1 | B87: {=_xlfn.LET(_xlpm.x,UPPER(Tableau37[[#This Row],[Material]]),_xlfn.IFS(LEFT(_xlpm.x,3)="ADX",0,LEFT(_xlpm.x,3)="ALU",1,LEFT(_xlpm.x,4)="INOX",2,TRUE,""))} -> 0 | C87: 120 | D87: 15 | V87: 14.04
A88: ADX1 | B88: {=_xlfn.LET(_xlpm.x,UPPER(Tableau37[[#This Row],[Material]]),_xlfn.IFS(LEFT(_xlpm.x,3)="ADX",0,LEFT(_xlpm.x,3)="ALU",1,LEFT(_xlpm.x,4)="INOX",2,TRUE,""))} -> 0 | C88: 120 | D88: 20 | V88: 17.228
A89: ADX1 | B89: {=_xlfn.LET(_xlpm.x,UPPER(Tableau37[[#This Row],[Material]]),_xlfn.IFS(LEFT(_xlpm.x,3)="ADX",0,LEFT(_xlpm.x,3)="ALU",1,LEFT(_xlpm.x,4)="INOX",2,TRUE,""))} -> 0 | C89: 120 | D89: 25 | V89: 20.418
A90: ADX1 | B90: {=_xlfn.LET(_xlpm.x,UPPER(Tableau37[[#This Row],[Material]]),_xlfn.IFS(LEFT(_xlpm.x,3)="ADX",0,LEFT(_xlpm.x,3)="ALU",1,LEFT(_xlpm.x,4)="INOX",2,TRUE,""))} -> 0 | C90: 120 | D90: 30 | V90: 23.606
A91: ADX1 | B91: {=_xlfn.LET(_xlpm.x,UPPER(Tableau37[[#This Row],[Material]]),_xlfn.IFS(LEFT(_xlpm.x,3)="ADX",0,LEFT(_xlpm.x,3)="ALU",1,LEFT(_xlpm.x,4)="INOX",2,TRUE,""))} -> 0 | C91: 135 | D91: 0.5 | E91: 0.302 | F91: 0.35 | G91: 0.356 | H91: 0.398 | I91: 0.448 | J91: 0.496
A92: ADX1 | B92: {=_xlfn.LET(_xlpm.x,UPPER(Tableau37[[#This Row],[Material]]),_xlfn.IFS(LEFT(_xlpm.x,3)="ADX",0,LEFT(_xlpm.x,3)="ALU",1,LEFT(_xlpm.x,4)="INOX",2,TRUE,""))} -> 0 | C92: 135 | D92: 0.8 | E92: 0.424 | F92: 0.472 | G92: 0.496 | H92: 0.522 | I92: 0.57 | J92: 0.62 | K92: 0.668 | L92: 0.716
A93: ADX1 | B93: {=_xlfn.LET(_xlpm.x,UPPER(Tableau37[[#This Row],[Material]]),_xlfn.IFS(LEFT(_xlpm.x,3)="ADX",0,LEFT(_xlpm.x,3)="ALU",1,LEFT(_xlpm.x,4)="INOX",2,TRUE,""))} -> 0 | C93: 135 | D93: 1 | E93: 0.506 | F93: 0.554 | G93: 0.578 | H93: 0.604 | I93: 0.652 | J93: 0.7 | K93: 0.075 | L93: 0.798 | M93: 0.848 | N93: 0.894
A94: ADX1 | B94: {=_xlfn.LET(_xlpm.x,UPPER(Tableau37[[#This Row],[Material]]),_xlfn.IFS(LEFT(_xlpm.x,3)="ADX",0,LEFT(_xlpm.x,3)="ALU",1,LEFT(_xlpm.x,4)="INOX",2,TRUE,""))} -> 0 | C94: 135 | D94: 1.2 | F94: 0.636 | G94: 0.66 | H94: 0.684 | I94: 0.734 | J94: 0.782 | K94: 0.832 | L94: 0.88 | M94: 0.93 | N94: 0.978 | O94: 1.1
A95: ADX1 | B95: {=_xlfn.LET(_xlpm.x,UPPER(Tableau37[[#This Row],[Material]]),_xlfn.IFS(LEFT(_xlpm.x,3)="ADX",0,LEFT(_xlpm.x,3)="ALU",1,LEFT(_xlpm.x,4)="INOX",2,TRUE,""))} -> 0 | C95: 135 | D95: 1.5 | H95: 0.796 | I95: 0.844 | J95: 0.892 | K95: 0.94 | L95: 0.988 | M95: 1.034 | N95: 1.082 | O95: 1.202 | P95: 1.368
A96: ADX1 | B96: {=_xlfn.LET(_xlpm.x,UPPER(Tableau37[[#This Row],[Material]]),_xlfn.IFS(LEFT(_xlpm.x,3)="ADX",0,LEFT(_xlpm.x,3)="ALU",1,LEFT(_xlpm.x,4)="INOX",2,TRUE,""))} -> 0 | C96: 135 | D96: 2 | H96: 1 | I96: 1.046 | J96: 1.094 | K96: 1.142 | L96: 1.19 | M96: 1.238 | N96: 1.296 | O96: 1.404 | P96: 1.57 | Q96: 1.762
A97: ADX1 | B97: {=_xlfn.LET(_xlpm.x,UPPER(Tableau37[[#This Row],[Material]]),_xlfn.IFS(LEFT(_xlpm.x,3)="ADX",0,LEFT(_xlpm.x,3)="ALU",1,LEFT(_xlpm.x,4)="INOX",2,TRUE,""))} -> 0 | C97: 135 | D97: 2.5 | J97: 1.314 | K97: 1.362 | L97: 1.41 | M97: 1.458 | N97: 1.504 | O97: 1.624 | P97: 1.79 | Q97: 1.982 | R97: 2.2 | S97: 2.53
A98: ADX1 | B98: {=_xlfn.LET(_xlpm.x,UPPER(Tableau37[[#This Row],[Material]]),_xlfn.IFS(LEFT(_xlpm.x,3)="ADX",0,LEFT(_xlpm.x,3)="ALU",1,LEFT(_xlpm.x,4)="INOX",2,TRUE,""))} -> 0 | C98: 135 | D98: 3 | J98: 1.51 | K98: 1.556 | L98: 1.602 | M98: 1.648 | N98: 1.654 | O98: 1.81 | P98: 1.974 | Q98: 2.158 | R98: 2.39 | S98: 2.692
A99: ADX1 | B99: {=_xlfn.LET(_xlpm.x,UPPER(Tableau37[[#This Row],[Material]]),_xlfn.IFS(LEFT(_xlpm.x,3)="ADX",0,LEFT(_xlpm.x,3)="ALU",1,LEFT(_xlpm.x,4)="INOX",2,TRUE,""))} -> 0 | C99: 135 | D99: 4 | L99: 2.022 | M99: 2.068 | N99: 2.114 | O99: 2.23 | P99: 2.392 | Q99: 2.578 | R99: 2.808 | S99: 3.1 | T99: 3.504 | U99: 3.968 | V99: 4.546
A100: ADX1 | B100: {=_xlfn.LET(_xlpm.x,UPPER(Tableau37[[#This Row],[Material]]),_xlfn.IFS(LEFT(_xlpm.x,3)="ADX",0,LEFT(_xlpm.x,3)="ALU",1,LEFT(_xlpm.x,4)="INOX",2,TRUE,""))} -> 0 | C100: 135 | D100: 5 | O100: 2.642 | P100: 2.804 | Q100: 2.99 | R100: 3.222 | S100: 3.524 | T100: 3.916 | U100: 4.38 | V100: 4.96
...

Sheet pour csv
A1: 1 | B1: 2 | C1: 3 | D1: 4 | E1: 5 | F1: 6 | G1: 7 | H1: 8 | I1: 9 | J1: 10 | K1: 11 | L1: 12 | M1: 13 | N1: 14 | O1: 15 | P1: 16 | Q1: 17
A2: Material | B2: Thickness | C2: R | D2: Vopening | E2: RiR | F2: 0 | G2: 15 | H2: 30 | I2: 45 | J2: 60 | K2: 75 | L2: 90 | M2: 105 | N2: 120 | O2: 135 | P2: 150 | Q2: 165
A3: ADX1 | B3: 0.5 | C3: 1 | D3: 4 | E3: 0.7 | H3: 0.166 | I3: 0.254 | J3: 0.552 | L3: 0.948 | N3: 0.466 | O3: 0.302 | P3: 0.158
A4: ADX1 | B4: 0.5 | C4: 1 | D4: 6 | E4: 1 | H4: 0.192 | I4: 0.412 | J4: 0.642 | L4: 1.1 | N4: 0.542 | O4: 0.35 | P4: 0.182
A5: ADX1 | B5: 0.5 | C5: 1 | D5: 7 | E5: 1.1 | H5: 0.206 | I5: 0.44 | J5: 0.686 | L5: 1.178 | N5: 0.578 | O5: 0.356 | P5: 0.196
A6: ADX1 | B6: 0.5 | C6: 1 | D6: 8 | E6: 1.3 | H6: 0.22 | I6: 0.468 | J6: 0.732 | L6: 1.254 | N6: 0.618 | O6: 0.398 | P6: 0.208
A7: ADX1 | B7: 0.5 | C7: 1 | D7: 10 | E7: 1.6 | H7: 0.246 | I7: 0.526 | J7: 0.82 | L7: 1.408 | N7: 0.692 | O7: 0.448 | P7: 0.234
A8: ADX1 | B8: 0.5 | C8: 1 | D8: 12 | E8: 2 | H8: 0.274 | I8: 0.584 | J8: 0.91 | L8: 1.56 | N8: 0.768 | O8: 0.496 | P8: 0.26
A9: ADX1 | B9: 0.8 | C9: 1 | D9: 4 | E9: 0.7 | H9: 0.234 | I9: 0.498 | J9: 0.796 | L9: 1.332 | N9: 0.656 | O9: 0.424 | P9: 0.222
A10: ADX1 | B10: 0.8 | C10: 1 | D10: 6 | E10: 1 | H10: 0.26 | I10: 0.556 | J10: 0.866 | L10: 1.486 | N10: 0.73 | O10: 0.472 | P10: 0.248
A11: ADX1 | B11: 0.8 | C11: 1 | D11: 7 | E11: 1.1 | H11: 0.274 | I11: 0.584 | J11: 0.912 | L11: 1.562 | N11: 0.768 | O11: 0.496 | P11: 0.26
A12: ADX1 | B12: 0.8 | C12: 1 | D12: 8 | E12: 1.3 | H12: 0.288 | I12: 0.612 | J12: 0.956 | L12: 1.64 | N12: 0.806 | O12: 0.522 | P12: 0.272
A13: ADX1 | B13: 0.8 | C13: 1 | D13: 10 | E13: 1.6 | H13: 0.314 | I13: 0.67 | J13: 1.046 | L13: 1.79 | N13: 0.882 | O13: 0.57 | P13: 0.296
A14: ADX1 | B14: 0.8 | C14: 1 | D14: 12 | E14: 2 | H14: 0.342 | I14: 0.728 | J14: 1.134 | L14: 1.946 | N14: 0.956 | O14: 0.62 | P14: 0.324
... A297: ALU1 | B297: 4 | C297: 1 | D297: 100 | E297: 16 | H297: 1.694 | I297: 3.602 | J297: 5.62 | L297: 9.632 | N297: 4.474 | O297: 2.782 | P297: 2.006
A298: ALU1 | B298: 4 | C298: 1 | D298: 125 | E298: 20 | H298: 1.908 | I298: 4.056 | J298: 6.328 | L298: 10.844 | N298: 5.036 | O298: 3.314
A299: ALU1 | B299: 5 | C299: 1 | D299: 18 | E299: 3 | I299: z
A300: ALU1 | B300: 5 | C300: 1 | D300: 25 | E300: 4 | H300: 1.264 | I300: 2.688 | J300: 4.196 | L300: 7.19 | N300: 3.34 | O300: 2.078 | P300: 1.774
A301: ALU1 | B301: 5 | C301: 1 | D301: 32 | E301: 5 | H301: 1.324 | I301: 2.816 | J301: 4.196 | L301: 7.53 | N301: 3.498 | O301: 2.288 | P301: 1.892
A302: ALU1 | B302: 5 | C302: 1 | D302: 40 | E302: 6.5 | H302: 1.392 | I302: 2.96 | J302: 4.62 | L302: 7.918 | N302: 3.678 | O302: 2.288 | P302: 1.464
A303: ALU1 | B303: 5 | C303: 1 | D303: 50 | E303: 8 | H303: 1.478 | I303: 3.142 | J303: 4.902 | L303: 8.402 | N303: 3.902 | O303: 2.482 | P303: 1.554
A304: ALU1 | B304: 5 | C304: 1 | D304: 63 | E304: 10 | H304: 1.59 | I304: 3.378 | J304: 5.27 | L304: 9.034 | N304: 4.196 | O304: 2.61 | P304: 1.67
A305: ALU1 | B305: 5 | C305: 1 | D305: 80 | E305: 13 | H305: 0.867 | I305: 3.686 | J305: 5.752 | L305: 9.858 | N305: 4.578 | O305: 2.848 | P305: 1.822
A306: ALU1 | B306: 5 | C306: 1 | D306: 100 | E306: 16 | H306: 1.904 | I306: 4.048 | J306: 6.318 | L306: 10.828 | N306: 5.028 | O306: 3.128 | P306: 2.002
A307: ALU1 | B307: 5 | C307: 1 | D307: 125 | E307: 20 | H307: 2.118 | I307: 4.502 | J307: 7.024 | L307: 12.04 | N307: 5.592 | O307: 3.478 | P307: 2.226
A308: ALU1 | B308: 6 | C308: 1 | D308: 50 | E308: 8 | H308: 1.688 | I308: 3.59 | J308: 5.6 | L308: 9.598 | N308: 4.458 | O308: 2.774 | P308: 1.774
A309: ALU1 | B309: 6 | C309: 1 | D309: 63 | E309: 10 | H309: 1.8 | I309: 3.824 | J309: 5.968 | L309: 10.228 | N309: 4.75 | O309: 2.956 | P309: 1.892
A310: ALU1 | B310: 6 | C310: 1 | D310: 80 | E310: 13 | H310: 1.944 | I310: 4.134 | J310: 6.45 | L310: 11.054 | N310: 5.134 | O310: 3.194 | P310: 2.044
A311: ALU1 | B311: 6 | C311: 1 | D311: 100 | E311: 16 | H311: 2.116 | I311: 4.496 | J311: 7.016 | L311: 12.024 | N311: 5.584 | O311: 3.474 | P311: 2.224
... A407: INOX1 | B407: 4 | C407: 1 | D407: 125 | E407: 20 | H407: 3.3 | I407: 7.012 | J407: 10.942 | L407: 18.752 | N407: 8.166 | O407: 5.832 | P407: 3.506
A408: INOX1 | B408: 5 | C408: 1 | D408: 25 | E408: 4 | H408: 1.536 | J408: 5.094 | L408: 8.732 | N408: 3.802 | O408: 2.716 | P408: 1.632
A409: INOX1 | B409: 5 | C409: 1 | D409: 32 | E409: 5 | H409: 1.674 | I409: 3.558 | J409: 5.552 | L409: 9.516 | N409: 4.144 | O409: 2.958 | P409: 1.778
A410: INOX1 | B410: 5 | C410: 1 | D410: 40 | E410: 6.5 | H410: 1.832 | I410: 3.894 | J410: 6.076 | L410: 10.414 | N410: 4.534 | O410: 3.238 | P410: 1.946
A411: INOX1 | B411: 5 | C411: 1 | D411: 50 | E411: 8 | H411: 2.03 | I411: 4.314 | J411: 6.73 | L411: 11.534 | N411: 5.022 | O411: 3.586 | P411: 2.156
A412: INOX1 | B412: 5 | C412: 1 | D412: 63 | E412: 10 | H412: 2.286 | I412: 4.858 | J412: 7.58 | L412: 12.99 | N412: 5.656 | O412: 4.04 | P412: 2.4028
A413: INOX1 | B413: 5 | C413: 1 | D413: 80 | E413: 13 | H413: 2.62 | I413: 5.57 | J413: 8.692 | L413: 14.896 | N413: 6.486 | O413: 4.672 | P413: 2.784
A414: INOX1 | B414: 5 | C414: 1 | D414: 100 | E414: 16 | H414: 3.016 | I414: 6.408 | J414: 10 | L414: 17.136 | N414: 7.462 | O414: 5.328 | P414: 3.204
A415: INOX1 | B415: 5 | C415: 1 | D415: 125 | E415: 20 | H415: 3.508 | I415: 7.456 | J415: 11.634 | L415: 19.938 | N415: 8.682 | O415: 6.2 | P415: 3.728
A416: INOX1 | B416: 6 | C416: 1 | D416: 50 | E416: 8 | H416: 2.238 | I416: 4.756 | J416: 7.422 | L416: 12.72 | N416: 5.54 | O416: 3.956 | P416: 2.378
A417: INOX1 | B417: 6 | C417: 1 | D417: 63 | E417: 10 | H417: 2.494 | I417: 5.302 | J417: 4.272 | L417: 14.176 | N417: 6.174 | O417: 4.408 | P417: 2.65
A418: INOX1 | B418: 6 | C418: 1 | D418: 80 | E418: 13 | H418: 2.83 | I418: 6.014 | J418: 9.384 | L418: 16.082 | N418: 7.004 | O418: 5 | P418: 3.006
A419: INOX1 | B419: 6 | C419: 1 | D419: 100 | E419: 16 | H419: 3.224 | I419: 6.852 | J419: 10.10.692 | L419: 18.324 | N419: 7.98 | O419: 5.698 | P419: 3.426
A420: INOX1 | B420: 6 | C420: 1 | D420: 125 | E420: 20 | H420: 3.718 | I420: 7.9 | J420: 12.326 | L420: 21.124 | N420: 9.2 | O420: 6.57 | P420: 3.83
A421: INOX1 | B421: 8 | C421: 1 | D421: 63 | E421: 10 | H421: 2.912 | I421: 6.188 | J421: 9.648 | L421: 16.55 | N421: 7.206 | O421: 5.146 | P421: 3.094
A422: INOX1 | B422: 8 | C422: 1 | D422: 80 | E422: 13 | H422: 3.248 | I422: 6.902 | J422: 10.768 | L422: 18.454 | N422: 8.036 | O422: 5.738 | P422: 3.45
A423: INOX1 | B423: 8 | C423: 1 | D423: 100 | E423: 16 | H423: 3.642 | I423: 7.74 | J423: 12.76 | L423: 20.696 | N423: 9.012 | O423: 6.436 | P423: 3.87
A424: INOX1 | B424: 8 | C424: 1 | D424: 125 | E424: 20 | H424: 4.134 | I424: 8.788 | J424: 13.71 | L424: 23.498 | N424: 10.232 | O424: 7.308 | P424: 4.394
A425: INOX1 | B425: 10 | C425: 1 | D425: 80 | E425: 13 | H425: 3.664 | I425: 7.788 | J425: 12.152 | L425: 20.828 | N425: 9.07 | O425: 6.476 | P425: 3.894
A426: INOX1 | B426: 10 | C426: 1 | D426: 100 | E426: 16 | H426: 4.06 | I426: 8.628 | J426: 13.46 | L426: 23.068 | N426: 10.046 | O426: 7.174 | P426: 4.314
A427: INOX1 | B427: 10 | C427: 1 | D427: 125 | E427: 20 | H427: 4.552 | I427: 9.674 | J427: 14.94 | L427: 25.87 | N427: 11.266 | O427: 8.044 | P427: 4.836
A428: INOX1 | B428: 12 | C428: 1 | D428: 125 | E428: 20 | H428: 4.97 | I428: 10.562 | J428: 16.48 | L428: 28.242 | N428: 12.3 | O428: 8.782 | P428: 5.28
A429: INOX1 | B429: 15 | C429: 1 | D429: 125 | E429: 20 | H429: 5.596 | I429: 11.894 | J429: 19.56 | L429: 31.802 | N429: 13.85 | O429: 9.89 | P429: 5.946
A430: INOX1 | B430: 20 | C430: 1 | D430: 125 | E430: 20 | H430: 6.64 | I430: 14.112 | J430: 22.018 | L430: 37.734 | N430: 16.432 | O430: 11.734 | P430: 7.056
A431: INOX1 | B431: 25 | C431: 1 | D431: 125 | E431: 20 | H431: 7.684 | I431: 16.33 | J431: 25.478 | L431: 43.666 | N431: 19.012 | O431: 13.58 | P431: 13.58
... A538: INOX2 | B538: 30 | C538: 1 | D538: 125 | E538: 20 | H538: 8.72 | I538: 18.548 | J538: 28.94 | L538: 49.596 | N538: 21.598 | O538: 15.424 | P538: 9.274

Sheet BENDATA_xml
A1: MaterialNumber | B1: Thickness | C1: PunchRadius | D1: BendRadius | E1: Vopening | F1: SpringBack | G1: 0 | H1: 30 | I1: 45 | J1: 60 | K1: 90 | L1: 120 | M1: 135 | N1: 150 | O1: 180
A2: 0 | B2: 0.5 | C2: 1 | D2: 0.7 | E2: 4 | F2: 0 | G2: 0 | H2: {=_xlfn.LET(_xlpm.m,$A2,_xlpm.ang,VALUE(H$1),_xlpm.th,$B2,_xlpm.v,$E2,_xlpm.r,_xlfn.XMATCH(1,(Tableau37[MaterialNumber2]=_xlpm.m)*(Tableau37[Angle]=_xlpm.ang)*(Tableau37[Thickness]=_xlpm.th),0),_xlpm.c,_xlfn.XMATCH(TEXT(_xlpm.v,"0"),Tableau37[#Headers],0),IFERROR(INDEX(Tableau37[],_xlpm.r,_xlpm.c),""))} -> 0.166 | I2: {=_xlfn.LET(_xlpm.m,$A2,_xlpm.ang,VALUE(I$1),_xlpm.th,$B2,_xlpm.v,$E2,_xlpm.r,_xlfn.XMATCH(1,(Tableau37[MaterialNumber2]=_xlpm.m)*(Tableau37[Angle]=_xlpm.ang)*(Tableau37[Thickness]=_xlpm.th),0),_xlpm.c,_xlfn.XMATCH(TEXT(_xlpm.v,"0"),Tableau37[#Headers],0),IFERROR(INDEX(Tableau37[],_xlpm.r,_xlpm.c),""))} -> 0.254 | J2: {=_xlfn.LET(_xlpm.m,$A2,_xlpm.ang,VALUE(J$1),_xlpm.th,$B2,_xlpm.v,$E2,_xlpm.r,_xlfn.XMATCH(1,(Tableau37[MaterialNumber2]=_xlpm.m)*(Tableau37[Angle]=_xlpm.ang)*(Tableau37[Thickness]=_xlpm.th),0),_xlpm.c,_xlfn.XMATCH(TEXT(_xlpm.v,"0"),Tableau37[#Headers],0),IFERROR(INDEX(Tableau37[],_xlpm.r,_xlpm.c),""))} -> 0.552 | K2: {=_xlfn.LET(_xlpm.m,$A2,_xlpm.ang,VALUE(K$1),_xlpm.th,$B2,_xlpm.v,$E2,_xlpm.r,_xlfn.XMATCH(1,(Tableau37[MaterialNumber2]=_xlpm.m)*(Tableau37[Angle]=_xlpm.ang)*(Tableau37[Thickness]=_xlpm.th),0),_xlpm.c,_xlfn.XMATCH(TEXT(_xlpm.v,"0"),Tableau37[#Headers],0),IFERROR(INDEX(Tableau37[],_xlpm.r,_xlpm.c),""))} -> 0.948 | L2: {=_xlfn.LET(_xlpm.m,$A2,_xlpm.ang,VALUE(L$1),_xlpm.th,$B2,_xlpm.v,$E2,_xlpm.r,_xlfn.XMATCH(1,(Tableau37[MaterialNumber2]=_xlpm.m)*(Tableau37[Angle]=_xlpm.ang)*(Tableau37[Thickness]=_xlpm.th),0),_xlpm.c,_xlfn.XMATCH(TEXT(_xlpm.v,"0"),Tableau37[#Headers],0),IFERROR(INDEX(Tableau37[],_xlpm.r,_xlpm.c),""))} -> 0.466 | M2: {=_xlfn.LET(_xlpm.m,$A2,_xlpm.ang,VALUE(M$1),_xlpm.th,$B2,_xlpm.v,$E2,_xlpm.r,_xlfn.XMATCH(1,(Tableau37[MaterialNumber2]=_xlpm.m)*(Tableau37[Angle]=_xlpm.ang)*(Tableau37[Thickness]=_xlpm.th),0),_xlpm.c,_xlfn.XMATCH(TEXT(_xlpm.v,"0"),Tableau37[#Headers],0),IFERROR(INDEX(Tableau37[],_xlpm.r,_xlpm.c),""))} -> 0.302 | N2: {=_xlfn.LET(_xlpm.m,$A2,_xlpm.ang,VALUE(N$1),_xlpm.th,$B2,_xlpm.v,$E2,_xlpm.r,_xlfn.XMATCH(1,(Tableau37[MaterialNumber2]=_xlpm.m)*(Tableau37[Angle]=_xlpm.ang)*(Tableau37[Thickness]=_xlpm.th),0),_xlpm.c,_xlfn.XMATCH(TEXT(_xlpm.v,"0"),Tableau37[#Headers],0),IFERROR(INDEX(Tableau37[],_xlpm.r,_xlpm.c),""))} -> 0.158 | O2: 0
A3: 0 | B3: 0.5 | C3: 1 | D3: 1 | E3: 6 | F3: 0 | G3: 0 | H3: {=_xlfn.LET(_xlpm.m,$A3,_xlpm.ang,VALUE(H$1),_xlpm.th,$B3,_xlpm.v,$E3,_xlpm.r,_xlfn.XMATCH(1,(Tableau37[MaterialNumber2]=_xlpm.m)*(Tableau37[Angle]=_xlpm.ang)*(Tableau37[Thickness]=_xlpm.th),0),_xlpm.c,_xlfn.XMATCH(TEXT(_xlpm.v,"0"),Tableau37[#Headers],0),IFERROR(INDEX(Tableau37[],_xlpm.r,_xlpm.c),""))} -> 0.192 | I3: {=_xlfn.LET(_xlpm.m,$A3,_xlpm.ang,VALUE(I$1),_xlpm.th,$B3,_xlpm.v,$E3,_xlpm.r,_xlfn.XMATCH(1,(Tableau37[MaterialNumber2]=_xlpm.m)*(Tableau37[Angle]=_xlpm.ang)*(Tableau37[Thickness]=_xlpm.th),0),_xlpm.c,_xlfn.XMATCH(TEXT(_xlpm.v,"0"),Tableau37[#Headers],0),IFERROR(INDEX(Tableau37[],_xlpm.r,_xlpm.c),""))} -> 0.412 | J3: {=_xlfn.LET(_xlpm.m,$A3,_xlpm.ang,VALUE(J$1),_xlpm.th,$B3,_xlpm.v,$E3,_xlpm.r,_xlfn.XMATCH(1,(Tableau37[MaterialNumber2]=_xlpm.m)*(Tableau37[Angle]=_xlpm.ang)*(Tableau37[Thickness]=_xlpm.th),0),_xlpm.c,_xlfn.XMATCH(TEXT(_xlpm.v,"0"),Tableau37[#Headers],0),IFERROR(INDEX(Tableau37[],_xlpm.r,_xlpm.c),""))} -> 0.642 | K3: {=_xlfn.LET(_xlpm.m,$A3,_xlpm.ang,VALUE(K$1),_xlpm.th,$B3,_xlpm.v,$E3,_xlpm.r,_xlfn.XMATCH(1,(Tableau37[MaterialNumber2]=_xlpm.m)*(Tableau37[Angle]=_xlpm.ang)*(Tableau37[Thickness]=_xlpm.th),0),_xlpm.c,_xlfn.XMATCH(TEXT(_xlpm.v,"0"),Tableau37[#Headers],0),IFERROR(INDEX(Tableau37[],_xlpm.r,_xlpm.c),""))} -> 1.1 | L3: {=_xlfn.LET(_xlpm.m,$A3,_xlpm.ang,VALUE(L$1),_xlpm.th,$B3,_xlpm.v,$E3,_xlpm.r,_xlfn.XMATCH(1,(Tableau37[MaterialNumber2]=_xlpm.m)*(Tableau37[Angle]=_xlpm.ang)*(Tableau37[Thickness]=_xlpm.th),0),_xlpm.c,_xlfn.XMATCH(TEXT(_xlpm.v,"0"),Tableau37[#Headers],0),IFERROR(INDEX(Tableau37[],_xlpm.r,_xlpm.c),""))} -> 0.542 | M3: {=_xlfn.LET(_xlpm.m,$A3,_xlpm.ang,VALUE(M$1),_xlpm.th,$B3,_xlpm.v,$E3,_xlpm.r,_xlfn.XMATCH(1,(Tableau37[MaterialNumber2]=_xlpm.m)*(Tableau37[Angle]=_xlpm.ang)*(Tableau37[Thickness]=_xlpm.th),0),_xlpm.c,_xlfn.XMATCH(TEXT(_xlpm.v,"0"),Tableau37[#Headers],0),IFERROR(INDEX(Tableau37[],_xlpm.r,_xlpm.c),""))} -> 0.35 | N3: {=_xlfn.LET(_xlpm.m,$A3,_xlpm.ang,VALUE(N$1),_xlpm.th,$B3,_xlpm.v,$E3,_xlpm.r,_xlfn.XMATCH(1,(Tableau37[MaterialNumber2]=_xlpm.m)*(Tableau37[Angle]=_xlpm.ang)*(Tableau37[Thickness]=_xlpm.th),0),_xlpm.c,_xlfn.XMATCH(TEXT(_xlpm.v,"0"),Tableau37[#Headers],0),IFERROR(INDEX(Tableau37[],_xlpm.r,_xlpm.c),""))} -> 0.182 | O3: 0
A4: 0 | B4: 0.5 | C4: 1 | D4: 1.1 | E4: 7 | F4: 0 | G4: 0 | H4: {=_xlfn.LET(_xlpm.m,$A4,_xlpm.ang,VALUE(H$1),_xlpm.th,$B4,_xlpm.v,$E4,_xlpm.r,_xlfn.XMATCH(1,(Tableau37[MaterialNumber2]=_xlpm.m)*(Tableau37[Angle]=_xlpm.ang)*(Tableau37[Thickness]=_xlpm.th),0),_xlpm.c,_xlfn.XMATCH(TEXT(_xlpm.v,"0"),Tableau37[#Headers],0),IFERROR(INDEX(Tableau37[],_xlpm.r,_xlpm.c),""))} -> 0.206 | I4: {=_xlfn.LET(_xlpm.m,$A4,_xlpm.ang,VALUE(I$1),_xlpm.th,$B4,_xlpm.v,$E4,_xlpm.r,_xlfn.XMATCH(1,(Tableau37[MaterialNumber2]=_xlpm.m)*(Tableau37[Angle]=_xlpm.ang)*(Tableau37[Thickness]=_xlpm.th),0),_xlpm.c,_xlfn.XMATCH(TEXT(_xlpm.v,"0"),Tableau37[#Headers],0),IFERROR(INDEX(Tableau37[],_xlpm.r,_xlpm.c),""))} -> 0.44 | J4: {=_xlfn.LET(_xlpm.m,$A4,_xlpm.ang,VALUE(J$1),_xlpm.th,$B4,_xlpm.v,$E4,_xlpm.r,_xlfn.XMATCH(1,(Tableau37[MaterialNumber2]=_xlpm.m)*(Tableau37[Angle]=_xlpm.ang)*(Tableau37[Thickness]=_xlpm.th),0),_xlpm.c,_xlfn.XMATCH(TEXT(_xlpm.v,"0"),Tableau37[#Headers],0),IFERROR(INDEX(Tableau37[],_xlpm.r,_xlpm.c),""))} -> 0.686 | K4: {=_xlfn.LET(_xlpm.m,$A4,_xlpm.ang,VALUE(K$1),_xlpm.th,$B4,_xlpm.v,$E4,_xlpm.r,_xlfn.XMATCH(1,(Tableau37[MaterialNumber2]=_xlpm.m)*(Tableau37[Angle]=_xlpm.ang)*(Tableau37[Thickness]=_xlpm.th),0),_xlpm.c,_xlfn.XMATCH(TEXT(_xlpm.v,"0"),Tableau37[#Headers],0),IFERROR(INDEX(Tableau37[],_xlpm.r,_xlpm.c),""))} -> 1.178 | L4: {=_xlfn.LET(_xlpm.m,$A4,_xlpm.ang,VALUE(L$1),_xlpm.th,$B4,_xlpm.v,$E4,_xlpm.r,_xlfn.XMATCH(1,(Tableau37[MaterialNumber2]=_xlpm.m)*(Tableau37[Angle]=_xlpm.ang)*(Tableau37[Thickness]=_xlpm.th),0),_xlpm.c,_xlfn.XMATCH(TEXT(_xlpm.v,"0"),Tableau37[#Headers],0),IFERROR(INDEX(Tableau37[],_xlpm.r,_xlpm.c),""))} -> 0.578 | M4: {=_xlfn.LET(_xlpm.m,$A4,_xlpm.ang,VALUE(M$1),_xlpm.th,$B4,_xlpm.v,$E4,_xlpm.r,_xlfn.XMATCH(1,(Tableau37[MaterialNumber2]=_xlpm.m)*(Tableau37[Angle]=_xlpm.ang)*(Tableau37[Thickness]=_xlpm.th),0),_xlpm.c,_xlfn.XMATCH(TEXT(_xlpm.v,"0"),Tableau37[#Headers],0),IFERROR(INDEX(Tableau37[],_xlpm.r,_xlpm.c),""))} -> 0.356 | N4: {=_xlfn.LET(_xlpm.m,$A4,_xlpm.ang,VALUE(N$1),_xlpm.th,$B4,_xlpm.v,$E4,_xlpm.r,_xlfn.XMATCH(1,(Tableau37[MaterialNumber2]=_xlpm.m)*(Tableau37[Angle]=_xlpm.ang)*(Tableau37[Thickness]=_xlpm.th),0),_xlpm.c,_xlfn.XMATCH(TEXT(_xlpm.v,"0"),Tableau37[#Headers],0),IFERROR(INDEX(Tableau37[],_xlpm.r,_xlpm.c),""))} -> 0.196 | O4: 0
A5: 0 | B5: 0.5 | C5: 1 | D5: 1.3 | E5: 8 | F5: 0 | G5: 0 | H5: {=_xlfn.LET(_xlpm.m,$A5,_xlpm.ang,VALUE(H$1),_xlpm.th,$B5,_xlpm.v,$E5,_xlpm.r,_xlfn.XMATCH(1,(Tableau37[MaterialNumber2]=_xlpm.m)*(Tableau37[Angle]=_xlpm.ang)*(Tableau37[Thickness]=_xlpm.th),0),_xlpm.c,_xlfn.XMATCH(TEXT(_xlpm.v,"0"),Tableau37[#Headers],0),IFERROR(INDEX(Tableau37[],_xlpm.r,_xlpm.c),""))} -> 0.22 | I5: {=_xlfn.LET(_xlpm.m,$A5,_xlpm.ang,VALUE(I$1),_xlpm.th,$B5,_xlpm.v,$E5,_xlpm.r,_xlfn.XMATCH(1,(Tableau37[MaterialNumber2]=_xlpm.m)*(Tableau37[Angle]=_xlpm.ang)*(Tableau37[Thickness]=_xlpm.th),0),_xlpm.c,_xlfn.XMATCH(TEXT(_xlpm.v,"0"),Tableau37[#Headers],0),IFERROR(INDEX(Tableau37[],_xlpm.r,_xlpm.c),""))} -> 0.468 | J5: {=_xlfn.LET(_xlpm.m,$A5,_xlpm.ang,VALUE(J$1),_xlpm.th,$B5,_xlpm.v,$E5,_xlpm.r,_xlfn.XMATCH(1,(Tableau37[MaterialNumber2]=_xlpm.m)*(Tableau37[Angle]=_xlpm.ang)*(Tableau37[Thickness]=_xlpm.th),0),_xlpm.c,_xlfn.XMATCH(TEXT(_xlpm.v,"0"),Tableau37[#Headers],0),IFERROR(INDEX(Tableau37[],_xlpm.r,_xlpm.c),""))} -> 0.732 | K5: {=_xlfn.LET(_xlpm.m,$A5,_xlpm.ang,VALUE(K$1),_xlpm.th,$B5,_xlpm.v,$E5,_xlpm.r,_xlfn.XMATCH(1,(Tableau37[MaterialNumber2]=_xlpm.m)*(Tableau37[Angle]=_xlpm.ang)*(Tableau37[Thickness]=_xlpm.th),0),_xlpm.c,_xlfn.XMATCH(TEXT(_xlpm.v,"0"),Tableau37[#Headers],0),IFERROR(INDEX(Tableau37[],_xlpm.r,_xlpm.c),""))} -> 1.254 | L5: {=_xlfn.LET(_xlpm.m,$A5,_xlpm.ang,VALUE(L$1),_xlpm.th,$B5,_xlpm.v,$E5,_xlpm.r,_xlfn.XMATCH(1,(Tableau37[MaterialNumber2]=_xlpm.m)*(Tableau37[Angle]=_xlpm.ang)*(Tableau37[Thickness]=_xlpm.th),0),_xlpm.c,_xlfn.XMATCH(TEXT(_xlpm.v,"0"),Tableau37[#Headers],0),IFERROR(INDEX(Tableau37[],_xlpm.r,_xlpm.c),""))} -> 0.618 | M5: {=_xlfn.LET(_xlpm.m,$A5,_xlpm.ang,VALUE(M$1),_xlpm.th,$B5,_xlpm.v,$E5,_xlpm.r,_xlfn.XMATCH(1,(Tableau37[MaterialNumber2]=_xlpm.m)*(Tableau37[Angle]=_xlpm.ang)*(Tableau37[Thickness]=_xlpm.th),0),_xlpm.c,_xlfn.XMATCH(TEXT(_xlpm.v,"0"),Tableau37[#Headers],0),IFERROR(INDEX(Tableau37[],_xlpm.r,_xlpm.c),""))} -> 0.398 | N5: {=_xlfn.LET(_xlpm.m,$A5,_xlpm.ang,VALUE(N$1),_xlpm.th,$B5,_xlpm.v,$E5,_xlpm.r,_xlfn.XMATCH(1,(Tableau37[MaterialNumber2]=_xlpm.m)*(Tableau37[Angle]=_xlpm.ang)*(Tableau37[Thickness]=_xlpm.th),0),_xlpm.c,_xlfn.XMATCH(TEXT(_xlpm.v,"0"),Tableau37[#Headers],0),IFERROR(INDEX(Tableau37[],_xlpm.r,_xlpm.c),""))} -> 0.208 | O5: 0
A6: 0 | B6: 0.5 | C6: 1 | D6: 1.6 | E6: 10 | F6: 0 | G6: 0 | H6: {=_xlfn.LET(_xlpm.m,$A6,_xlpm.ang,VALUE(H$1),_xlpm.th,$B6,_xlpm.v,$E6,_xlpm.r,_xlfn.XMATCH(1,(Tableau37[MaterialNumber2]=_xlpm.m)*(Tableau37[Angle]=_xlpm.ang)*(Tableau37[Thickness]=_xlpm.th),0),_xlpm.c,_xlfn.XMATCH(TEXT(_xlpm.v,"0"),Tableau37[#Headers],0),IFERROR(INDEX(Tableau37[],_xlpm.r,_xlpm.c),""))} -> 0.246 | I6: {=_xlfn.LET(_xlpm.m,$A6,_xlpm.ang,VALUE(I$1),_xlpm.th,$B6,_xlpm.v,$E6,_xlpm.r,_xlfn.XMATCH(1,(Tableau37[MaterialNumber2]=_xlpm.m)*(Tableau37[Angle]=_xlpm.ang)*(Tableau37[Thickness]=_xlpm.th),0),_xlpm.c,_xlfn.XMATCH(TEXT(_xlpm.v,"0"),Tableau37[#Headers],0),IFERROR(INDEX(Tableau37[],_xlpm.r,_xlpm.c),""))} -> 0.526 | J6: {=_xlfn.LET(_xlpm.m,$A6,_xlpm.ang,VALUE(J$1),_xlpm.th,$B6,_xlpm.v,$E6,_xlpm.r,_xlfn.XMATCH(1,(Tableau37[MaterialNumber2]=_xlpm.m)*(Tableau37[Angle]=_xlpm.ang)*(Tableau37[Thickness]=_xlpm.th),0),_xlpm.c,_xlfn.XMATCH(TEXT(_xlpm.v,"0"),Tableau37[#Headers],0),IFERROR(INDEX(Tableau37[],_xlpm.r,_xlpm.c),""))} -> 0.82 | K6: {=_xlfn.LET(_xlpm.m,$A6,_xlpm.ang,VALUE(K$1),_xlpm.th,$B6,_xlpm.v,$E6,_xlpm.r,_xlfn.XMATCH(1,(Tableau37[MaterialNumber2]=_xlpm.m)*(Tableau37[Angle]=_xlpm.ang)*(Tableau37[Thickness]=_xlpm.th),0),_xlpm.c,_xlfn.XMATCH(TEXT(_xlpm.v,"0"),Tableau37[#Headers],0),IFERROR(INDEX(Tableau37[],_xlpm.r,_xlpm.c),""))} -> 1.408 | L6: {=_xlfn.LET(_xlpm.m,$A6,_xlpm.ang,VALUE(L$1),_xlpm.th,$B6,_xlpm.v,$E6,_xlpm.r,_xlfn.XMATCH(1,(Tableau37[MaterialNumber2]=_xlpm.m)*(Tableau37[Angle]=_xlpm.ang)*(Tableau37[Thickness]=_xlpm.th),0),_xlpm.c,_xlfn.XMATCH(TEXT(_xlpm.v,"0"),Tableau37[#Headers],0),IFERROR(INDEX(Tableau37[],_xlpm.r,_xlpm.c),""))} -> 0.692 | M6: {=_xlfn.LET(_xlpm.m,$A6,_xlpm.ang,VALUE(M$1),_xlpm.th,$B6,_xlpm.v,$E6,_xlpm.r,_xlfn.XMATCH(1,(Tableau37[MaterialNumber2]=_xlpm.m)*(Tableau37[Angle]=_xlpm.ang)*(Tableau37[Thickness]=_xlpm.th),0),_xlpm.c,_xlfn.XMATCH(TEXT(_xlpm.v,"0"),Tableau37[#Headers],0),IFERROR(INDEX(Tableau37[],_xlpm.r,_xlpm.c),""))} -> 0.448 | N6: {=_xlfn.LET(_xlpm.m,$A6,_xlpm.ang,VALUE(N$1),_xlpm.th,$B6,_xlpm.v,$E6,_xlpm.r,_xlfn.XMATCH(1,(Tableau37[MaterialNumber2]=_xlpm.m)*(Tableau37[Angle]=_xlpm.ang)*(Tableau37[Thickness]=_xlpm.th),0),_xlpm.c,_xlfn.XMATCH(TEXT(_xlpm.v,"0"),Tableau37[#Headers],0),IFERROR(INDEX(Tableau37[],_xlpm.r,_xlpm.c),""))} -> 0.234 | O6: 0
A7: 0 | B7: 0.5 | C7: 1 | D7: 2 | E7: 12 | F7: 0 | G7: 0 | H7: {=_xlfn.LET(_xlpm.m,$A7,_xlpm.ang,VALUE(H$1),_xlpm.th,$B7,_xlpm.v,$E7,_xlpm.r,_xlfn.XMATCH(1,(Tableau37[MaterialNumber2]=_xlpm.m)*(Tableau37[Angle]=_xlpm.ang)*(Tableau37[Thickness]=_xlpm.th),0),_xlpm.c,_xlfn.XMATCH(TEXT(_xlpm.v,"0"),Tableau37[#Headers],0),IFERROR(INDEX(Tableau37[],_xlpm.r,_xlpm.c),""))} -> 0.274 | I7: {=_xlfn.LET(_xlpm.m,$A7,_xlpm.ang,VALUE(I$1),_xlpm.th,$B7,_xlpm.v,$E7,_xlpm.r,_xlfn.XMATCH(1,(Tableau37[MaterialNumber2]=_xlpm.m)*(Tableau37[Angle]=_xlpm.ang)*(Tableau37[Thickness]=_xlpm.th),0),_xlpm.c,_xlfn.XMATCH(TEXT(_xlpm.v,"0"),Tableau37[#Headers],0),IFERROR(INDEX(Tableau37[],_xlpm.r,_xlpm.c),""))} -> 0.584 | J7: {=_xlfn.LET(_xlpm.m,$A7,_xlpm.ang,VALUE(J$1),_xlpm.th,$B7,_xlpm.v,$E7,_xlpm.r,_xlfn.XMATCH(1,(Tableau37[MaterialNumber2]=_xlpm.m)*(Tableau37[Angle]=_xlpm.ang)*(Tableau37[Thickness]=_xlpm.th),0),_xlpm.c,_xlfn.XMATCH(TEXT(_xlpm.v,"0"),Tableau37[#Headers],0),IFERROR(INDEX(Tableau37[],_xlpm.r,_xlpm.c),""))} -> 0.91 | K7: {=_xlfn.LET(_xlpm.m,$A7,_xlpm.ang,VALUE(K$1),_xlpm.th,$B7,_xlpm.v,$E7,_xlpm.r,_xlfn.XMATCH(1,(Tableau37[MaterialNumber2]=_xlpm.m)*(Tableau37[Angle]=_xlpm.ang)*(Tableau37[Thickness]=_xlpm.th),0),_xlpm.c,_xlfn.XMATCH(TEXT(_xlpm.v,"0"),Tableau37[#Headers],0),IFERROR(INDEX(Tableau37[],_xlpm.r,_xlpm.c),""))} -> 1.56 | L7: {=_xlfn.LET(_xlpm.m,$A7,_xlpm.ang,VALUE(L$1),_xlpm.th,$B7,_xlpm.v,$E7,_xlpm.r,_xlfn.XMATCH(1,(Tableau37[MaterialNumber2]=_xlpm.m)*(Tableau37[Angle]=_xlpm.ang)*(Tableau37[Thickness]=_xlpm.th),0),_xlpm.c,_xlfn.XMATCH(TEXT(_xlpm.v,"0"),Tableau37[#Headers],0),IFERROR(INDEX(Tableau37[],_xlpm.r,_xlpm.c),""))} -> 0.768 | M7: {=_xlfn.LET(_xlpm.m,$A7,_xlpm.ang,VALUE(M$1),_xlpm.th,$B7,_xlpm.v,$E7,_xlpm.r,_xlfn.XMATCH(1,(Tableau37[MaterialNumber2]=_xlpm.m)*(Tableau37[Angle]=_xlpm.ang)*(Tableau37[Thickness]=_xlpm.th),0),_xlpm.c,_xlfn.XMATCH(TEXT(_xlpm.v,"0"),Tableau37[#Headers],0),IFERROR(INDEX(Tableau37[],_xlpm.r,_xlpm.c),""))} -> 0.496 | N7: {=_xlfn.LET(_xlpm.m,$A7,_xlpm.ang,VALUE(N$1),_xlpm.th,$B7,_xlpm.v,$E7,_xlpm.r,_xlfn.XMATCH(1,(Tableau37[MaterialNumber2]=_xlpm.m)*(Tableau37[Angle]=_xlpm.ang)*(Tableau37[Thickness]=_xlpm.th),0),_xlpm.c,_xlfn.XMATCH(TEXT(_xlpm.v,"0"),Tableau37[#Headers],0),IFERROR(INDEX(Tableau37[],_xlpm.r,_xlpm.c),""))} -> 0.26 | O7: 0
A8: 0 | B8: 0.5 | C8: 1 | D8: 2.3 | E8: 14 | F8: 0 | G8: 0 | H8: {=_xlfn.LET(_xlpm.m,$A8,_xlpm.ang,VALUE(H$1),_xlpm.th,$B8,_xlpm.v,$E8,_xlpm.r,_xlfn.XMATCH(1,(Tableau37[MaterialNumber2]=_xlpm.m)*(Tableau37[Angle]=_xlpm.ang)*(Tableau37[Thickness]=_xlpm.th),0),_xlpm.c,_xlfn.XMATCH(TEXT(_xlpm.v,"0"),Tableau37[#Headers],0),IFERROR(INDEX(Tableau37[],_xlpm.r,_xlpm.c),""))} -> 0 | I8: {=_xlfn.LET(_xlpm.m,$A8,_xlpm.ang,VALUE(I$1),_xlpm.th,$B8,_xlpm.v,$E8,_xlpm.r,_xlfn.XMATCH(1,(Tableau37[MaterialNumber2]=_xlpm.m)*(Tableau37[Angle]=_xlpm.ang)*(Tableau37[Thickness]=_xlpm.th),0),_xlpm.c,_xlfn.XMATCH(TEXT(_xlpm.v,"0"),Tableau37[#Headers],0),IFERROR(INDEX(Tableau37[],_xlpm.r,_xlpm.c),""))} -> 0 | J8: {=_xlfn.LET(_xlpm.m,$A8,_xlpm.ang,VALUE(J$1),_xlpm.th,$B8,_xlpm.v,$E8,_xlpm.r,_xlfn.XMATCH(1,(Tableau37[MaterialNumber2]=_xlpm.m)*(Tableau37[Angle]=_xlpm.ang)*(Tableau37[Thickness]=_xlpm.th),0),_xlpm.c,_xlfn.XMATCH(TEXT(_xlpm.v,"0"),Tableau37[#Headers],0),IFERROR(INDEX(Tableau37[],_xlpm.r,_xlpm.c),""))} -> 0 | K8: {=_xlfn.LET(_xlpm.m,$A8,_xlpm.ang,VALUE(K$1),_xlpm.th,$B8,_xlpm.v,$E8,_xlpm.r,_xlfn.XMATCH(1,(Tableau37[MaterialNumber2]=_xlpm.m)*(Tableau37[Angle]=_xlpm.ang)*(Tableau37[Thickness]=_xlpm.th),0),_xlpm.c,_xlfn.XMATCH(TEXT(_xlpm.v,"0"),Tableau37[#Headers],0),IFERROR(INDEX(Tableau37[],_xlpm.r,_xlpm.c),""))} -> 0 | L8: {=_xlfn.LET(_xlpm.m,$A8,_xlpm.ang,VALUE(L$1),_xlpm.th,$B8,_xlpm.v,$E8,_xlpm.r,_xlfn.XMATCH(1,(Tableau37[MaterialNumber2]=_xlpm.m)*(Tableau37[Angle]=_xlpm.ang)*(Tableau37[Thickness]=_xlpm.th),0),_xlpm.c,_xlfn.XMATCH(TEXT(_xlpm.v,"0"),Tableau37[#Headers],0),IFERROR(INDEX(Tableau37[],_xlpm.r,_xlpm.c),""))} -> 0 | M8: {=_xlfn.LET(_xlpm.m,$A8,_xlpm.ang,VALUE(M$1),_xlpm.th,$B8,_xlpm.v,$E8,_xlpm.r,_xlfn.XMATCH(1,(Tableau37[MaterialNumber2]=_xlpm.m)*(Tableau37[Angle]=_xlpm.ang)*(Tableau37[Thickness]=_xlpm.th),0),_xlpm.c,_xlfn.XMATCH(TEXT(_xlpm.v,"0"),Tableau37[#Headers],0),IFERROR(INDEX(Tableau37[],_xlpm.r,_xlpm.c),""))} -> 0 | N8: {=_xlfn.LET(_xlpm.m,$A8,_xlpm.ang,VALUE(N$1),_xlpm.th,$B8,_xlpm.v,$E8,_xlpm.r,_xlfn.XMATCH(1,(Tableau37[MaterialNumber2]=_xlpm.m)*(Tableau37[Angle]=_xlpm.ang)*(Tableau37[Thickness]=_xlpm.th),0),_xlpm.c,_xlfn.XMATCH(TEXT(_xlpm.v,"0"),Tableau37[#Headers],0),IFERROR(INDEX(Tableau37[],_xlpm.r,_xlpm.c),""))} -> 0 | O8: 0
A9: 0 | B9: 0.5 | C9: 1 | E9: 15 | F9: 0 | G9: 0 | H9: {=_xlfn.LET(_xlpm.m,$A9,_xlpm.ang,VALUE(H$1),_xlpm.th,$B9,_xlpm.v,$E9,_xlpm.r,_xlfn.XMATCH(1,(Tableau37[MaterialNumber2]=_xlpm.m)*(Tableau37[Angle]=_xlpm.ang)*(Tableau37[Thickness]=_xlpm.th),0),_xlpm.c,_xlfn.XMATCH(TEXT(_xlpm.v,"0"),Tableau37[#Headers],0),IFERROR(INDEX(Tableau37[],_xlpm.r,_xlpm.c),""))} | I9: {=_xlfn.LET(_xlpm.m,$A9,_xlpm.ang,VALUE(I$1),_xlpm.th,$B9,_xlpm.v,$E9,_xlpm.r,_xlfn.XMATCH(1,(Tableau37[MaterialNumber2]=_xlpm.m)*(Tableau37[Angle]=_xlpm.ang)*(Tableau37[Thickness]=_xlpm.th),0),_xlpm.c,_xlfn.XMATCH(TEXT(_xlpm.v,"0"),Tableau37[#Headers],0),IFERROR(INDEX(Tableau37[],_xlpm.r,_xlpm.c),""))} | J9: {=_xlfn.LET(_xlpm.m,$A9,_xlpm.ang,VALUE(J$1),_xlpm.th,$B9,_xlpm.v,$E9,_xlpm.r,_xlfn.XMATCH(1,(Tableau37[MaterialNumber2]=_xlpm.m)*(Tableau37[Angle]=_xlpm.ang)*(Tableau37[Thickness]=_xlpm.th),0),_xlpm.c,_xlfn.XMATCH(TEXT(_xlpm.v,"0"),Tableau37[#Headers],0),IFERROR(INDEX(Tableau37[],_xlpm.r,_xlpm.c),""))} | K9: {=_xlfn.LET(_xlpm.m,$A9,_xlpm.ang,VALUE(K$1),_xlpm.th,$B9,_xlpm.v,$E9,_xlpm.r,_xlfn.XMATCH(1,(Tableau37[MaterialNumber2]=_xlpm.m)*(Tableau37[Angle]=_xlpm.ang)*(Tableau37[Thickness]=_xlpm.th),0),_xlpm.c,_xlfn.XMATCH(TEXT(_xlpm.v,"0"),Tableau37[#Headers],0),IFERROR(INDEX(Tableau37[],_xlpm.r,_xlpm.c),""))} | L9: {=_xlfn.LET(_xlpm.m,$A9,_xlpm.ang,VALUE(L$1),_xlpm.th,$B9,_xlpm.v,$E9,_xlpm.r,_xlfn.XMATCH(1,(Tableau37[MaterialNumber2]=_xlpm.m)*(Tableau37[Angle]=_xlpm.ang)*(Tableau37[Thickness]=_xlpm.th),0),_xlpm.c,_xlfn.XMATCH(TEXT(_xlpm.v,"0"),Tableau37[#Headers],0),IFERROR(INDEX(Tableau37[],_xlpm.r,_xlpm.c),""))} | M9: {=_xlfn.LET(_xlpm.m,$A9,_xlpm.ang,VALUE(M$1),_xlpm.th,$B9,_xlpm.v,$E9,_xlpm.r,_xlfn.XMATCH(1,(Tableau37[MaterialNumber2]=_xlpm.m)*(Tableau37[Angle]=_xlpm.ang)*(Tableau37[Thickness]=_xlpm.th),0),_xlpm.c,_xlfn.XMATCH(TEXT(_xlpm.v,"0"),Tableau37[#Headers],0),IFERROR(INDEX(Tableau37[],_xlpm.r,_xlpm.c),""))} | N9: {=_xlfn.LET(_xlpm.m,$A9,_xlpm.ang,VALUE(N$1),_xlpm.th,$B9,_xlpm.v,$E9,_xlpm.r,_xlfn.XMATCH(1,(Tableau37[MaterialNumber2]=_xlpm.m)*(Tableau37[Angle]=_xlpm.ang)*(Tableau37[Thickness]=_xlpm.th),0),_xlpm.c,_xlfn.XMATCH(TEXT(_xlpm.v,"0"),Tableau37[#Headers],0),IFERROR(INDEX(Tableau37[],_xlpm.r,_xlpm.c),""))} | O9: 0
A10: 0 | B10: 0.5 | C10: 1 | D10: 2.6 | E10: 16 | F10: 0 | G10: 0 | H10: {=_xlfn.LET(_xlpm.m,$A10,_xlpm.ang,VALUE(H$1),_xlpm.th,$B10,_xlpm.v,$E10,_xlpm.r,_xlfn.XMATCH(1,(Tableau37[MaterialNumber2]=_xlpm.m)*(Tableau37[Angle]=_xlpm.ang)*(Tableau37[Thickness]=_xlpm.th),0),_xlpm.c,_xlfn.XMATCH(TEXT(_xlpm.v,"0"),Tableau37[#Headers],0),IFERROR(INDEX(Tableau37[],_xlpm.r,_xlpm.c),""))} -> 0 | I10: {=_xlfn.LET(_xlpm.m,$A10,_xlpm.ang,VALUE(I$1),_xlpm.th,$B10,_xlpm.v,$E10,_xlpm.r,_xlfn.XMATCH(1,(Tableau37[MaterialNumber2]=_xlpm.m)*(Tableau37[Angle]=_xlpm.ang)*(Tableau37[Thickness]=_xlpm.th),0),_xlpm.c,_xlfn.XMATCH(TEXT(_xlpm.v,"0"),Tableau37[#Headers],0),IFERROR(INDEX(Tableau37[],_xlpm.r,_xlpm.c),""))} -> 0 | J10: {=_xlfn.LET(_xlpm.m,$A10,_xlpm.ang,VALUE(J$1),_xlpm.th,$B10,_xlpm.v,$E10,_xlpm.r,_xlfn.XMATCH(1,(Tableau37[MaterialNumber2]=_xlpm.m)*(Tableau37[Angle]=_xlpm.ang)*(Tableau37[Thickness]=_xlpm.th),0),_xlpm.c,_xlfn.XMATCH(TEXT(_xlpm.v,"0"),Tableau37[#Headers],0),IFERROR(INDEX(Tableau37[],_xlpm.r,_xlpm.c),""))} -> 0 | K10: {=_xlfn.LET(_xlpm.m,$A10,_xlpm.ang,VALUE(K$1),_xlpm.th,$B10,_xlpm.v,$E10,_xlpm.r,_xlfn.XMATCH(1,(Tableau37[MaterialNumber2]=_xlpm.m)*(Tableau37[Angle]=_xlpm.ang)*(Tableau37[Thickness]=_xlpm.th),0),_xlpm.c,_xlfn.XMATCH(TEXT(_xlpm.v,"0"),Tableau37[#Headers],0),IFERROR(INDEX(Tableau37[],_xlpm.r,_xlpm.c),""))} -> 0 | L10: {=_xlfn.LET(_xlpm.m,$A10,_xlpm.ang,VALUE(L$1),_xlpm.th,$B10,_xlpm.v,$E10,_xlpm.r,_xlfn.XMATCH(1,(Tableau37[MaterialNumber2]=_xlpm.m)*(Tableau37[Angle]=_xlpm.ang)*(Tableau37[Thickness]=_xlpm.th),0),_xlpm.c,_xlfn.XMATCH(TEXT(_xlpm.v,"0"),Tableau37[#Headers],0),IFERROR(INDEX(Tableau37[],_xlpm.r,_xlpm.c),""))} -> 0 | M10: {=_xlfn.LET(_xlpm.m,$A10,_xlpm.ang,VALUE(M$1),_xlpm.th,$B10,_xlpm.v,$E10,_xlpm.r,_xlfn.XMATCH(1,(Tableau37[MaterialNumber2]=_xlpm.m)*(Tableau37[Angle]=_xlpm.ang)*(Tableau37[Thickness]=_xlpm.th),0),_xlpm.c,_xlfn.XMATCH(TEXT(_xlpm.v,"0"),Tableau37[#Headers],0),IFERROR(INDEX(Tableau37[],_xlpm.r,_xlpm.c),""))} -> 0 | N10: {=_xlfn.LET(_xlpm.m,$A10,_xlpm.ang,VALUE(N$1),_xlpm.th,$B10,_xlpm.v,$E10,_xlpm.r,_xlfn.XMATCH(1,(Tableau37[MaterialNumber2]=_xlpm.m)*(Tableau37[Angle]=_xlpm.ang)*(Tableau37[Thickness]=_xlpm.th),0),_xlpm.c,_xlfn.XMATCH(TEXT(_xlpm.v,"0"),Tableau37[#Headers],0),IFERROR(INDEX(Tableau37[],_xlpm.r,_xlpm.c),""))} -> 0 | O10: 0
A11: 0 | B11: 0.5 | C11: 1 | D11: 3 | E11: 18 | F11: 0 | G11: 0 | H11: {=_xlfn.LET(_xlpm.m,$A11,_xlpm.ang,VALUE(H$1),_xlpm.th,$B11,_xlpm.v,$E11,_xlpm.r,_xlfn.XMATCH(1,(Tableau37[MaterialNumber2]=_xlpm.m)*(Tableau37[Angle]=_xlpm.ang)*(Tableau37[Thickness]=_xlpm.th),0),_xlpm.c,_xlfn.XMATCH(TEXT(_xlpm.v,"0"),Tableau37[#Headers],0),IFERROR(INDEX(Tableau37[],_xlpm.r,_xlpm.c),""))} -> 0 | I11: {=_xlfn.LET(_xlpm.m,$A11,_xlpm.ang,VALUE(I$1),_xlpm.th,$B11,_xlpm.v,$E11,_xlpm.r,_xlfn.XMATCH(1,(Tableau37[MaterialNumber2]=_xlpm.m)*(Tableau37[Angle]=_xlpm.ang)*(Tableau37[Thickness]=_xlpm.th),0),_xlpm.c,_xlfn.XMATCH(TEXT(_xlpm.v,"0"),Tableau37[#Headers],0),IFERROR(INDEX(Tableau37[],_xlpm.r,_xlpm.c),""))} -> 0 | J11: {=_xlfn.LET(_xlpm.m,$A11,_xlpm.ang,VALUE(J$1),_xlpm.th,$B11,_xlpm.v,$E11,_xlpm.r,_xlfn.XMATCH(1,(Tableau37[MaterialNumber2]=_xlpm.m)*(Tableau37[Angle]=_xlpm.ang)*(Tableau37[Thickness]=_xlpm.th),0),_xlpm.c,_xlfn.XMATCH(TEXT(_xlpm.v,"0"),Tableau37[#Headers],0),IFERROR(INDEX(Tableau37[],_xlpm.r,_xlpm.c),""))} -> 0 | K11: {=_xlfn.LET(_xlpm.m,$A11,_xlpm.ang,VALUE(K$1),_xlpm.th,$B11,_xlpm.v,$E11,_xlpm.r,_xlfn.XMATCH(1,(Tableau37[MaterialNumber2]=_xlpm.m)*(Tableau37[Angle]=_xlpm.ang)*(Tableau37[Thickness]=_xlpm.th),0),_xlpm.c,_xlfn.XMATCH(TEXT(_xlpm.v,"0"),Tableau37[#Headers],0),IFERROR(INDEX(Tableau37[],_xlpm.r,_xlpm.c),""))} -> 0 | L11: {=_xlfn.LET(_xlpm.m,$A11,_xlpm.ang,VALUE(L$1),_xlpm.th,$B11,_xlpm.v,$E11,_xlpm.r,_xlfn.XMATCH(1,(Tableau37[MaterialNumber2]=_xlpm.m)*(Tableau37[Angle]=_xlpm.ang)*(Tableau37[Thickness]=_xlpm.th),0),_xlpm.c,_xlfn.XMATCH(TEXT(_xlpm.v,"0"),Tableau37[#Headers],0),IFERROR(INDEX(Tableau37[],_xlpm.r,_xlpm.c),""))} -> 0 | M11: {=_xlfn.LET(_xlpm.m,$A11,_xlpm.ang,VALUE(M$1),_xlpm.th,$B11,_xlpm.v,$E11,_xlpm.r,_xlfn.XMATCH(1,(Tableau37[MaterialNumber2]=_xlpm.m)*(Tableau37[Angle]=_xlpm.ang)*(Tableau37[Thickness]=_xlpm.th),0),_xlpm.c,_xlfn.XMATCH(TEXT(_xlpm.v,"0"),Tableau37[#Headers],0),IFERROR(INDEX(Tableau37[],_xlpm.r,_xlpm.c),""))} -> 0 | N11: {=_xlfn.LET(_xlpm.m,$A11,_xlpm.ang,VALUE(N$1),_xlpm.th,$B11,_xlpm.v,$E11,_xlpm.r,_xlfn.XMATCH(1,(Tableau37[MaterialNumber2]=_xlpm.m)*(Tableau37[Angle]=_xlpm.ang)*(Tableau37[Thickness]=_xlpm.th),0),_xlpm.c,_xlfn.XMATCH(TEXT(_xlpm.v,"0"),Tableau37[#Headers],0),IFERROR(INDEX(Tableau37[],_xlpm.r,_xlpm.c),""))} -> 0 | O11: 0
A12: 0 | B12: 0.5 | C12: 1 | D12: 3.3 | E12: 20 | F12: 0 | G12: 0 | H12: {=_xlfn.LET(_xlpm.m,$A12,_xlpm.ang,VALUE(H$1),_xlpm.th,$B12,_xlpm.v,$E12,_xlpm.r,_xlfn.XMATCH(1,(Tableau37[MaterialNumber2]=_xlpm.m)*(Tableau37[Angle]=_xlpm.ang)*(Tableau37[Thickness]=_xlpm.th),0),_xlpm.c,_xlfn.XMATCH(TEXT(_xlpm.v,"0"),Tableau37[#Headers],0),IFERROR(INDEX(Tableau37[],_xlpm.r,_xlpm.c),""))} -> 0 | I12: {=_xlfn.LET(_xlpm.m,$A12,_xlpm.ang,VALUE(I$1),_xlpm.th,$B12,_xlpm.v,$E12,_xlpm.r,_xlfn.XMATCH(1,(Tableau37[MaterialNumber2]=_xlpm.m)*(Tableau37[Angle]=_xlpm.ang)*(Tableau37[Thickness]=_xlpm.th),0),_xlpm.c,_xlfn.XMATCH(TEXT(_xlpm.v,"0"),Tableau37[#Headers],0),IFERROR(INDEX(Tableau37[],_xlpm.r,_xlpm.c),""))} -> 0 | J12: {=_xlfn.LET(_xlpm.m,$A12,_xlpm.ang,VALUE(J$1),_xlpm.th,$B12,_xlpm.v,$E12,_xlpm.r,_xlfn.XMATCH(1,(Tableau37[MaterialNumber2]=_xlpm.m)*(Tableau37[Angle]=_xlpm.ang)*(Tableau37[Thickness]=_xlpm.th),0),_xlpm.c,_xlfn.XMATCH(TEXT(_xlpm.v,"0"),Tableau37[#Headers],0),IFERROR(INDEX(Tableau37[],_xlpm.r,_xlpm.c),""))} -> 0 | K12: {=_xlfn.LET(_xlpm.m,$A12,_xlpm.ang,VALUE(K$1),_xlpm.th,$B12,_xlpm.v,$E12,_xlpm.r,_xlfn.XMATCH(1,(Tableau37[MaterialNumber2]=_xlpm.m)*(Tableau37[Angle]=_xlpm.ang)*(Tableau37[Thickness]=_xlpm.th),0),_xlpm.c,_xlfn.XMATCH(TEXT(_xlpm.v,"0"),Tableau37[#Headers],0),IFERROR(INDEX(Tableau37[],_xlpm.r,_xlpm.c),""))} -> 0 | L12: {=_xlfn.LET(_xlpm.m,$A12,_xlpm.ang,VALUE(L$1),_xlpm.th,$B12,_xlpm.v,$E12,_xlpm.r,_xlfn.XMATCH(1,(Tableau37[MaterialNumber2]=_xlpm.m)*(Tableau37[Angle]=_xlpm.ang)*(Tableau37[Thickness]=_xlpm.th),0),_xlpm.c,_xlfn.XMATCH(TEXT(_xlpm.v,"0"),Tableau37[#Headers],0),IFERROR(INDEX(Tableau37[],_xlpm.r,_xlpm.c),""))} -> 0 | M12: {=_xlfn.LET(_xlpm.m,$A12,_xlpm.ang,VALUE(M$1),_xlpm.th,$B12,_xlpm.v,$E12,_xlpm.r,_xlfn.XMATCH(1,(Tableau37[MaterialNumber2]=_xlpm.m)*(Tableau37[Angle]=_xlpm.ang)*(Tableau37[Thickness]=_xlpm.th),0),_xlpm.c,_xlfn.XMATCH(TEXT(_xlpm.v,"0"),Tableau37[#Headers],0),IFERROR(INDEX(Tableau37[],_xlpm.r,_xlpm.c),""))} -> 0 | N12: {=_xlfn.LET(_xlpm.m,$A12,_xlpm.ang,VALUE(N$1),_xlpm.th,$B12,_xlpm.v,$E12,_xlpm.r,_xlfn.XMATCH(1,(Tableau37[MaterialNumber2]=_xlpm.m)*(Tableau37[Angle]=_xlpm.ang)*(Tableau37[Thickness]=_xlpm.th),0),_xlpm.c,_xlfn.XMATCH(TEXT(_xlpm.v,"0"),Tableau37[#Headers],0),IFERROR(INDEX(Tableau37[],_xlpm.r,_xlpm.c),""))} -> 0 | O12: 0
A13: 0 | B13: 0.5 | C13: 1 | E13: 22 | F13: 0 | G13: 0 | H13: {=_xlfn.LET(_xlpm.m,$A13,_xlpm.ang,VALUE(H$1),_xlpm.th,$B13,_xlpm.v,$E13,_xlpm.r,_xlfn.XMATCH(1,(Tableau37[MaterialNumber2]=_xlpm.m)*(Tableau37[Angle]=_xlpm.ang)*(Tableau37[Thickness]=_xlpm.th),0),_xlpm.c,_xlfn.XMATCH(TEXT(_xlpm.v,"0"),Tableau37[#Headers],0),IFERROR(INDEX(Tableau37[],_xlpm.r,_xlpm.c),""))} | I13: {=_xlfn.LET(_xlpm.m,$A13,_xlpm.ang,VALUE(I$1),_xlpm.th,$B13,_xlpm.v,$E13,_xlpm.r,_xlfn.XMATCH(1,(Tableau37[MaterialNumber2]=_xlpm.m)*(Tableau37[Angle]=_xlpm.ang)*(Tableau37[Thickness]=_xlpm.th),0),_xlpm.c,_xlfn.XMATCH(TEXT(_xlpm.v,"0"),Tableau37[#Headers],0),IFERROR(INDEX(Tableau37[],_xlpm.r,_xlpm.c),""))} | J13: {=_xlfn.LET(_xlpm.m,$A13,_xlpm.ang,VALUE(J$1),_xlpm.th,$B13,_xlpm.v,$E13,_xlpm.r,_xlfn.XMATCH(1,(Tableau37[MaterialNumber2]=_xlpm.m)*(Tableau37[Angle]=_xlpm.ang)*(Tableau37[Thickness]=_xlpm.th),0),_xlpm.c,_xlfn.XMATCH(TEXT(_xlpm.v,"0"),Tableau37[#Headers],0),IFERROR(INDEX(Tableau37[],_xlpm.r,_xlpm.c),""))} | K13: {=_xlfn.LET(_xlpm.m,$A13,_xlpm.ang,VALUE(K$1),_xlpm.th,$B13,_xlpm.v,$E13,_xlpm.r,_xlfn.XMATCH(1,(Tableau37[MaterialNumber2]=_xlpm.m)*(Tableau37[Angle]=_xlpm.ang)*(Tableau37[Thickness]=_xlpm.th),0),_xlpm.c,_xlfn.XMATCH(TEXT(_xlpm.v,"0"),Tableau37[#Headers],0),IFERROR(INDEX(Tableau37[],_xlpm.r,_xlpm.c),""))} | L13: {=_xlfn.LET(_xlpm.m,$A13,_xlpm.ang,VALUE(L$1),_xlpm.th,$B13,_xlpm.v,$E13,_xlpm.r,_xlfn.XMATCH(1,(Tableau37[MaterialNumber2]=_xlpm.m)*(Tableau37[Angle]=_xlpm.ang)*(Tableau37[Thickness]=_xlpm.th),0),_xlpm.c,_xlfn.XMATCH(TEXT(_xlpm.v,"0"),Tableau37[#Headers],0),IFERROR(INDEX(Tableau37[],_xlpm.r,_xlpm.c),""))} | M13: {=_xlfn.LET(_xlpm.m,$A13,_xlpm.ang,VALUE(M$1),_xlpm.th,$B13,_xlpm.v,$E13,_xlpm.r,_xlfn.XMATCH(1,(Tableau37[MaterialNumber2]=_xlpm.m)*(Tableau37[Angle]=_xlpm.ang)*(Tableau37[Thickness]=_xlpm.th),0),_xlpm.c,_xlfn.XMATCH(TEXT(_xlpm.v,"0"),Tableau37[#Headers],0),IFERROR(INDEX(Tableau37[],_xlpm.r,_xlpm.c),""))} | N13: {=_xlfn.LET(_xlpm.m,$A13,_xlpm.ang,VALUE(N$1),_xlpm.th,$B13,_xlpm.v,$E13,_xlpm.r,_xlfn.XMATCH(1,(Tableau37[MaterialNumber2]=_xlpm.m)*(Tableau37[Angle]=_xlpm.ang)*(Tableau37[Thickness]=_xlpm.th),0),_xlpm.c,_xlfn.XMATCH(TEXT(_xlpm.v,"0"),Tableau37[#Headers],0),IFERROR(INDEX(Tableau37[],_xlpm.r,_xlpm.c),""))} | O13: 0
A14: 0 | B14: 0.5 | C14: 1 | D14: 4 | E14: 25 | F14: 0 | G14: 0 | H14: {=_xlfn.LET(_xlpm.m,$A14,_xlpm.ang,VALUE(H$1),_xlpm.th,$B14,_xlpm.v,$E14,_xlpm.r,_xlfn.XMATCH(1,(Tableau37[MaterialNumber2]=_xlpm.m)*(Tableau37[Angle]=_xlpm.ang)*(Tableau37[Thickness]=_xlpm.th),0),_xlpm.c,_xlfn.XMATCH(TEXT(_xlpm.v,"0"),Tableau37[#Headers],0),IFERROR(INDEX(Tableau37[],_xlpm.r,_xlpm.c),""))} -> 0 | I14: {=_xlfn.LET(_xlpm.m,$A14,_xlpm.ang,VALUE(I$1),_xlpm.th,$B14,_xlpm.v,$E14,_xlpm.r,_xlfn.XMATCH(1,(Tableau37[MaterialNumber2]=_xlpm.m)*(Tableau37[Angle]=_xlpm.ang)*(Tableau37[Thickness]=_xlpm.th),0),_xlpm.c,_xlfn.XMATCH(TEXT(_xlpm.v,"0"),Tableau37[#Headers],0),IFERROR(INDEX(Tableau37[],_xlpm.r,_xlpm.c),""))} -> 0 | J14: {=_xlfn.LET(_xlpm.m,$A14,_xlpm.ang,VALUE(J$1),_xlpm.th,$B14,_xlpm.v,$E14,_xlpm.r,_xlfn.XMATCH(1,(Tableau37[MaterialNumber2]=_xlpm.m)*(Tableau37[Angle]=_xlpm.ang)*(Tableau37[Thickness]=_xlpm.th),0),_xlpm.c,_xlfn.XMATCH(TEXT(_xlpm.v,"0"),Tableau37[#Headers],0),IFERROR(INDEX(Tableau37[],_xlpm.r,_xlpm.c),""))} -> 0 | K14: {=_xlfn.LET(_xlpm.m,$A14,_xlpm.ang,VALUE(K$1),_xlpm.th,$B14,_xlpm.v,$E14,_xlpm.r,_xlfn.XMATCH(1,(Tableau37[MaterialNumber2]=_xlpm.m)*(Tableau37[Angle]=_xlpm.ang)*(Tableau37[Thickness]=_xlpm.th),0),_xlpm.c,_xlfn.XMATCH(TEXT(_xlpm.v,"0"),Tableau37[#Headers],0),IFERROR(INDEX(Tableau37[],_xlpm.r,_xlpm.c),""))} -> 0 | L14: {=_xlfn.LET(_xlpm.m,$A14,_xlpm.ang,VALUE(L$1),_xlpm.th,$B14,_xlpm.v,$E14,_xlpm.r,_xlfn.XMATCH(1,(Tableau37[MaterialNumber2]=_xlpm.m)*(Tableau37[Angle]=_xlpm.ang)*(Tableau37[Thickness]=_xlpm.th),0),_xlpm.c,_xlfn.XMATCH(TEXT(_xlpm.v,"0"),Tableau37[#Headers],0),IFERROR(INDEX(Tableau37[],_xlpm.r,_xlpm.c),""))} -> 0 | M14: {=_xlfn.LET(_xlpm.m,$A14,_xlpm.ang,VALUE(M$1),_xlpm.th,$B14,_xlpm.v,$E14,_xlpm.r,_xlfn.XMATCH(1,(Tableau37[MaterialNumber2]=_xlpm.m)*(Tableau37[Angle]=_xlpm.ang)*(Tableau37[Thickness]=_xlpm.th),0),_xlpm.c,_xlfn.XMATCH(TEXT(_xlpm.v,"0"),Tableau37[#Headers],0),IFERROR(INDEX(Tableau37[],_xlpm.r,_xlpm.c),""))} -> 0 | N14: {=_xlfn.LET(_xlpm.m,$A14,_xlpm.ang,VALUE(N$1),_xlpm.th,$B14,_xlpm.v,$E14,_xlpm.r,_xlfn.XMATCH(1,(Tableau37[MaterialNumber2]=_xlpm.m)*(Tableau37[Angle]=_xlpm.ang)*(Tableau37[Thickness]=_xlpm.th),0),_xlpm.c,_xlfn.XMATCH(TEXT(_xlpm.v,"0"),Tableau37[#Headers],0),IFERROR(INDEX(Tableau37[],_xlpm.r,_xlpm.c),""))} -> 0 | O14: 0
A15: 0 | B15: 0.5 | C15: 1 | E15: 30 | F15: 0 | G15: 0 | H15: {=_xlfn.LET(_xlpm.m,$A15,_xlpm.ang,VALUE(H$1),_xlpm.th,$B15,_xlpm.v,$E15,_xlpm.r,_xlfn.XMATCH(1,(Tableau37[MaterialNumber2]=_xlpm.m)*(Tableau37[Angle]=_xlpm.ang)*(Tableau37[Thickness]=_xlpm.th),0),_xlpm.c,_xlfn.XMATCH(TEXT(_xlpm.v,"0"),Tableau37[#Headers],0),IFERROR(INDEX(Tableau37[],_xlpm.r,_xlpm.c),""))} | I15: {=_xlfn.LET(_xlpm.m,$A15,_xlpm.ang,VALUE(I$1),_xlpm.th,$B15,_xlpm.v,$E15,_xlpm.r,_xlfn.XMATCH(1,(Tableau37[MaterialNumber2]=_xlpm.m)*(Tableau37[Angle]=_xlpm.ang)*(Tableau37[Thickness]=_xlpm.th),0),_xlpm.c,_xlfn.XMATCH(TEXT(_xlpm.v,"0"),Tableau37[#Headers],0),IFERROR(INDEX(Tableau37[],_xlpm.r,_xlpm.c),""))} | J15: {=_xlfn.LET(_xlpm.m,$A15,_xlpm.ang,VALUE(J$1),_xlpm.th,$B15,_xlpm.v,$E15,_xlpm.r,_xlfn.XMATCH(1,(Tableau37[MaterialNumber2]=_xlpm.m)*(Tableau37[Angle]=_xlpm.ang)*(Tableau37[Thickness]=_xlpm.th),0),_xlpm.c,_xlfn.XMATCH(TEXT(_xlpm.v,"0"),Tableau37[#Headers],0),IFERROR(INDEX(Tableau37[],_xlpm.r,_xlpm.c),""))} | K15: {=_xlfn.LET(_xlpm.m,$A15,_xlpm.ang,VALUE(K$1),_xlpm.th,$B15,_xlpm.v,$E15,_xlpm.r,_xlfn.XMATCH(1,(Tableau37[MaterialNumber2]=_xlpm.m)*(Tableau37[Angle]=_xlpm.ang)*(Tableau37[Thickness]=_xlpm.th),0),_xlpm.c,_xlfn.XMATCH(TEXT(_xlpm.v,"0"),Tableau37[#Headers],0),IFERROR(INDEX(Tableau37[],_xlpm.r,_xlpm.c),""))} | L15: {=_xlfn.LET(_xlpm.m,$A15,_xlpm.ang,VALUE(L$1),_xlpm.th,$B15,_xlpm.v,$E15,_xlpm.r,_xlfn.XMATCH(1,(Tableau37[MaterialNumber2]=_xlpm.m)*(Tableau37[Angle]=_xlpm.ang)*(Tableau37[Thickness]=_xlpm.th),0),_xlpm.c,_xlfn.XMATCH(TEXT(_xlpm.v,"0"),Tableau37[#Headers],0),IFERROR(INDEX(Tableau37[],_xlpm.r,_xlpm.c),""))} | M15: {=_xlfn.LET(_xlpm.m,$A15,_xlpm.ang,VALUE(M$1),_xlpm.th,$B15,_xlpm.v,$E15,_xlpm.r,_xlfn.XMATCH(1,(Tableau37[MaterialNumber2]=_xlpm.m)*(Tableau37[Angle]=_xlpm.ang)*(Tableau37[Thickness]=_xlpm.th),0),_xlpm.c,_xlfn.XMATCH(TEXT(_xlpm.v,"0"),Tableau37[#Headers],0),IFERROR(INDEX(Tableau37[],_xlpm.r,_xlpm.c),""))} | N15: {=_xlfn.LET(_xlpm.m,$A15,_xlpm.ang,VALUE(N$1),_xlpm.th,$B15,_xlpm.v,$E15,_xlpm.r,_xlfn.XMATCH(1,(Tableau37[MaterialNumber2]=_xlpm.m)*(Tableau37[Angle]=_xlpm.ang)*(Tableau37[Thickness]=_xlpm.th),0),_xlpm.c,_xlfn.XMATCH(TEXT(_xlpm.v,"0"),Tableau37[#Headers],0),IFERROR(INDEX(Tableau37[],_xlpm.r,_xlpm.c),""))} | O15: 0
A16: 0 | B16: 0.5 | C16: 1 | D16: 5 | E16: 32 | F16: 0 | G16: 0 | H16: {=_xlfn.LET(_xlpm.m,$A16,_xlpm.ang,VALUE(H$1),_xlpm.th,$B16,_xlpm.v,$E16,_xlpm.r,_xlfn.XMATCH(1,(Tableau37[MaterialNumber2]=_xlpm.m)*(Tableau37[Angle]=_xlpm.ang)*(Tableau37[Thickness]=_xlpm.th),0),_xlpm.c,_xlfn.XMATCH(TEXT(_xlpm.v,"0"),Tableau37[#Headers],0),IFERROR(INDEX(Tableau37[],_xlpm.r,_xlpm.c),""))} -> 0 | I16: {=_xlfn.LET(_xlpm.m,$A16,_xlpm.ang,VALUE(I$1),_xlpm.th,$B16,_xlpm.v,$E16,_xlpm.r,_xlfn.XMATCH(1,(Tableau37[MaterialNumber2]=_xlpm.m)*(Tableau37[Angle]=_xlpm.ang)*(Tableau37[Thickness]=_xlpm.th),0),_xlpm.c,_xlfn.XMATCH(TEXT(_xlpm.v,"0"),Tableau37[#Headers],0),IFERROR(INDEX(Tableau37[],_xlpm.r,_xlpm.c),""))} -> 0 | J16: {=_xlfn.LET(_xlpm.m,$A16,_xlpm.ang,VALUE(J$1),_xlpm.th,$B16,_xlpm.v,$E16,_xlpm.r,_xlfn.XMATCH(1,(Tableau37[MaterialNumber2]=_xlpm.m)*(Tableau37[Angle]=_xlpm.ang)*(Tableau37[Thickness]=_xlpm.th),0),_xlpm.c,_xlfn.XMATCH(TEXT(_xlpm.v,"0"),Tableau37[#Headers],0),IFERROR(INDEX(Tableau37[],_xlpm.r,_xlpm.c),""))} -> 0 | K16: {=_xlfn.LET(_xlpm.m,$A16,_xlpm.ang,VALUE(K$1),_xlpm.th,$B16,_xlpm.v,$E16,_xlpm.r,_xlfn.XMATCH(1,(Tableau37[MaterialNumber2]=_xlpm.m)*(Tableau37[Angle]=_xlpm.ang)*(Tableau37[Thickness]=_xlpm.th),0),_xlpm.c,_xlfn.XMATCH(TEXT(_xlpm.v,"0"),Tableau37[#Headers],0),IFERROR(INDEX(Tableau37[],_xlpm.r,_xlpm.c),""))} -> 0 | L16: {=_xlfn.LET(_xlpm.m,$A16,_xlpm.ang,VALUE(L$1),_xlpm.th,$B16,_xlpm.v,$E16,_xlpm.r,_xlfn.XMATCH(1,(Tableau37[MaterialNumber2]=_xlpm.m)*(Tableau37[Angle]=_xlpm.ang)*(Tableau37[Thickness]=_xlpm.th),0),_xlpm.c,_xlfn.XMATCH(TEXT(_xlpm.v,"0"),Tableau37[#Headers],0),IFERROR(INDEX(Tableau37[],_xlpm.r,_xlpm.c),""))} -> 0 | M16: {=_xlfn.LET(_xlpm.m,$A16,_xlpm.ang,VALUE(M$1),_xlpm.th,$B16,_xlpm.v,$E16,_xlpm.r,_xlfn.XMATCH(1,(Tableau37[MaterialNumber2]=_xlpm.m)*(Tableau37[Angle]=_xlpm.ang)*(Tableau37[Thickness]=_xlpm.th),0),_xlpm.c,_xlfn.XMATCH(TEXT(_xlpm.v,"0"),Tableau37[#Headers],0),IFERROR(INDEX(Tableau37[],_xlpm.r,_xlpm.c),""))} -> 0 | N16: {=_xlfn.LET(_xlpm.m,$A16,_xlpm.ang,VALUE(N$1),_xlpm.th,$B16,_xlpm.v,$E16,_xlpm.r,_xlfn.XMATCH(1,(Tableau37[MaterialNumber2]=_xlpm.m)*(Tableau37[Angle]=_xlpm.ang)*(Tableau37[Thickness]=_xlpm.th),0),_xlpm.c,_xlfn.XMATCH(TEXT(_xlpm.v,"0"),Tableau37[#Headers],0),IFERROR(INDEX(Tableau37[],_xlpm.r,_xlpm.c),""))} -> 0 | O16: 0
A17: 0 | B17: 0.5 | C17: 1 | D17: 6.5 | E17: 40 | F17: 0 | G17: 0 | H17: {=_xlfn.LET(_xlpm.m,$A17,_xlpm.ang,VALUE(H$1),_xlpm.th,$B17,_xlpm.v,$E17,_xlpm.r,_xlfn.XMATCH(1,(Tableau37[MaterialNumber2]=_xlpm.m)*(Tableau37[Angle]=_xlpm.ang)*(Tableau37[Thickness]=_xlpm.th),0),_xlpm.c,_xlfn.XMATCH(TEXT(_xlpm.v,"0"),Tableau37[#Headers],0),IFERROR(INDEX(Tableau37[],_xlpm.r,_xlpm.c),""))} -> 0 | I17: {=_xlfn.LET(_xlpm.m,$A17,_xlpm.ang,VALUE(I$1),_xlpm.th,$B17,_xlpm.v,$E17,_xlpm.r,_xlfn.XMATCH(1,(Tableau37[MaterialNumber2]=_xlpm.m)*(Tableau37[Angle]=_xlpm.ang)*(Tableau37[Thickness]=_xlpm.th),0),_xlpm.c,_xlfn.XMATCH(TEXT(_xlpm.v,"0"),Tableau37[#Headers],0),IFERROR(INDEX(Tableau37[],_xlpm.r,_xlpm.c),""))} -> 0 | J17: {=_xlfn.LET(_xlpm.m,$A17,_xlpm.ang,VALUE(J$1),_xlpm.th,$B17,_xlpm.v,$E17,_xlpm.r,_xlfn.XMATCH(1,(Tableau37[MaterialNumber2]=_xlpm.m)*(Tableau37[Angle]=_xlpm.ang)*(Tableau37[Thickness]=_xlpm.th),0),_xlpm.c,_xlfn.XMATCH(TEXT(_xlpm.v,"0"),Tableau37[#Headers],0),IFERROR(INDEX(Tableau37[],_xlpm.r,_xlpm.c),""))} -> 0 | K17: {=_xlfn.LET(_xlpm.m,$A17,_xlpm.ang,VALUE(K$1),_xlpm.th,$B17,_xlpm.v,$E17,_xlpm.r,_xlfn.XMATCH(1,(Tableau37[MaterialNumber2]=_xlpm.m)*(Tableau37[Angle]=_xlpm.ang)*(Tableau37[Thickness]=_xlpm.th),0),_xlpm.c,_xlfn.XMATCH(TEXT(_xlpm.v,"0"),Tableau37[#Headers],0),IFERROR(INDEX(Tableau37[],_xlpm.r,_xlpm.c),""))} -> 0 | L17: {=_xlfn.LET(_xlpm.m,$A17,_xlpm.ang,VALUE(L$1),_xlpm.th,$B17,_xlpm.v,$E17,_xlpm.r,_xlfn.XMATCH(1,(Tableau37[MaterialNumber2]=_xlpm.m)*(Tableau37[Angle]=_xlpm.ang)*(Tableau37[Thickness]=_xlpm.th),0),_xlpm.c,_xlfn.XMATCH(TEXT(_xlpm.v,"0"),Tableau37[#Headers],0),IFERROR(INDEX(Tableau37[],_xlpm.r,_xlpm.c),""))} -> 0 | M17: {=_xlfn.LET(_xlpm.m,$A17,_xlpm.ang,VALUE(M$1),_xlpm.th,$B17,_xlpm.v,$E17,_xlpm.r,_xlfn.XMATCH(1,(Tableau37[MaterialNumber2]=_xlpm.m)*(Tableau37[Angle]=_xlpm.ang)*(Tableau37[Thickness]=_xlpm.th),0),_xlpm.c,_xlfn.XMATCH(TEXT(_xlpm.v,"0"),Tableau37[#Headers],0),IFERROR(INDEX(Tableau37[],_xlpm.r,_xlpm.c),""))} -> 0 | N17: {=_xlfn.LET(_xlpm.m,$A17,_xlpm.ang,VALUE(N$1),_xlpm.th,$B17,_xlpm.v,$E17,_xlpm.r,_xlfn.XMATCH(1,(Tableau37[MaterialNumber2]=_xlpm.m)*(Tableau37[Angle]=_xlpm.ang)*(Tableau37[Thickness]=_xlpm.th),0),_xlpm.c,_xlfn.XMATCH(TEXT(_xlpm.v,"0"),Tableau37[#Headers],0),IFERROR(INDEX(Tableau37[],_xlpm.r,_xlpm.c),""))} -> 0 | O17: 0
A18: 0 | B18: 0.5 | C18: 1 | D18: 8 | E18: 50 | F18: 0 | G18: 0 | H18: {=_xlfn.LET(_xlpm.m,$A18,_xlpm.ang,VALUE(H$1),_xlpm.th,$B18,_xlpm.v,$E18,_xlpm.r,_xlfn.XMATCH(1,(Tableau37[MaterialNumber2]=_xlpm.m)*(Tableau37[Angle]=_xlpm.ang)*(Tableau37[Thickness]=_xlpm.th),0),_xlpm.c,_xlfn.XMATCH(TEXT(_xlpm.v,"0"),Tableau37[#Headers],0),IFERROR(INDEX(Tableau37[],_xlpm.r,_xlpm.c),""))} -> 0 | I18: {=_xlfn.LET(_xlpm.m,$A18,_xlpm.ang,VALUE(I$1),_xlpm.th,$B18,_xlpm.v,$E18,_xlpm.r,_xlfn.XMATCH(1,(Tableau37[MaterialNumber2]=_xlpm.m)*(Tableau37[Angle]=_xlpm.ang)*(Tableau37[Thickness]=_xlpm.th),0),_xlpm.c,_xlfn.XMATCH(TEXT(_xlpm.v,"0"),Tableau37[#Headers],0),IFERROR(INDEX(Tableau37[],_xlpm.r,_xlpm.c),""))} -> 0 | J18: {=_xlfn.LET(_xlpm.m,$A18,_xlpm.ang,VALUE(J$1),_xlpm.th,$B18,_xlpm.v,$E18,_xlpm.r,_xlfn.XMATCH(1,(Tableau37[MaterialNumber2]=_xlpm.m)*(Tableau37[Angle]=_xlpm.ang)*(Tableau37[Thickness]=_xlpm.th),0),_xlpm.c,_xlfn.XMATCH(TEXT(_xlpm.v,"0"),Tableau37[#Headers],0),IFERROR(INDEX(Tableau37[],_xlpm.r,_xlpm.c),""))} -> 0 | K18: {=_xlfn.LET(_xlpm.m,$A18,_xlpm.ang,VALUE(K$1),_xlpm.th,$B18,_xlpm.v,$E18,_xlpm.r,_xlfn.XMATCH(1,(Tableau37[MaterialNumber2]=_xlpm.m)*(Tableau37[Angle]=_xlpm.ang)*(Tableau37[Thickness]=_xlpm.th),0),_xlpm.c,_xlfn.XMATCH(TEXT(_xlpm.v,"0"),Tableau37[#Headers],0),IFERROR(INDEX(Tableau37[],_xlpm.r,_xlpm.c),""))} -> 0 | L18: {=_xlfn.LET(_xlpm.m,$A18,_xlpm.ang,VALUE(L$1),_xlpm.th,$B18,_xlpm.v,$E18,_xlpm.r,_xlfn.XMATCH(1,(Tableau37[MaterialNumber2]=_xlpm.m)*(Tableau37[Angle]=_xlpm.ang)*(Tableau37[Thickness]=_xlpm.th),0),_xlpm.c,_xlfn.XMATCH(TEXT(_xlpm.v,"0"),Tableau37[#Headers],0),IFERROR(INDEX(Tableau37[],_xlpm.r,_xlpm.c),""))} -> 0 | M18: {=_xlfn.LET(_xlpm.m,$A18,_xlpm.ang,VALUE(M$1),_xlpm.th,$B18,_xlpm.v,$E18,_xlpm.r,_xlfn.XMATCH(1,(Tableau37[MaterialNumber2]=_xlpm.m)*(Tableau37[Angle]=_xlpm.ang)*(Tableau37[Thickness]=_xlpm.th),0),_xlpm.c,_xlfn.XMATCH(TEXT(_xlpm.v,"0"),Tableau37[#Headers],0),IFERROR(INDEX(Tableau37[],_xlpm.r,_xlpm.c),""))} -> 0 | N18: {=_xlfn.LET(_xlpm.m,$A18,_xlpm.ang,VALUE(N$1),_xlpm.th,$B18,_xlpm.v,$E18,_xlpm.r,_xlfn.XMATCH(1,(Tableau37[MaterialNumber2]=_xlpm.m)*(Tableau37[Angle]=_xlpm.ang)*(Tableau37[Thickness]=_xlpm.th),0),_xlpm.c,_xlfn.XMATCH(TEXT(_xlpm.v,"0"),Tableau37[#Headers],0),IFERROR(INDEX(Tableau37[],_xlpm.r,_xlpm.c),""))} -> 0 | O18: 0
A19: 0 | B19: 0.5 | C19: 1 | D19: 10 | E19: 63 | F19: 0 | G19: 0 | H19: {=_xlfn.LET(_xlpm.m,$A19,_xlpm.ang,VALUE(H$1),_xlpm.th,$B19,_xlpm.v,$E19,_xlpm.r,_xlfn.XMATCH(1,(Tableau37[MaterialNumber2]=_xlpm.m)*(Tableau37[Angle]=_xlpm.ang)*(Tableau37[Thickness]=_xlpm.th),0),_xlpm.c,_xlfn.XMATCH(TEXT(_xlpm.v,"0"),Tableau37[#Headers],0),IFERROR(INDEX(Tableau37[],_xlpm.r,_xlpm.c),""))} -> 0 | I19: {=_xlfn.LET(_xlpm.m,$A19,_xlpm.ang,VALUE(I$1),_xlpm.th,$B19,_xlpm.v,$E19,_xlpm.r,_xlfn.XMATCH(1,(Tableau37[MaterialNumber2]=_xlpm.m)*(Tableau37[Angle]=_xlpm.ang)*(Tableau37[Thickness]=_xlpm.th),0),_xlpm.c,_xlfn.XMATCH(TEXT(_xlpm.v,"0"),Tableau37[#Headers],0),IFERROR(INDEX(Tableau37[],_xlpm.r,_xlpm.c),""))} -> 0 | J19: {=_xlfn.LET(_xlpm.m,$A19,_xlpm.ang,VALUE(J$1),_xlpm.th,$B19,_xlpm.v,$E19,_xlpm.r,_xlfn.XMATCH(1,(Tableau37[MaterialNumber2]=_xlpm.m)*(Tableau37[Angle]=_xlpm.ang)*(Tableau37[Thickness]=_xlpm.th),0),_xlpm.c,_xlfn.XMATCH(TEXT(_xlpm.v,"0"),Tableau37[#Headers],0),IFERROR(INDEX(Tableau37[],_xlpm.r,_xlpm.c),""))} -> 0 | K19: {=_xlfn.LET(_xlpm.m,$A19,_xlpm.ang,VALUE(K$1),_xlpm.th,$B19,_xlpm.v,$E19,_xlpm.r,_xlfn.XMATCH(1,(Tableau37[MaterialNumber2]=_xlpm.m)*(Tableau37[Angle]=_xlpm.ang)*(Tableau37[Thickness]=_xlpm.th),0),_xlpm.c,_xlfn.XMATCH(TEXT(_xlpm.v,"0"),Tableau37[#Headers],0),IFERROR(INDEX(Tableau37[],_xlpm.r,_xlpm.c),""))} -> 0 | L19: {=_xlfn.LET(_xlpm.m,$A19,_xlpm.ang,VALUE(L$1),_xlpm.th,$B19,_xlpm.v,$E19,_xlpm.r,_xlfn.XMATCH(1,(Tableau37[MaterialNumber2]=_xlpm.m)*(Tableau37[Angle]=_xlpm.ang)*(Tableau37[Thickness]=_xlpm.th),0),_xlpm.c,_xlfn.XMATCH(TEXT(_xlpm.v,"0"),Tableau37[#Headers],0),IFERROR(INDEX(Tableau37[],_xlpm.r,_xlpm.c),""))} -> 0 | M19: {=_xlfn.LET(_xlpm.m,$A19,_xlpm.ang,VALUE(M$1),_xlpm.th,$B19,_xlpm.v,$E19,_xlpm.r,_xlfn.XMATCH(1,(Tableau37[MaterialNumber2]=_xlpm.m)*(Tableau37[Angle]=_xlpm.ang)*(Tableau37[Thickness]=_xlpm.th),0),_xlpm.c,_xlfn.XMATCH(TEXT(_xlpm.v,"0"),Tableau37[#Headers],0),IFERROR(INDEX(Tableau37[],_xlpm.r,_xlpm.c),""))} -> 0 | N19: {=_xlfn.LET(_xlpm.m,$A19,_xlpm.ang,VALUE(N$1),_xlpm.th,$B19,_xlpm.v,$E19,_xlpm.r,_xlfn.XMATCH(1,(Tableau37[MaterialNumber2]=_xlpm.m)*(Tableau37[Angle]=_xlpm.ang)*(Tableau37[Thickness]=_xlpm.th),0),_xlpm.c,_xlfn.XMATCH(TEXT(_xlpm.v,"0"),Tableau37[#Headers],0),IFERROR(INDEX(Tableau37[],_xlpm.r,_xlpm.c),""))} -> 0 | O19: 0
A20: 0 | B20: 0.5 | C20: 1 | D20: 13 | E20: 80 | F20: 0 | G20: 0 | H20: {=_xlfn.LET(_xlpm.m,$A20,_xlpm.ang,VALUE(H$1),_xlpm.th,$B20,_xlpm.v,$E20,_xlpm.r,_xlfn.XMATCH(1,(Tableau37[MaterialNumber2]=_xlpm.m)*(Tableau37[Angle]=_xlpm.ang)*(Tableau37[Thickness]=_xlpm.th),0),_xlpm.c,_xlfn.XMATCH(TEXT(_xlpm.v,"0"),Tableau37[#Headers],0),IFERROR(INDEX(Tableau37[],_xlpm.r,_xlpm.c),""))} -> 0 | I20: {=_xlfn.LET(_xlpm.m,$A20,_xlpm.ang,VALUE(I$1),_xlpm.th,$B20,_xlpm.v,$E20,_xlpm.r,_xlfn.XMATCH(1,(Tableau37[MaterialNumber2]=_xlpm.m)*(Tableau37[Angle]=_xlpm.ang)*(Tableau37[Thickness]=_xlpm.th),0),_xlpm.c,_xlfn.XMATCH(TEXT(_xlpm.v,"0"),Tableau37[#Headers],0),IFERROR(INDEX(Tableau37[],_xlpm.r,_xlpm.c),""))} -> 0 | J20: {=_xlfn.LET(_xlpm.m,$A20,_xlpm.ang,VALUE(J$1),_xlpm.th,$B20,_xlpm.v,$E20,_xlpm.r,_xlfn.XMATCH(1,(Tableau37[MaterialNumber2]=_xlpm.m)*(Tableau37[Angle]=_xlpm.ang)*(Tableau37[Thickness]=_xlpm.th),0),_xlpm.c,_xlfn.XMATCH(TEXT(_xlpm.v,"0"),Tableau37[#Headers],0),IFERROR(INDEX(Tableau37[],_xlpm.r,_xlpm.c),""))} -> 0 | K20: {=_xlfn.LET(_xlpm.m,$A20,_xlpm.ang,VALUE(K$1),_xlpm.th,$B20,_xlpm.v,$E20,_xlpm.r,_xlfn.XMATCH(1,(Tableau37[MaterialNumber2]=_xlpm.m)*(Tableau37[Angle]=_xlpm.ang)*(Tableau37[Thickness]=_xlpm.th),0),_xlpm.c,_xlfn.XMATCH(TEXT(_xlpm.v,"0"),Tableau37[#Headers],0),IFERROR(INDEX(Tableau37[],_xlpm.r,_xlpm.c),""))} -> 0 | L20: {=_xlfn.LET(_xlpm.m,$A20,_xlpm.ang,VALUE(L$1),_xlpm.th,$B20,_xlpm.v,$E20,_xlpm.r,_xlfn.XMATCH(1,(Tableau37[MaterialNumber2]=_xlpm.m)*(Tableau37[Angle]=_xlpm.ang)*(Tableau37[Thickness]=_xlpm.th),0),_xlpm.c,_xlfn.XMATCH(TEXT(_xlpm.v,"0"),Tableau37[#Headers],0),IFERROR(INDEX(Tableau37[],_xlpm.r,_xlpm.c),""))} -> 0 | M20: {=_xlfn.LET(_xlpm.m,$A20,_xlpm.ang,VALUE(M$1),_xlpm.th,$B20,_xlpm.v,$E20,_xlpm.r,_xlfn.XMATCH(1,(Tableau37[MaterialNumber2]=_xlpm.m)*(Tableau37[Angle]=_xlpm.ang)*(Tableau37[Thickness]=_xlpm.th),0),_xlpm.c,_xlfn.XMATCH(TEXT(_xlpm.v,"0"),Tableau37[#Headers],0),IFERROR(INDEX(Tableau37[],_xlpm.r,_xlpm.c),""))} -> 0 | N20: {=_xlfn.LET(_xlpm.m,$A20,_xlpm.ang,VALUE(N$1),_xlpm.th,$B20,_xlpm.v,$E20,_xlpm.r,_xlfn.XMATCH(1,(Tableau37[MaterialNumber2]=_xlpm.m)*(Tableau37[Angle]=_xlpm.ang)*(Tableau37[Thickness]=_xlpm.th),0),_xlpm.c,_xlfn.XMATCH(TEXT(_xlpm.v,"0"),Tableau37[#Headers],0),IFERROR(INDEX(Tableau37[],_xlpm.r,_xlpm.c),""))} -> 0 | O20: 0
A21: 0 | B21: 0.5 | C21: 1 | D21: 16 | E21: 100 | F21: 0 | G21: 0 | H21: {=_xlfn.LET(_xlpm.m,$A21,_xlpm.ang,VALUE(H$1),_xlpm.th,$B21,_xlpm.v,$E21,_xlpm.r,_xlfn.XMATCH(1,(Tableau37[MaterialNumber2]=_xlpm.m)*(Tableau37[Angle]=_xlpm.ang)*(Tableau37[Thickness]=_xlpm.th),0),_xlpm.c,_xlfn.XMATCH(TEXT(_xlpm.v,"0"),Tableau37[#Headers],0),IFERROR(INDEX(Tableau37[],_xlpm.r,_xlpm.c),""))} -> 0 | I21: {=_xlfn.LET(_xlpm.m,$A21,_xlpm.ang,VALUE(I$1),_xlpm.th,$B21,_xlpm.v,$E21,_xlpm.r,_xlfn.XMATCH(1,(Tableau37[MaterialNumber2]=_xlpm.m)*(Tableau37[Angle]=_xlpm.ang)*(Tableau37[Thickness]=_xlpm.th),0),_xlpm.c,_xlfn.XMATCH(TEXT(_xlpm.v,"0"),Tableau37[#Headers],0),IFERROR(INDEX(Tableau37[],_xlpm.r,_xlpm.c),""))} -> 0 | J21: {=_xlfn.LET(_xlpm.m,$A21,_xlpm.ang,VALUE(J$1),_xlpm.th,$B21,_xlpm.v,$E21,_xlpm.r,_xlfn.XMATCH(1,(Tableau37[MaterialNumber2]=_xlpm.m)*(Tableau37[Angle]=_xlpm.ang)*(Tableau37[Thickness]=_xlpm.th),0),_xlpm.c,_xlfn.XMATCH(TEXT(_xlpm.v,"0"),Tableau37[#Headers],0),IFERROR(INDEX(Tableau37[],_xlpm.r,_xlpm.c),""))} -> 0 | K21: {=_xlfn.LET(_xlpm.m,$A21,_xlpm.ang,VALUE(K$1),_xlpm.th,$B21,_xlpm.v,$E21,_xlpm.r,_xlfn.XMATCH(1,(Tableau37[MaterialNumber2]=_xlpm.m)*(Tableau37[Angle]=_xlpm.ang)*(Tableau37[Thickness]=_xlpm.th),0),_xlpm.c,_xlfn.XMATCH(TEXT(_xlpm.v,"0"),Tableau37[#Headers],0),IFERROR(INDEX(Tableau37[],_xlpm.r,_xlpm.c),""))} -> 0 | L21: {=_xlfn.LET(_xlpm.m,$A21,_xlpm.ang,VALUE(L$1),_xlpm.th,$B21,_xlpm.v,$E21,_xlpm.r,_xlfn.XMATCH(1,(Tableau37[MaterialNumber2]=_xlpm.m)*(Tableau37[Angle]=_xlpm.ang)*(Tableau37[Thickness]=_xlpm.th),0),_xlpm.c,_xlfn.XMATCH(TEXT(_xlpm.v,"0"),Tableau37[#Headers],0),IFERROR(INDEX(Tableau37[],_xlpm.r,_xlpm.c),""))} -> 0 | M21: {=_xlfn.LET(_xlpm.m,$A21,_xlpm.ang,VALUE(M$1),_xlpm.th,$B21,_xlpm.v,$E21,_xlpm.r,_xlfn.XMATCH(1,(Tableau37[MaterialNumber2]=_xlpm.m)*(Tableau37[Angle]=_xlpm.ang)*(Tableau37[Thickness]=_xlpm.th),0),_xlpm.c,_xlfn.XMATCH(TEXT(_xlpm.v,"0"),Tableau37[#Headers],0),IFERROR(INDEX(Tableau37[],_xlpm.r,_xlpm.c),""))} -> 0 | N21: {=_xlfn.LET(_xlpm.m,$A21,_xlpm.ang,VALUE(N$1),_xlpm.th,$B21,_xlpm.v,$E21,_xlpm.r,_xlfn.XMATCH(1,(Tableau37[MaterialNumber2]=_xlpm.m)*(Tableau37[Angle]=_xlpm.ang)*(Tableau37[Thickness]=_xlpm.th),0),_xlpm.c,_xlfn.XMATCH(TEXT(_xlpm.v,"0"),Tableau37[#Headers],0),IFERROR(INDEX(Tableau37[],_xlpm.r,_xlpm.c),""))} -> 0 | O21: 0
A22: 0 | B22: 0.5 | C22: 1 | D22: 20 | E22: 125 | F22: 0 | G22: 0 | H22: {=_xlfn.LET(_xlpm.m,$A22,_xlpm.ang,VALUE(H$1),_xlpm.th,$B22,_xlpm.v,$E22,_xlpm.r,_xlfn.XMATCH(1,(Tableau37[MaterialNumber2]=_xlpm.m)*(Tableau37[Angle]=_xlpm.ang)*(Tableau37[Thickness]=_xlpm.th),0),_xlpm.c,_xlfn.XMATCH(TEXT(_xlpm.v,"0"),Tableau37[#Headers],0),IFERROR(INDEX(Tableau37[],_xlpm.r,_xlpm.c),""))} -> 0 | I22: {=_xlfn.LET(_xlpm.m,$A22,_xlpm.ang,VALUE(I$1),_xlpm.th,$B22,_xlpm.v,$E22,_xlpm.r,_xlfn.XMATCH(1,(Tableau37[MaterialNumber2]=_xlpm.m)*(Tableau37[Angle]=_xlpm.ang)*(Tableau37[Thickness]=_xlpm.th),0),_xlpm.c,_xlfn.XMATCH(TEXT(_xlpm.v,"0"),Tableau37[#Headers],0),IFERROR(INDEX(Tableau37[],_xlpm.r,_xlpm.c),""))} -> 0 | J22: {=_xlfn.LET(_xlpm.m,$A22,_xlpm.ang,VALUE(J$1),_xlpm.th,$B22,_xlpm.v,$E22,_xlpm.r,_xlfn.XMATCH(1,(Tableau37[MaterialNumber2]=_xlpm.m)*(Tableau37[Angle]=_xlpm.ang)*(Tableau37[Thickness]=_xlpm.th),0),_xlpm.c,_xlfn.XMATCH(TEXT(_xlpm.v,"0"),Tableau37[#Headers],0),IFERROR(INDEX(Tableau37[],_xlpm.r,_xlpm.c),""))} -> 0 | K22: {=_xlfn.LET(_xlpm.m,$A22,_xlpm.ang,VALUE(K$1),_xlpm.th,$B22,_xlpm.v,$E22,_xlpm.r,_xlfn.XMATCH(1,(Tableau37[MaterialNumber2]=_xlpm.m)*(Tableau37[Angle]=_xlpm.ang)*(Tableau37[Thickness]=_xlpm.th),0),_xlpm.c,_xlfn.XMATCH(TEXT(_xlpm.v,"0"),Tableau37[#Headers],0),IFERROR(INDEX(Tableau37[],_xlpm.r,_xlpm.c),""))} -> 0 | L22: {=_xlfn.LET(_xlpm.m,$A22,_xlpm.ang,VALUE(L$1),_xlpm.th,$B22,_xlpm.v,$E22,_xlpm.r,_xlfn.XMATCH(1,(Tableau37[MaterialNumber2]=_xlpm.m)*(Tableau37[Angle]=_xlpm.ang)*(Tableau37[Thickness]=_xlpm.th),0),_xlpm.c,_xlfn.XMATCH(TEXT(_xlpm.v,"0"),Tableau37[#Headers],0),IFERROR(INDEX(Tableau37[],_xlpm.r,_xlpm.c),""))} -> 0 | M22: {=_xlfn.LET(_xlpm.m,$A22,_xlpm.ang,VALUE(M$1),_xlpm.th,$B22,_xlpm.v,$E22,_xlpm.r,_xlfn.XMATCH(1,(Tableau37[MaterialNumber2]=_xlpm.m)*(Tableau37[Angle]=_xlpm.ang)*(Tableau37[Thickness]=_xlpm.th),0),_xlpm.c,_xlfn.XMATCH(TEXT(_xlpm.v,"0"),Tableau37[#Headers],0),IFERROR(INDEX(Tableau37[],_xlpm.r,_xlpm.c),""))} -> 0 | N22: {=_xlfn.LET(_xlpm.m,$A22,_xlpm.ang,VALUE(N$1),_xlpm.th,$B22,_xlpm.v,$E22,_xlpm.r,_xlfn.XMATCH(1,(Tableau37[MaterialNumber2]=_xlpm.m)*(Tableau37[Angle]=_xlpm.ang)*(Tableau37[Thickness]=_xlpm.th),0),_xlpm.c,_xlfn.XMATCH(TEXT(_xlpm.v,"0"),Tableau37[#Headers],0),IFERROR(INDEX(Tableau37[],_xlpm.r,_xlpm.c),""))} -> 0 | O22: 0
A23: 0 | B23: 0.8 | C23: 1 | D23: 0.7 | E23: 4 | F23: 0 | G23: 0 | H23: {=_xlfn.LET(_xlpm.m,$A23,_xlpm.ang,VALUE(H$1),_xlpm.th,$B23,_xlpm.v,$E23,_xlpm.r,_xlfn.XMATCH(1,(Tableau37[MaterialNumber2]=_xlpm.m)*(Tableau37[Angle]=_xlpm.ang)*(Tableau37[Thickness]=_xlpm.th),0),_xlpm.c,_xlfn.XMATCH(TEXT(_xlpm.v,"0"),Tableau37[#Headers],0),IFERROR(INDEX(Tableau37[],_xlpm.r,_xlpm.c),""))} -> 0.234 | I23: {=_xlfn.LET(_xlpm.m,$A23,_xlpm.ang,VALUE(I$1),_xlpm.th,$B23,_xlpm.v,$E23,_xlpm.r,_xlfn.XMATCH(1,(Tableau37[MaterialNumber2]=_xlpm.m)*(Tableau37[Angle]=_xlpm.ang)*(Tableau37[Thickness]=_xlpm.th),0),_xlpm.c,_xlfn.XMATCH(TEXT(_xlpm.v,"0"),Tableau37[#Headers],0),IFERROR(INDEX(Tableau37[],_xlpm.r,_xlpm.c),""))} -> 0.498 | J23: {=_xlfn.LET(_xlpm.m,$A23,_xlpm.ang,VALUE(J$1),_xlpm.th,$B23,_xlpm.v,$E23,_xlpm.r,_xlfn.XMATCH(1,(Tableau37[MaterialNumber2]=_xlpm.m)*(Tableau37[Angle]=_xlpm.ang)*(Tableau37[Thickness]=_xlpm.th),0),_xlpm.c,_xlfn.XMATCH(TEXT(_xlpm.v,"0"),Tableau37[#Headers],0),IFERROR(INDEX(Tableau37[],_xlpm.r,_xlpm.c),""))} -> 0.796 | K23: {=_xlfn.LET(_xlpm.m,$A23,_xlpm.ang,VALUE(K$1),_xlpm.th,$B23,_xlpm.v,$E23,_xlpm.r,_xlfn.XMATCH(1,(Tableau37[MaterialNumber2]=_xlpm.m)*(Tableau37[Angle]=_xlpm.ang)*(Tableau37[Thickness]=_xlpm.th),0),_xlpm.c,_xlfn.XMATCH(TEXT(_xlpm.v,"0"),Tableau37[#Headers],0),IFERROR(INDEX(Tableau37[],_xlpm.r,_xlpm.c),""))} -> 1.332 | L23: {=_xlfn.LET(_xlpm.m,$A23,_xlpm.ang,VALUE(L$1),_xlpm.th,$B23,_xlpm.v,$E23,_xlpm.r,_xlfn.XMATCH(1,(Tableau37[MaterialNumber2]=_xlpm.m)*(Tableau37[Angle]=_xlpm.ang)*(Tableau37[Thickness]=_xlpm.th),0),_xlpm.c,_xlfn.XMATCH(TEXT(_xlpm.v,"0"),Tableau37[#Headers],0),IFERROR(INDEX(Tableau37[],_xlpm.r,_xlpm.c),""))} -> 0.656 | M23: {=_xlfn.LET(_xlpm.m,$A23,_xlpm.ang,VALUE(M$1),_xlpm.th,$B23,_xlpm.v,$E23,_xlpm.r,_xlfn.XMATCH(1,(Tableau37[MaterialNumber2]=_xlpm.m)*(Tableau37[Angle]=_xlpm.ang)*(Tableau37[Thickness]=_xlpm.th),0),_xlpm.c,_xlfn.XMATCH(TEXT(_xlpm.v,"0"),Tableau37[#Headers],0),IFERROR(INDEX(Tableau37[],_xlpm.r,_xlpm.c),""))} -> 0.424 | N23: {=_xlfn.LET(_xlpm.m,$A23,_xlpm.ang,VALUE(N$1),_xlpm.th,$B23,_xlpm.v,$E23,_xlpm.r,_xlfn.XMATCH(1,(Tableau37[MaterialNumber2]=_xlpm.m)*(Tableau37[Angle]=_xlpm.ang)*(Tableau37[Thickness]=_xlpm.th),0),_xlpm.c,_xlfn.XMATCH(TEXT(_xlpm.v,"0"),Tableau37[#Headers],0),IFERROR(INDEX(Tableau37[],_xlpm.r,_xlpm.c),""))} -> 0.222 | O23: 0
A24: 0 | B24: 0.8 | C24: 1 | D24: 1 | E24: 6 | F24: 0 | G24: 0 | H24: {=_xlfn.LET(_xlpm.m,$A24,_xlpm.ang,VALUE(H$1),_xlpm.th,$B24,_xlpm.v,$E24,_xlpm.r,_xlfn.XMATCH(1,(Tableau37[MaterialNumber2]=_xlpm.m)*(Tableau37[Angle]=_xlpm.ang)*(Tableau37[Thickness]=_xlpm.th),0),_xlpm.c,_xlfn.XMATCH(TEXT(_xlpm.v,"0"),Tableau37[#Headers],0),IFERROR(INDEX(Tableau37[],_xlpm.r,_xlpm.c),""))} -> 0.26 | I24: {=_xlfn.LET(_xlpm.m,$A24,_xlpm.ang,VALUE(I$1),_xlpm.th,$B24,_xlpm.v,$E24,_xlpm.r,_xlfn.XMATCH(1,(Tableau37[MaterialNumber2]=_xlpm.m)*(Tableau37[Angle]=_xlpm.ang)*(Tableau37[Thickness]=_xlpm.th),0),_xlpm.c,_xlfn.XMATCH(TEXT(_xlpm.v,"0"),Tableau37[#Headers],0),IFERROR(INDEX(Tableau37[],_xlpm.r,_xlpm.c),""))} -> 0.556 | J24: {=_xlfn.LET(_xlpm.m,$A24,_xlpm.ang,VALUE(J$1),_xlpm.th,$B24,_xlpm.v,$E24,_xlpm.r,_xlfn.XMATCH(1,(Tableau37[MaterialNumber2]=_xlpm.m)*(Tableau37[Angle]=_xlpm.ang)*(Tableau37[Thickness]=_xlpm.th),0),_xlpm.c,_xlfn.XMATCH(TEXT(_xlpm.v,"0"),Tableau37[#Headers],0),IFERROR(INDEX(Tableau37[],_xlpm.r,_xlpm.c),""))} -> 0.866 | K24: {=_xlfn.LET(_xlpm.m,$A24,_xlpm.ang,VALUE(K$1),_xlpm.th,$B24,_xlpm.v,$E24,_xlpm.r,_xlfn.XMATCH(1,(Tableau37[MaterialNumber2]=_xlpm.m)*(Tableau37[Angle]=_xlpm.ang)*(Tableau37[Thickness]=_xlpm.th),0),_xlpm.c,_xlfn.XMATCH(TEXT(_xlpm.v,"0"),Tableau37[#Headers],0),IFERROR(INDEX(Tableau37[],_xlpm.r,_xlpm.c),""))} -> 1.486 | L24: {=_xlfn.LET(_xlpm.m,$A24,_xlpm.ang,VALUE(L$1),_xlpm.th,$B24,_xlpm.v,$E24,_xlpm.r,_xlfn.XMATCH(1,(Tableau37[MaterialNumber2]=_xlpm.m)*(Tableau37[Angle]=_xlpm.ang)*(Tableau37[Thickness]=_xlpm.th),0),_xlpm.c,_xlfn.XMATCH(TEXT(_xlpm.v,"0"),Tableau37[#Headers],0),IFERROR(INDEX(Tableau37[],_xlpm.r,_xlpm.c),""))} -> 0.73 | M24: {=_xlfn.LET(_xlpm.m,$A24,_xlpm.ang,VALUE(M$1),_xlpm.th,$B24,_xlpm.v,$E24,_xlpm.r,_xlfn.XMATCH(1,(Tableau37[MaterialNumber2]=_xlpm.m)*(Tableau37[Angle]=_xlpm.ang)*(Tableau37[Thickness]=_xlpm.th),0),_xlpm.c,_xlfn.XMATCH(TEXT(_xlpm.v,"0"),Tableau37[#Headers],0),IFERROR(INDEX(Tableau37[],_xlpm.r,_xlpm.c),""))} -> 0.472 | N24: {=_xlfn.LET(_xlpm.m,$A24,_xlpm.ang,VALUE(N$1),_xlpm.th,$B24,_xlpm.v,$E24,_xlpm.r,_xlfn.XMATCH(1,(Tableau37[MaterialNumber2]=_xlpm.m)*(Tableau37[Angle]=_xlpm.ang)*(Tableau37[Thickness]=_xlpm.th),0),_xlpm.c,_xlfn.XMATCH(TEXT(_xlpm.v,"0"),Tableau37[#Headers],0),IFERROR(INDEX(Tableau37[],_xlpm.r,_xlpm.c),""))} -> 0.248 | O24: 0
A25: 0 | B25: 0.8 | C25: 1 | D25: 1.1 | E25: 7 | F25: 0 | G25: 0 | H25: {=_xlfn.LET(_xlpm.m,$A25,_xlpm.ang,VALUE(H$1),_xlpm.th,$B25,_xlpm.v,$E25,_xlpm.r,_xlfn.XMATCH(1,(Tableau37[MaterialNumber2]=_xlpm.m)*(Tableau37[Angle]=_xlpm.ang)*(Tableau37[Thickness]=_xlpm.th),0),_xlpm.c,_xlfn.XMATCH(TEXT(_xlpm.v,"0"),Tableau37[#Headers],0),IFERROR(INDEX(Tableau37[],_xlpm.r,_xlpm.c),""))} -> 0.274 | I25: {=_xlfn.LET(_xlpm.m,$A25,_xlpm.ang,VALUE(I$1),_xlpm.th,$B25,_xlpm.v,$E25,_xlpm.r,_xlfn.XMATCH(1,(Tableau37[MaterialNumber2]=_xlpm.m)*(Tableau37[Angle]=_xlpm.ang)*(Tableau37[Thickness]=_xlpm.th),0),_xlpm.c,_xlfn.XMATCH(TEXT(_xlpm.v,"0"),Tableau37[#Headers],0),IFERROR(INDEX(Tableau37[],_xlpm.r,_xlpm.c),""))} -> 0.584 | J25: {=_xlfn.LET(_xlpm.m,$A25,_xlpm.ang,VALUE(J$1),_xlpm.th,$B25,_xlpm.v,$E25,_xlpm.r,_xlfn.XMATCH(1,(Tableau37[MaterialNumber2]=_xlpm.m)*(Tableau37[Angle]=_xlpm.ang)*(Tableau37[Thickness]=_xlpm.th),0),_xlpm.c,_xlfn.XMATCH(TEXT(_xlpm.v,"0"),Tableau37[#Headers],0),IFERROR(INDEX(Tableau37[],_xlpm.r,_xlpm.c),""))} -> 0.912 | K25: {=_xlfn.LET(_xlpm.m,$A25,_xlpm.ang,VALUE(K$1),_xlpm.th,$B25,_xlpm.v,$E25,_xlpm.r,_xlfn.XMATCH(1,(Tableau37[MaterialNumber2]=_xlpm.m)*(Tableau37[Angle]=_xlpm.ang)*(Tableau37[Thickness]=_xlpm.th),0),_xlpm.c,_xlfn.XMATCH(TEXT(_xlpm.v,"0"),Tableau37[#Headers],0),IFERROR(INDEX(Tableau37[],_xlpm.r,_xlpm.c),""))} -> 1.562 | L25: {=_xlfn.LET(_xlpm.m,$A25,_xlpm.ang,VALUE(L$1),_xlpm.th,$B25,_xlpm.v,$E25,_xlpm.r,_xlfn.XMATCH(1,(Tableau37[MaterialNumber2]=_xlpm.m)*(Tableau37[Angle]=_xlpm.ang)*(Tableau37[Thickness]=_xlpm.th),0),_xlpm.c,_xlfn.XMATCH(TEXT(_xlpm.v,"0"),Tableau37[#Headers],0),IFERROR(INDEX(Tableau37[],_xlpm.r,_xlpm.c),""))} -> 0.768 | M25: {=_xlfn.LET(_xlpm.m,$A25,_xlpm.ang,VALUE(M$1),_xlpm.th,$B25,_xlpm.v,$E25,_xlpm.r,_xlfn.XMATCH(1,(Tableau37[MaterialNumber2]=_xlpm.m)*(Tableau37[Angle]=_xlpm.ang)*(Tableau37[Thickness]=_xlpm.th),0),_xlpm.c,_xlfn.XMATCH(TEXT(_xlpm.v,"0"),Tableau37[#Headers],0),IFERROR(INDEX(Tableau37[],_xlpm.r,_xlpm.c),""))} -> 0.496 | N25: {=_xlfn.LET(_xlpm.m,$A25,_xlpm.ang,VALUE(N$1),_xlpm.th,$B25,_xlpm.v,$E25,_xlpm.r,_xlfn.XMATCH(1,(Tableau37[MaterialNumber2]=_xlpm.m)*(Tableau37[Angle]=_xlpm.ang)*(Tableau37[Thickness]=_xlpm.th),0),_xlpm.c,_xlfn.XMATCH(TEXT(_xlpm.v,"0"),Tableau37[#Headers],0),IFERROR(INDEX(Tableau37[],_xlpm.r,_xlpm.c),""))} -> 0.26 | O25: 0
A26: 0 | B26: 0.8 | C26: 1 | D26: 1.3 | E26: 8 | F26: 0 | G26: 0 | H26: {=_xlfn.LET(_xlpm.m,$A26,_xlpm.ang,VALUE(H$1),_xlpm.th,$B26,_xlpm.v,$E26,_xlpm.r,_xlfn.XMATCH(1,(Tableau37[MaterialNumber2]=_xlpm.m)*(Tableau37[Angle]=_xlpm.ang)*(Tableau37[Thickness]=_xlpm.th),0),_xlpm.c,_xlfn.XMATCH(TEXT(_xlpm.v,"0"),Tableau37[#Headers],0),IFERROR(INDEX(Tableau37[],_xlpm.r,_xlpm.c),""))} -> 0.288 | I26: {=_xlfn.LET(_xlpm.m,$A26,_xlpm.ang,VALUE(I$1),_xlpm.th,$B26,_xlpm.v,$E26,_xlpm.r,_xlfn.XMATCH(1,(Tableau37[MaterialNumber2]=_xlpm.m)*(Tableau37[Angle]=_xlpm.ang)*(Tableau37[Thickness]=_xlpm.th),0),_xlpm.c,_xlfn.XMATCH(TEXT(_xlpm.v,"0"),Tableau37[#Headers],0),IFERROR(INDEX(Tableau37[],_xlpm.r,_xlpm.c),""))} -> 0.612 | J26: {=_xlfn.LET(_xlpm.m,$A26,_xlpm.ang,VALUE(J$1),_xlpm.th,$B26,_xlpm.v,$E26,_xlpm.r,_xlfn.XMATCH(1,(Tableau37[MaterialNumber2]=_xlpm.m)*(Tableau37[Angle]=_xlpm.ang)*(Tableau37[Thickness]=_xlpm.th),0),_xlpm.c,_xlfn.XMATCH(TEXT(_xlpm.v,"0"),Tableau37[#Headers],0),IFERROR(INDEX(Tableau37[],_xlpm.r,_xlpm.c),""))} -> 0.956 | K26: {=_xlfn.LET(_xlpm.m,$A26,_xlpm.ang,VALUE(K$1),_xlpm.th,$B26,_xlpm.v,$E26,_xlpm.r,_xlfn.XMATCH(1,(Tableau37[MaterialNumber2]=_xlpm.m)*(Tableau37[Angle]=_xlpm.ang)*(Tableau37[Thickness]=_xlpm.th),0),_xlpm.c,_xlfn.XMATCH(TEXT(_xlpm.v,"0"),Tableau37[#Headers],0),IFERROR(INDEX(Tableau37[],_xlpm.r,_xlpm.c),""))} -> 1.64 | L26: {=_xlfn.LET(_xlpm.m,$A26,_xlpm.ang,VALUE(L$1),_xlpm.th,$B26,_xlpm.v,$E26,_xlpm.r,_xlfn.XMATCH(1,(Tableau37[MaterialNumber2]=_xlpm.m)*(Tableau37[Angle]=_xlpm.ang)*(Tableau37[Thickness]=_xlpm.th),0),_xlpm.c,_xlfn.XMATCH(TEXT(_xlpm.v,"0"),Tableau37[#Headers],0),IFERROR(INDEX(Tableau37[],_xlpm.r,_xlpm.c),""))} -> 0.806 | M26: {=_xlfn.LET(_xlpm.m,$A26,_xlpm.ang,VALUE(M$1),_xlpm.th,$B26,_xlpm.v,$E26,_xlpm.r,_xlfn.XMATCH(1,(Tableau37[MaterialNumber2]=_xlpm.m)*(Tableau37[Angle]=_xlpm.ang)*(Tableau37[Thickness]=_xlpm.th),0),_xlpm.c,_xlfn.XMATCH(TEXT(_xlpm.v,"0"),Tableau37[#Headers],0),IFERROR(INDEX(Tableau37[],_xlpm.r,_xlpm.c),""))} -> 0.522 | N26: {=_xlfn.LET(_xlpm.m,$A26,_xlpm.ang,VALUE(N$1),_xlpm.th,$B26,_xlpm.v,$E26,_xlpm.r,_xlfn.XMATCH(1,(Tableau37[MaterialNumber2]=_xlpm.m)*(Tableau37[Angle]=_xlpm.ang)*(Tableau37[Thickness]=_xlpm.th),0),_xlpm.c,_xlfn.XMATCH(TEXT(_xlpm.v,"0"),Tableau37[#Headers],0),IFERROR(INDEX(Tableau37[],_xlpm.r,_xlpm.c),""))} -> 0.272 | O26: 0
A27: 0 | B27: 0.8 | C27: 1 | D27: 1.6 | E27: 10 | F27: 0 | G27: 0 | H27: {=_xlfn.LET(_xlpm.m,$A27,_xlpm.ang,VALUE(H$1),_xlpm.th,$B27,_xlpm.v,$E27,_xlpm.r,_xlfn.XMATCH(1,(Tableau37[MaterialNumber2]=_xlpm.m)*(Tableau37[Angle]=_xlpm.ang)*(Tableau37[Thickness]=_xlpm.th),0),_xlpm.c,_xlfn.XMATCH(TEXT(_xlpm.v,"0"),Tableau37[#Headers],0),IFERROR(INDEX(Tableau37[],_xlpm.r,_xlpm.c),""))} -> 0.314 | I27: {=_xlfn.LET(_xlpm.m,$A27,_xlpm.ang,VALUE(I$1),_xlpm.th,$B27,_xlpm.v,$E27,_xlpm.r,_xlfn.XMATCH(1,(Tableau37[MaterialNumber2]=_xlpm.m)*(Tableau37[Angle]=_xlpm.ang)*(Tableau37[Thickness]=_xlpm.th),0),_xlpm.c,_xlfn.XMATCH(TEXT(_xlpm.v,"0"),Tableau37[#Headers],0),IFERROR(INDEX(Tableau37[],_xlpm.r,_xlpm.c),""))} -> 0.67 | J27: {=_xlfn.LET(_xlpm.m,$A27,_xlpm.ang,VALUE(J$1),_xlpm.th,$B27,_xlpm.v,$E27,_xlpm.r,_xlfn.XMATCH(1,(Tableau37[MaterialNumber2]=_xlpm.m)*(Tableau37[Angle]=_xlpm.ang)*(Tableau37[Thickness]=_xlpm.th),0),_xlpm.c,_xlfn.XMATCH(TEXT(_xlpm.v,"0"),Tableau37[#Headers],0),IFERROR(INDEX(Tableau37[],_xlpm.r,_xlpm.c),""))} -> 1.046 | K27: {=_xlfn.LET(_xlpm.m,$A27,_xlpm.ang,VALUE(K$1),_xlpm.th,$B27,_xlpm.v,$E27,_xlpm.r,_xlfn.XMATCH(1,(Tableau37[MaterialNumber2]=_xlpm.m)*(Tableau37[Angle]=_xlpm.ang)*(Tableau37[Thickness]=_xlpm.th),0),_xlpm.c,_xlfn.XMATCH(TEXT(_xlpm.v,"0"),Tableau37[#Headers],0),IFERROR(INDEX(Tableau37[],_xlpm.r,_xlpm.c),""))} -> 1.79 | L27: {=_xlfn.LET(_xlpm.m,$A27,_xlpm.ang,VALUE(L$1),_xlpm.th,$B27,_xlpm.v,$E27,_xlpm.r,_xlfn.XMATCH(1,(Tableau37[MaterialNumber2]=_xlpm.m)*(Tableau37[Angle]=_xlpm.ang)*(Tableau37[Thickness]=_xlpm.th),0),_xlpm.c,_xlfn.XMATCH(TEXT(_xlpm.v,"0"),Tableau37[#Headers],0),IFERROR(INDEX(Tableau37[],_xlpm.r,_xlpm.c),""))} -> 0.882 | M27: {=_xlfn.LET(_xlpm.m,$A27,_xlpm.ang,VALUE(M$1),_xlpm.th,$B27,_xlpm.v,$E27,_xlpm.r,_xlfn.XMATCH(1,(Tableau37[MaterialNumber2]=_xlpm.m)*(Tableau37[Angle]=_xlpm.ang)*(Tableau37[Thickness]=_xlpm.th),0),_xlpm.c,_xlfn.XMATCH(TEXT(_xlpm.v,"0"),Tableau37[#Headers],0),IFERROR(INDEX(Tableau37[],_xlpm.r,_xlpm.c),""))} -> 0.57 | N27: {=_xlfn.LET(_xlpm.m,$A27,_xlpm.ang,VALUE(N$1),_xlpm.th,$B27,_xlpm.v,$E27,_xlpm.r,_xlfn.XMATCH(1,(Tableau37[MaterialNumber2]=_xlpm.m)*(Tableau37[Angle]=_xlpm.ang)*(Tableau37[Thickness]=_xlpm.th),0),_xlpm.c,_xlfn.XMATCH(TEXT(_xlpm.v,"0"),Tableau37[#Headers],0),IFERROR(INDEX(Tableau37[],_xlpm.r,_xlpm.c),""))} -> 0.296 | O27: 0
... A29: 0 | B29: 0.8 | C29: 1 | D29: 2.3 | E29: 14 | F29: 0 | G29: 0 | H29: {=_xlfn.LET(_xlpm.m,$A29,_xlpm.ang,VALUE(H$1),_xlpm.th,$B29,_xlpm.v,$E29,_xlpm.r,_xlfn.XMATCH(1,(Tableau37[MaterialNumber2]=_xlpm.m)*(Tableau37[Angle]=_xlpm.ang)*(Tableau37[Thickness]=_xlpm.th),0),_xlpm.c,_xlfn.XMATCH(TEXT(_xlpm.v,"0"),Tableau37[#Headers],0),IFERROR(INDEX(Tableau37[],_xlpm.r,_xlpm.c),""))} -> 0.368 | I29: {=_xlfn.LET(_xlpm.m,$A29,_xlpm.ang,VALUE(I$1),_xlpm.th,$B29,_xlpm.v,$E29,_xlpm.r,_xlfn.XMATCH(1,(Tableau37[MaterialNumber2]=_xlpm.m)*(Tableau37[Angle]=_xlpm.ang)*(Tableau37[Thickness]=_xlpm.th),0),_xlpm.c,_xlfn.XMATCH(TEXT(_xlpm.v,"0"),Tableau37[#Headers],0),IFERROR(INDEX(Tableau37[],_xlpm.r,_xlpm.c),""))} -> 0.784 | J29: {=_xlfn.LET(_xlpm.m,$A29,_xlpm.ang,VALUE(J$1),_xlpm.th,$B29,_xlpm.v,$E29,_xlpm.r,_xlfn.XMATCH(1,(Tableau37[MaterialNumber2]=_xlpm.m)*(Tableau37[Angle]=_xlpm.ang)*(Tableau37[Thickness]=_xlpm.th),0),_xlpm.c,_xlfn.XMATCH(TEXT(_xlpm.v,"0"),Tableau37[#Headers],0),IFERROR(INDEX(Tableau37[],_xlpm.r,_xlpm.c),""))} -> 1.224 | K29: {=_xlfn.LET(_xlpm.m,$A29,_xlpm.ang,VALUE(K$1),_xlpm.th,$B29,_xlpm.v,$E29,_xlpm.r,_xlfn.XMATCH(1,(Tableau37[MaterialNumber2]=_xlpm.m)*(Tableau37[Angle]=_xlpm.ang)*(Tableau37[Thickness]=_xlpm.th),0),_xlpm.c,_xlfn.XMATCH(TEXT(_xlpm.v,"0"),Tableau37[#Headers],0),IFERROR(INDEX(Tableau37[],_xlpm.r,_xlpm.c),""))} -> 2.098 | L29: {=_xlfn.LET(_xlpm.m,$A29,_xlpm.ang,VALUE(L$1),_xlpm.th,$B29,_xlpm.v,$E29,_xlpm.r,_xlfn.XMATCH(1,(Tableau37[MaterialNumber2]=_xlpm.m)*(Tableau37[Angle]=_xlpm.ang)*(Tableau37[Thickness]=_xlpm.th),0),_xlpm.c,_xlfn.XMATCH(TEXT(_xlpm.v,"0"),Tableau37[#Headers],0),IFERROR(INDEX(Tableau37[],_xlpm.r,_xlpm.c),""))} -> 1.032 | M29: {=_xlfn.LET(_xlpm.m,$A29,_xlpm.ang,VALUE(M$1),_xlpm.th,$B29,_xlpm.v,$E29,_xlpm.r,_xlfn.XMATCH(1,(Tableau37[MaterialNumber2]=_xlpm.m)*(Tableau37[Angle]=_xlpm.ang)*(Tableau37[Thickness]=_xlpm.th),0),_xlpm.c,_xlfn.XMATCH(TEXT(_xlpm.v,"0"),Tableau37[#Headers],0),IFERROR(INDEX(Tableau37[],_xlpm.r,_xlpm.c),""))} -> 0.668 | N29: {=_xlfn.LET(_xlpm.m,$A29,_xlpm.ang,VALUE(N$1),_xlpm.th,$B29,_xlpm.v,$E29,_xlpm.r,_xlfn.XMATCH(1,(Tableau37[MaterialNumber2]=_xlpm.m)*(Tableau37[Angle]=_xlpm.ang)*(Tableau37[Thickness]=_xlpm.th),0),_xlpm.c,_xlfn.XMATCH(TEXT(_xlpm.v,"0"),Tableau37[#Headers],0),IFERROR(INDEX(Tableau37[],_xlpm.r,_xlpm.c),""))} -> 0.35 | O29: 0
A30: 0 | B30: 0.8 | C30: 1 | E30: 15 | F30: 0 | G30: 0 | H30: {=_xlfn.LET(_xlpm.m,$A30,_xlpm.ang,VALUE(H$1),_xlpm.th,$B30,_xlpm.v,$E30,_xlpm.r,_xlfn.XMATCH(1,(Tableau37[MaterialNumber2]=_xlpm.m)*(Tableau37[Angle]=_xlpm.ang)*(Tableau37[Thickness]=_xlpm.th),0),_xlpm.c,_xlfn.XMATCH(TEXT(_xlpm.v,"0"),Tableau37[#Headers],0),IFERROR(INDEX(Tableau37[],_xlpm.r,_xlpm.c),""))} | I30: {=_xlfn.LET(_xlpm.m,$A30,_xlpm.ang,VALUE(I$1),_xlpm.th,$B30,_xlpm.v,$E30,_xlpm.r,_xlfn.XMATCH(1,(Tableau37[MaterialNumber2]=_xlpm.m)*(Tableau37[Angle]=_xlpm.ang)*(Tableau37[Thickness]=_xlpm.th),0),_xlpm.c,_xlfn.XMATCH(TEXT(_xlpm.v,"0"),Tableau37[#Headers],0),IFERROR(INDEX(Tableau37[],_xlpm.r,_xlpm.c),""))} | J30: {=_xlfn.LET(_xlpm.m,$A30,_xlpm.ang,VALUE(J$1),_xlpm.th,$B30,_xlpm.v,$E30,_xlpm.r,_xlfn.XMATCH(1,(Tableau37[MaterialNumber2]=_xlpm.m)*(Tableau37[Angle]=_xlpm.ang)*(Tableau37[Thickness]=_xlpm.th),0),_xlpm.c,_xlfn.XMATCH(TEXT(_xlpm.v,"0"),Tableau37[#Headers],0),IFERROR(INDEX(Tableau37[],_xlpm.r,_xlpm.c),""))} | K30: {=_xlfn.LET(_xlpm.m,$A30,_xlpm.ang,VALUE(K$1),_xlpm.th,$B30,_xlpm.v,$E30,_xlpm.r,_xlfn.XMATCH(1,(Tableau37[MaterialNumber2]=_xlpm.m)*(Tableau37[Angle]=_xlpm.ang)*(Tableau37[Thickness]=_xlpm.th),0),_xlpm.c,_xlfn.XMATCH(TEXT(_xlpm.v,"0"),Tableau37[#Headers],0),IFERROR(INDEX(Tableau37[],_xlpm.r,_xlpm.c),""))} | L30: {=_xlfn.LET(_xlpm.m,$A30,_xlpm.ang,VALUE(L$1),_xlpm.th,$B30,_xlpm.v,$E30,_xlpm.r,_xlfn.XMATCH(1,(Tableau37[MaterialNumber2]=_xlpm.m)*(Tableau37[Angle]=_xlpm.ang)*(Tableau37[Thickness]=_xlpm.th),0),_xlpm.c,_xlfn.XMATCH(TEXT(_xlpm.v,"0"),Tableau37[#Headers],0),IFERROR(INDEX(Tableau37[],_xlpm.r,_xlpm.c),""))} | M30: {=_xlfn.LET(_xlpm.m,$A30,_xlpm.ang,VALUE(M$1),_xlpm.th,$B30,_xlpm.v,$E30,_xlpm.r,_xlfn.XMATCH(1,(Tableau37[MaterialNumber2]=_xlpm.m)*(Tableau37[Angle]=_xlpm.ang)*(Tableau37[Thickness]=_xlpm.th),0),_xlpm.c,_xlfn.XMATCH(TEXT(_xlpm.v,"0"),Tableau37[#Headers],0),IFERROR(INDEX(Tableau37[],_xlpm.r,_xlpm.c),""))} | N30: {=_xlfn.LET(_xlpm.m,$A30,_xlpm.ang,VALUE(N$1),_xlpm.th,$B30,_xlpm.v,$E30,_xlpm.r,_xlfn.XMATCH(1,(Tableau37[MaterialNumber2]=_xlpm.m)*(Tableau37[Angle]=_xlpm.ang)*(Tableau37[Thickness]=_xlpm.th),0),_xlpm.c,_xlfn.XMATCH(TEXT(_xlpm.v,"0"),Tableau37[#Headers],0),IFERROR(INDEX(Tableau37[],_xlpm.r,_xlpm.c),""))} | O30: 0
A31: 0 | B31: 0.8 | C31: 1 | D31: 2.6 | E31: 16 | F31: 0 | G31: 0 | H31: {=_xlfn.LET(_xlpm.m,$A31,_xlpm.ang,VALUE(H$1),_xlpm.th,$B31,_xlpm.v,$E31,_xlpm.r,_xlfn.XMATCH(1,(Tableau37[MaterialNumber2]=_xlpm.m)*(Tableau37[Angle]=_xlpm.ang)*(Tableau37[Thickness]=_xlpm.th),0),_xlpm.c,_xlfn.XMATCH(TEXT(_xlpm.v,"0"),Tableau37[#Headers],0),IFERROR(INDEX(Tableau37[],_xlpm.r,_xlpm.c),""))} -> 0.396 | I31: {=_xlfn.LET(_xlpm.m,$A31,_xlpm.ang,VALUE(I$1),_xlpm.th,$B31,_xlpm.v,$E31,_xlpm.r,_xlfn.XMATCH(1,(Tableau37[MaterialNumber2]=_xlpm.m)*(Tableau37[Angle]=_xlpm.ang)*(Tableau37[Thickness]=_xlpm.th),0),_xlpm.c,_xlfn.XMATCH(TEXT(_xlpm.v,"0"),Tableau37[#Headers],0),IFERROR(INDEX(Tableau37[],_xlpm.r,_xlpm.c),""))} -> 0.842 | J31: {=_xlfn.LET(_xlpm.m,$A31,_xlpm.ang,VALUE(J$1),_xlpm.th,$B31,_xlpm.v,$E31,_xlpm.r,_xlfn.XMATCH(1,(Tableau37[MaterialNumber2]=_xlpm.m)*(Tableau37[Angle]=_xlpm.ang)*(Tableau37[Thickness]=_xlpm.th),0),_xlpm.c,_xlfn.XMATCH(TEXT(_xlpm.v,"0"),Tableau37[#Headers],0),IFERROR(INDEX(Tableau37[],_xlpm.r,_xlpm.c),""))} -> 1.314 | K31: {=_xlfn.LET(_xlpm.m,$A31,_xlpm.ang,VALUE(K$1),_xlpm.th,$B31,_xlpm.v,$E31,_xlpm.r,_xlfn.XMATCH(1,(Tableau37[MaterialNumber2]=_xlpm.m)*(Tableau37[Angle]=_xlpm.ang)*(Tableau37[Thickness]=_xlpm.th),0),_xlpm.c,_xlfn.XMATCH(TEXT(_xlpm.v,"0"),Tableau37[#Headers],0),IFERROR(INDEX(Tableau37[],_xlpm.r,_xlpm.c),""))} -> 2.252 | L31: {=_xlfn.LET(_xlpm.m,$A31,_xlpm.ang,VALUE(L$1),_xlpm.th,$B31,_xlpm.v,$E31,_xlpm.r,_xlfn.XMATCH(1,(Tableau37[MaterialNumber2]=_xlpm.m)*(Tableau37[Angle]=_xlpm.ang)*(Tableau37[Thickness]=_xlpm.th),0),_xlpm.c,_xlfn.XMATCH(TEXT(_xlpm.v,"0"),Tableau37[#Headers],0),IFERROR(INDEX(Tableau37[],_xlpm.r,_xlpm.c),""))} -> 1.108 | M31: {=_xlfn.LET(_xlpm.m,$A31,_xlpm.ang,VALUE(M$1),_xlpm.th,$B31,_xlpm.v,$E31,_xlpm.r,_xlfn.XMATCH(1,(Tableau37[MaterialNumber2]=_xlpm.m)*(Tableau37[Angle]=_xlpm.ang)*(Tableau37[Thickness]=_xlpm.th),0),_xlpm.c,_xlfn.XMATCH(TEXT(_xlpm.v,"0"),Tableau37[#Headers],0),IFERROR(INDEX(Tableau37[],_xlpm.r,_xlpm.c),""))} -> 0.716 | N31: {=_xlfn.LET(_xlpm.m,$A31,_xlpm.ang,VALUE(N$1),_xlpm.th,$B31,_xlpm.v,$E31,_xlpm.r,_xlfn.XMATCH(1,(Tableau37[MaterialNumber2]=_xlpm.m)*(Tableau37[Angle]=_xlpm.ang)*(Tableau37[Thickness]=_xlpm.th),0),_xlpm.c,_xlfn.XMATCH(TEXT(_xlpm.v,"0"),Tableau37[#Headers],0),IFERROR(INDEX(Tableau37[],_xlpm.r,_xlpm.c),""))} -> 0.236 | O31: 0
A32: 0 | B32: 0.8 | C32: 1 | D32: 3 | E32: 18 | F32: 0 | G32: 0 | H32: {=_xlfn.LET(_xlpm.m,$A32,_xlpm.ang,VALUE(H$1),_xlpm.th,$B32,_xlpm.v,$E32,_xlpm.r,_xlfn.XMATCH(1,(Tableau37[MaterialNumber2]=_xlpm.m)*(Tableau37[Angle]=_xlpm.ang)*(Tableau37[Thickness]=_xlpm.th),0),_xlpm.c,_xlfn.XMATCH(TEXT(_xlpm.v,"0"),Tableau37[#Headers],0),IFERROR(INDEX(Tableau37[],_xlpm.r,_xlpm.c),""))} -> 0 | I32: {=_xlfn.LET(_xlpm.m,$A32,_xlpm.ang,VALUE(I$1),_xlpm.th,$B32,_xlpm.v,$E32,_xlpm.r,_xlfn.XMATCH(1,(Tableau37[MaterialNumber2]=_xlpm.m)*(Tableau37[Angle]=_xlpm.ang)*(Tableau37[Thickness]=_xlpm.th),0),_xlpm.c,_xlfn.XMATCH(TEXT(_xlpm.v,"0"),Tableau37[#Headers],0),IFERROR(INDEX(Tableau37[],_xlpm.r,_xlpm.c),""))} -> 0 | J32: {=_xlfn.LET(_xlpm.m,$A32,_xlpm.ang,VALUE(J$1),_xlpm.th,$B32,_xlpm.v,$E32,_xlpm.r,_xlfn.XMATCH(1,(Tableau37[MaterialNumber2]=_xlpm.m)*(Tableau37[Angle]=_xlpm.ang)*(Tableau37[Thickness]=_xlpm.th),0),_xlpm.c,_xlfn.XMATCH(TEXT(_xlpm.v,"0"),Tableau37[#Headers],0),IFERROR(INDEX(Tableau37[],_xlpm.r,_xlpm.c),""))} -> 0 | K32: {=_xlfn.LET(_xlpm.m,$A32,_xlpm.ang,VALUE(K$1),_xlpm.th,$B32,_xlpm.v,$E32,_xlpm.r,_xlfn.XMATCH(1,(Tableau37[MaterialNumber2]=_xlpm.m)*(Tableau37[Angle]=_xlpm.ang)*(Tableau37[Thickness]=_xlpm.th),0),_xlpm.c,_xlfn.XMATCH(TEXT(_xlpm.v,"0"),Tableau37[#Headers],0),IFERROR(INDEX(Tableau37[],_xlpm.r,_xlpm.c),""))} -> 0 | L32: {=_xlfn.LET(_xlpm.m,$A32,_xlpm.ang,VALUE(L$1),_xlpm.th,$B32,_xlpm.v,$E32,_xlpm.r,_xlfn.XMATCH(1,(Tableau37[MaterialNumber2]=_xlpm.m)*(Tableau37[Angle]=_xlpm.ang)*(Tableau37[Thickness]=_xlpm.th),0),_xlpm.c,_xlfn.XMATCH(TEXT(_xlpm.v,"0"),Tableau37[#Headers],0),IFERROR(INDEX(Tableau37[],_xlpm.r,_xlpm.c),""))} -> 0 | M32: {=_xlfn.LET(_xlpm.m,$A32,_xlpm.ang,VALUE(M$1),_xlpm.th,$B32,_xlpm.v,$E32,_xlpm.r,_xlfn.XMATCH(1,(Tableau37[MaterialNumber2]=_xlpm.m)*(Tableau37[Angle]=_xlpm.ang)*(Tableau37[Thickness]=_xlpm.th),0),_xlpm.c,_xlfn.XMATCH(TEXT(_xlpm.v,"0"),Tableau37[#Headers],0),IFERROR(INDEX(Tableau37[],_xlpm.r,_xlpm.c),""))} -> 0 | N32: {=_xlfn.LET(_xlpm.m,$A32,_xlpm.ang,VALUE(N$1),_xlpm.th,$B32,_xlpm.v,$E32,_xlpm.r,_xlfn.XMATCH(1,(Tableau37[MaterialNumber2]=_xlpm.m)*(Tableau37[Angle]=_xlpm.ang)*(Tableau37[Thickness]=_xlpm.th),0),_xlpm.c,_xlfn.XMATCH(TEXT(_xlpm.v,"0"),Tableau37[#Headers],0),IFERROR(INDEX(Tableau37[],_xlpm.r,_xlpm.c),""))} -> 0 | O32: 0
A33: 0 | B33: 0.8 | C33: 1 | D33: 3.3 | E33: 20 | F33: 0 | G33: 0 | H33: {=_xlfn.LET(_xlpm.m,$A33,_xlpm.ang,VALUE(H$1),_xlpm.th,$B33,_xlpm.v,$E33,_xlpm.r,_xlfn.XMATCH(1,(Tableau37[MaterialNumber2]=_xlpm.m)*(Tableau37[Angle]=_xlpm.ang)*(Tableau37[Thickness]=_xlpm.th),0),_xlpm.c,_xlfn.XMATCH(TEXT(_xlpm.v,"0"),Tableau37[#Headers],0),IFERROR(INDEX(Tableau37[],_xlpm.r,_xlpm.c),""))} -> 0 | I33: {=_xlfn.LET(_xlpm.m,$A33,_xlpm.ang,VALUE(I$1),_xlpm.th,$B33,_xlpm.v,$E33,_xlpm.r,_xlfn.XMATCH(1,(Tableau37[MaterialNumber2]=_xlpm.m)*(Tableau37[Angle]=_xlpm.ang)*(Tableau37[Thickness]=_xlpm.th),0),_xlpm.c,_xlfn.XMATCH(TEXT(_xlpm.v,"0"),Tableau37[#Headers],0),IFERROR(INDEX(Tableau37[],_xlpm.r,_xlpm.c),""))} -> 0 | J33: {=_xlfn.LET(_xlpm.m,$A33,_xlpm.ang,VALUE(J$1),_xlpm.th,$B33,_xlpm.v,$E33,_xlpm.r,_xlfn.XMATCH(1,(Tableau37[MaterialNumber2]=_xlpm.m)*(Tableau37[Angle]=_xlpm.ang)*(Tableau37[Thickness]=_xlpm.th),0),_xlpm.c,_xlfn.XMATCH(TEXT(_xlpm.v,"0"),Tableau37[#Headers],0),IFERROR(INDEX(Tableau37[],_xlpm.r,_xlpm.c),""))} -> 0 | K33: {=_xlfn.LET(_xlpm.m,$A33,_xlpm.ang,VALUE(K$1),_xlpm.th,$B33,_xlpm.v,$E33,_xlpm.r,_xlfn.XMATCH(1,(Tableau37[MaterialNumber2]=_xlpm.m)*(Tableau37[Angle]=_xlpm.ang)*(Tableau37[Thickness]=_xlpm.th),0),_xlpm.c,_xlfn.XMATCH(TEXT(_xlpm.v,"0"),Tableau37[#Headers],0),IFERROR(INDEX(Tableau37[],_xlpm.r,_xlpm.c),""))} -> 0 | L33: {=_xlfn.LET(_xlpm.m,$A33,_xlpm.ang,VALUE(L$1),_xlpm.th,$B33,_xlpm.v,$E33,_xlpm.r,_xlfn.XMATCH(1,(Tableau37[MaterialNumber2]=_xlpm.m)*(Tableau37[Angle]=_xlpm.ang)*(Tableau37[Thickness]=_xlpm.th),0),_xlpm.c,_xlfn.XMATCH(TEXT(_xlpm.v,"0"),Tableau37[#Headers],0),IFERROR(INDEX(Tableau37[],_xlpm.r,_xlpm.c),""))} -> 0 | M33: {=_xlfn.LET(_xlpm.m,$A33,_xlpm.ang,VALUE(M$1),_xlpm.th,$B33,_xlpm.v,$E33,_xlpm.r,_xlfn.XMATCH(1,(Tableau37[MaterialNumber2]=_xlpm.m)*(Tableau37[Angle]=_xlpm.ang)*(Tableau37[Thickness]=_xlpm.th),0),_xlpm.c,_xlfn.XMATCH(TEXT(_xlpm.v,"0"),Tableau37[#Headers],0),IFERROR(INDEX(Tableau37[],_xlpm.r,_xlpm.c),""))} -> 0 | N33: {=_xlfn.LET(_xlpm.m,$A33,_xlpm.ang,VALUE(N$1),_xlpm.th,$B33,_xlpm.v,$E33,_xlpm.r,_xlfn.XMATCH(1,(Tableau37[MaterialNumber2]=_xlpm.m)*(Tableau37[Angle]=_xlpm.ang)*(Tableau37[Thickness]=_xlpm.th),0),_xlpm.c,_xlfn.XMATCH(TEXT(_xlpm.v,"0"),Tableau37[#Headers],0),IFERROR(INDEX(Tableau37[],_xlpm.r,_xlpm.c),""))} -> 0 | O33: 0
A34: 0 | B34: 0.8 | C34: 1 | E34: 22 | F34: 0 | G34: 0 | H34: {=_xlfn.LET(_xlpm.m,$A34,_xlpm.ang,VALUE(H$1),_xlpm.th,$B34,_xlpm.v,$E34,_xlpm.r,_xlfn.XMATCH(1,(Tableau37[MaterialNumber2]=_xlpm.m)*(Tableau37[Angle]=_xlpm.ang)*(Tableau37[Thickness]=_xlpm.th),0),_xlpm.c,_xlfn.XMATCH(TEXT(_xlpm.v,"0"),Tableau37[#Headers],0),IFERROR(INDEX(Tableau37[],_xlpm.r,_xlpm.c),""))} | I34: {=_xlfn.LET(_xlpm.m,$A34,_xlpm.ang,VALUE(I$1),_xlpm.th,$B34,_xlpm.v,$E34,_xlpm.r,_xlfn.XMATCH(1,(Tableau37[MaterialNumber2]=_xlpm.m)*(Tableau37[Angle]=_xlpm.ang)*(Tableau37[Thickness]=_xlpm.th),0),_xlpm.c,_xlfn.XMATCH(TEXT(_xlpm.v,"0"),Tableau37[#Headers],0),IFERROR(INDEX(Tableau37[],_xlpm.r,_xlpm.c),""))} | J34: {=_xlfn.LET(_xlpm.m,$A34,_xlpm.ang,VALUE(J$1),_xlpm.th,$B34,_xlpm.v,$E34,_xlpm.r,_xlfn.XMATCH(1,(Tableau37[MaterialNumber2]=_xlpm.m)*(Tableau37[Angle]=_xlpm.ang)*(Tableau37[Thickness]=_xlpm.th),0),_xlpm.c,_xlfn.XMATCH(TEXT(_xlpm.v,"0"),Tableau37[#Headers],0),IFERROR(INDEX(Tableau37[],_xlpm.r,_xlpm.c),""))} | K34: {=_xlfn.LET(_xlpm.m,$A34,_xlpm.ang,VALUE(K$1),_xlpm.th,$B34,_xlpm.v,$E34,_xlpm.r,_xlfn.XMATCH(1,(Tableau37[MaterialNumber2]=_xlpm.m)*(Tableau37[Angle]=_xlpm.ang)*(Tableau37[Thickness]=_xlpm.th),0),_xlpm.c,_xlfn.XMATCH(TEXT(_xlpm.v,"0"),Tableau37[#Headers],0),IFERROR(INDEX(Tableau37[],_xlpm.r,_xlpm.c),""))} | L34: {=_xlfn.LET(_xlpm.m,$A34,_xlpm.ang,VALUE(L$1),_xlpm.th,$B34,_xlpm.v,$E34,_xlpm.r,_xlfn.XMATCH(1,(Tableau37[MaterialNumber2]=_xlpm.m)*(Tableau37[Angle]=_xlpm.ang)*(Tableau37[Thickness]=_xlpm.th),0),_xlpm.c,_xlfn.XMATCH(TEXT(_xlpm.v,"0"),Tableau37[#Headers],0),IFERROR(INDEX(Tableau37[],_xlpm.r,_xlpm.c),""))} | M34: {=_xlfn.LET(_xlpm.m,$A34,_xlpm.ang,VALUE(M$1),_xlpm.th,$B34,_xlpm.v,$E34,_xlpm.r,_xlfn.XMATCH(1,(Tableau37[MaterialNumber2]=_xlpm.m)*(Tableau37[Angle]=_xlpm.ang)*(Tableau37[Thickness]=_xlpm.th),0),_xlpm.c,_xlfn.XMATCH(TEXT(_xlpm.v,"0"),Tableau37[#Headers],0),IFERROR(INDEX(Tableau37[],_xlpm.r,_xlpm.c),""))} | N34: {=_xlfn.LET(_xlpm.m,$A34,_xlpm.ang,VALUE(N$1),_xlpm.th,$B34,_xlpm.v,$E34,_xlpm.r,_xlfn.XMATCH(1,(Tableau37[MaterialNumber2]=_xlpm.m)*(Tableau37[Angle]=_xlpm.ang)*(Tableau37[Thickness]=_xlpm.th),0),_xlpm.c,_xlfn.XMATCH(TEXT(_xlpm.v,"0"),Tableau37[#Headers],0),IFERROR(INDEX(Tableau37[],_xlpm.r,_xlpm.c),""))} | O34: 0
A35: 0 | B35: 0.8 | C35: 1 | D35: 4 | E35: 25 | F35: 0 | G35: 0 | H35: {=_xlfn.LET(_xlpm.m,$A35,_xlpm.ang,VALUE(H$1),_xlpm.th,$B35,_xlpm.v,$E35,_xlpm.r,_xlfn.XMATCH(1,(Tableau37[MaterialNumber2]=_xlpm.m)*(Tableau37[Angle]=_xlpm.ang)*(Tableau37[Thickness]=_xlpm.th),0),_xlpm.c,_xlfn.XMATCH(TEXT(_xlpm.v,"0"),Tableau37[#Headers],0),IFERROR(INDEX(Tableau37[],_xlpm.r,_xlpm.c),""))} -> 0 | I35: {=_xlfn.LET(_xlpm.m,$A35,_xlpm.ang,VALUE(I$1),_xlpm.th,$B35,_xlpm.v,$E35,_xlpm.r,_xlfn.XMATCH(1,(Tableau37[MaterialNumber2]=_xlpm.m)*(Tableau37[Angle]=_xlpm.ang)*(Tableau37[Thickness]=_xlpm.th),0),_xlpm.c,_xlfn.XMATCH(TEXT(_xlpm.v,"0"),Tableau37[#Headers],0),IFERROR(INDEX(Tableau37[],_xlpm.r,_xlpm.c),""))} -> 0 | J35: {=_xlfn.LET(_xlpm.m,$A35,_xlpm.ang,VALUE(J$1),_xlpm.th,$B35,_xlpm.v,$E35,_xlpm.r,_xlfn.XMATCH(1,(Tableau37[MaterialNumber2]=_xlpm.m)*(Tableau37[Angle]=_xlpm.ang)*(Tableau37[Thickness]=_xlpm.th),0),_xlpm.c,_xlfn.XMATCH(TEXT(_xlpm.v,"0"),Tableau37[#Headers],0),IFERROR(INDEX(Tableau37[],_xlpm.r,_xlpm.c),""))} -> 0 | K35: {=_xlfn.LET(_xlpm.m,$A35,_xlpm.ang,VALUE(K$1),_xlpm.th,$B35,_xlpm.v,$E35,_xlpm.r,_xlfn.XMATCH(1,(Tableau37[MaterialNumber2]=_xlpm.m)*(Tableau37[Angle]=_xlpm.ang)*(Tableau37[Thickness]=_xlpm.th),0),_xlpm.c,_xlfn.XMATCH(TEXT(_xlpm.v,"0"),Tableau37[#Headers],0),IFERROR(INDEX(Tableau37[],_xlpm.r,_xlpm.c),""))} -> 0 | L35: {=_xlfn.LET(_xlpm.m,$A35,_xlpm.ang,VALUE(L$1),_xlpm.th,$B35,_xlpm.v,$E35,_xlpm.r,_xlfn.XMATCH(1,(Tableau37[MaterialNumber2]=_xlpm.m)*(Tableau37[Angle]=_xlpm.ang)*(Tableau37[Thickness]=_xlpm.th),0),_xlpm.c,_xlfn.XMATCH(TEXT(_xlpm.v,"0"),Tableau37[#Headers],0),IFERROR(INDEX(Tableau37[],_xlpm.r,_xlpm.c),""))} -> 0 | M35: {=_xlfn.LET(_xlpm.m,$A35,_xlpm.ang,VALUE(M$1),_xlpm.th,$B35,_xlpm.v,$E35,_xlpm.r,_xlfn.XMATCH(1,(Tableau37[MaterialNumber2]=_xlpm.m)*(Tableau37[Angle]=_xlpm.ang)*(Tableau37[Thickness]=_xlpm.th),0),_xlpm.c,_xlfn.XMATCH(TEXT(_xlpm.v,"0"),Tableau37[#Headers],0),IFERROR(INDEX(Tableau37[],_xlpm.r,_xlpm.c),""))} -> 0 | N35: {=_xlfn.LET(_xlpm.m,$A35,_xlpm.ang,VALUE(N$1),_xlpm.th,$B35,_xlpm.v,$E35,_xlpm.r,_xlfn.XMATCH(1,(Tableau37[MaterialNumber2]=_xlpm.m)*(Tableau37[Angle]=_xlpm.ang)*(Tableau37[Thickness]=_xlpm.th),0),_xlpm.c,_xlfn.XMATCH(TEXT(_xlpm.v,"0"),Tableau37[#Headers],0),IFERROR(INDEX(Tableau37[],_xlpm.r,_xlpm.c),""))} -> 0 | O35: 0
A36: 0 | B36: 0.8 | C36: 1 | E36: 30 | F36: 0 | G36: 0 | H36: {=_xlfn.LET(_xlpm.m,$A36,_xlpm.ang,VALUE(H$1),_xlpm.th,$B36,_xlpm.v,$E36,_xlpm.r,_xlfn.XMATCH(1,(Tableau37[MaterialNumber2]=_xlpm.m)*(Tableau37[Angle]=_xlpm.ang)*(Tableau37[Thickness]=_xlpm.th),0),_xlpm.c,_xlfn.XMATCH(TEXT(_xlpm.v,"0"),Tableau37[#Headers],0),IFERROR(INDEX(Tableau37[],_xlpm.r,_xlpm.c),""))} | I36: {=_xlfn.LET(_xlpm.m,$A36,_xlpm.ang,VALUE(I$1),_xlpm.th,$B36,_xlpm.v,$E36,_xlpm.r,_xlfn.XMATCH(1,(Tableau37[MaterialNumber2]=_xlpm.m)*(Tableau37[Angle]=_xlpm.ang)*(Tableau37[Thickness]=_xlpm.th),0),_xlpm.c,_xlfn.XMATCH(TEXT(_xlpm.v,"0"),Tableau37[#Headers],0),IFERROR(INDEX(Tableau37[],_xlpm.r,_xlpm.c),""))} | J36: {=_xlfn.LET(_xlpm.m,$A36,_xlpm.ang,VALUE(J$1),_xlpm.th,$B36,_xlpm.v,$E36,_xlpm.r,_xlfn.XMATCH(1,(Tableau37[MaterialNumber2]=_xlpm.m)*(Tableau37[Angle]=_xlpm.ang)*(Tableau37[Thickness]=_xlpm.th),0),_xlpm.c,_xlfn.XMATCH(TEXT(_xlpm.v,"0"),Tableau37[#Headers],0),IFERROR(INDEX(Tableau37[],_xlpm.r,_xlpm.c),""))} | K36: {=_xlfn.LET(_xlpm.m,$A36,_xlpm.ang,VALUE(K$1),_xlpm.th,$B36,_xlpm.v,$E36,_xlpm.r,_xlfn.XMATCH(1,(Tableau37[MaterialNumber2]=_xlpm.m)*(Tableau37[Angle]=_xlpm.ang)*(Tableau37[Thickness]=_xlpm.th),0),_xlpm.c,_xlfn.XMATCH(TEXT(_xlpm.v,"0"),Tableau37[#Headers],0),IFERROR(INDEX(Tableau37[],_xlpm.r,_xlpm.c),""))} | L36: {=_xlfn.LET(_xlpm.m,$A36,_xlpm.ang,VALUE(L$1),_xlpm.th,$B36,_xlpm.v,$E36,_xlpm.r,_xlfn.XMATCH(1,(Tableau37[MaterialNumber2]=_xlpm.m)*(Tableau37[Angle]=_xlpm.ang)*(Tableau37[Thickness]=_xlpm.th),0),_xlpm.c,_xlfn.XMATCH(TEXT(_xlpm.v,"0"),Tableau37[#Headers],0),IFERROR(INDEX(Tableau37[],_xlpm.r,_xlpm.c),""))} | M36: {=_xlfn.LET(_xlpm.m,$A36,_xlpm.ang,VALUE(M$1),_xlpm.th,$B36,_xlpm.v,$E36,_xlpm.r,_xlfn.XMATCH(1,(Tableau37[MaterialNumber2]=_xlpm.m)*(Tableau37[Angle]=_xlpm.ang)*(Tableau37[Thickness]=_xlpm.th),0),_xlpm.c,_xlfn.XMATCH(TEXT(_xlpm.v,"0"),Tableau37[#Headers],0),IFERROR(INDEX(Tableau37[],_xlpm.r,_xlpm.c),""))} | N36: {=_xlfn.LET(_xlpm.m,$A36,_xlpm.ang,VALUE(N$1),_xlpm.th,$B36,_xlpm.v,$E36,_xlpm.r,_xlfn.XMATCH(1,(Tableau37[MaterialNumber2]=_xlpm.m)*(Tableau37[Angle]=_xlpm.ang)*(Tableau37[Thickness]=_xlpm.th),0),_xlpm.c,_xlfn.XMATCH(TEXT(_xlpm.v,"0"),Tableau37[#Headers],0),IFERROR(INDEX(Tableau37[],_xlpm.r,_xlpm.c),""))} | O36: 0
A37: 0 | B37: 0.8 | C37: 1 | D37: 5 | E37: 32 | F37: 0 | G37: 0 | H37: {=_xlfn.LET(_xlpm.m,$A37,_xlpm.ang,VALUE(H$1),_xlpm.th,$B37,_xlpm.v,$E37,_xlpm.r,_xlfn.XMATCH(1,(Tableau37[MaterialNumber2]=_xlpm.m)*(Tableau37[Angle]=_xlpm.ang)*(Tableau37[Thickness]=_xlpm.th),0),_xlpm.c,_xlfn.XMATCH(TEXT(_xlpm.v,"0"),Tableau37[#Headers],0),IFERROR(INDEX(Tableau37[],_xlpm.r,_xlpm.c),""))} -> 0 | I37: {=_xlfn.LET(_xlpm.m,$A37,_xlpm.ang,VALUE(I$1),_xlpm.th,$B37,_xlpm.v,$E37,_xlpm.r,_xlfn.XMATCH(1,(Tableau37[MaterialNumber2]=_xlpm.m)*(Tableau37[Angle]=_xlpm.ang)*(Tableau37[Thickness]=_xlpm.th),0),_xlpm.c,_xlfn.XMATCH(TEXT(_xlpm.v,"0"),Tableau37[#Headers],0),IFERROR(INDEX(Tableau37[],_xlpm.r,_xlpm.c),""))} -> 0 | J37: {=_xlfn.LET(_xlpm.m,$A37,_xlpm.ang,VALUE(J$1),_xlpm.th,$B37,_xlpm.v,$E37,_xlpm.r,_xlfn.XMATCH(1,(Tableau37[MaterialNumber2]=_xlpm.m)*(Tableau37[Angle]=_xlpm.ang)*(Tableau37[Thickness]=_xlpm.th),0),_xlpm.c,_xlfn.XMATCH(TEXT(_xlpm.v,"0"),Tableau37[#Headers],0),IFERROR(INDEX(Tableau37[],_xlpm.r,_xlpm.c),""))} -> 0 | K37: {=_xlfn.LET(_xlpm.m,$A37,_xlpm.ang,VALUE(K$1),_xlpm.th,$B37,_xlpm.v,$E37,_xlpm.r,_xlfn.XMATCH(1,(Tableau37[MaterialNumber2]=_xlpm.m)*(Tableau37[Angle]=_xlpm.ang)*(Tableau37[Thickness]=_xlpm.th),0),_xlpm.c,_xlfn.XMATCH(TEXT(_xlpm.v,"0"),Tableau37[#Headers],0),IFERROR(INDEX(Tableau37[],_xlpm.r,_xlpm.c),""))} -> 0 | L37: {=_xlfn.LET(_xlpm.m,$A37,_xlpm.ang,VALUE(L$1),_xlpm.th,$B37,_xlpm.v,$E37,_xlpm.r,_xlfn.XMATCH(1,(Tableau37[MaterialNumber2]=_xlpm.m)*(Tableau37[Angle]=_xlpm.ang)*(Tableau37[Thickness]=_xlpm.th),0),_xlpm.c,_xlfn.XMATCH(TEXT(_xlpm.v,"0"),Tableau37[#Headers],0),IFERROR(INDEX(Tableau37[],_xlpm.r,_xlpm.c),""))} -> 0 | M37: {=_xlfn.LET(_xlpm.m,$A37,_xlpm.ang,VALUE(M$1),_xlpm.th,$B37,_xlpm.v,$E37,_xlpm.r,_xlfn.XMATCH(1,(Tableau37[MaterialNumber2]=_xlpm.m)*(Tableau37[Angle]=_xlpm.ang)*(Tableau37[Thickness]=_xlpm.th),0),_xlpm.c,_xlfn.XMATCH(TEXT(_xlpm.v,"0"),Tableau37[#Headers],0),IFERROR(INDEX(Tableau37[],_xlpm.r,_xlpm.c),""))} -> 0 | N37: {=_xlfn.LET(_xlpm.m,$A37,_xlpm.ang,VALUE(N$1),_xlpm.th,$B37,_xlpm.v,$E37,_xlpm.r,_xlfn.XMATCH(1,(Tableau37[MaterialNumber2]=_xlpm.m)*(Tableau37[Angle]=_xlpm.ang)*(Tableau37[Thickness]=_xlpm.th),0),_xlpm.c,_xlfn.XMATCH(TEXT(_xlpm.v,"0"),Tableau37[#Headers],0),IFERROR(INDEX(Tableau37[],_xlpm.r,_xlpm.c),""))} -> 0 | O37: 0
A38: 0 | B38: 0.8 | C38: 1 | D38: 6.5 | E38: 40 | F38: 0 | G38: 0 | H38: {=_xlfn.LET(_xlpm.m,$A38,_xlpm.ang,VALUE(H$1),_xlpm.th,$B38,_xlpm.v,$E38,_xlpm.r,_xlfn.XMATCH(1,(Tableau37[MaterialNumber2]=_xlpm.m)*(Tableau37[Angle]=_xlpm.ang)*(Tableau37[Thickness]=_xlpm.th),0),_xlpm.c,_xlfn.XMATCH(TEXT(_xlpm.v,"0"),Tableau37[#Headers],0),IFERROR(INDEX(Tableau37[],_xlpm.r,_xlpm.c),""))} -> 0 | I38: {=_xlfn.LET(_xlpm.m,$A38,_xlpm.ang,VALUE(I$1),_xlpm.th,$B38,_xlpm.v,$E38,_xlpm.r,_xlfn.XMATCH(1,(Tableau37[MaterialNumber2]=_xlpm.m)*(Tableau37[Angle]=_xlpm.ang)*(Tableau37[Thickness]=_xlpm.th),0),_xlpm.c,_xlfn.XMATCH(TEXT(_xlpm.v,"0"),Tableau37[#Headers],0),IFERROR(INDEX(Tableau37[],_xlpm.r,_xlpm.c),""))} -> 0 | J38: {=_xlfn.LET(_xlpm.m,$A38,_xlpm.ang,VALUE(J$1),_xlpm.th,$B38,_xlpm.v,$E38,_xlpm.r,_xlfn.XMATCH(1,(Tableau37[MaterialNumber2]=_xlpm.m)*(Tableau37[Angle]=_xlpm.ang)*(Tableau37[Thickness]=_xlpm.th),0),_xlpm.c,_xlfn.XMATCH(TEXT(_xlpm.v,"0"),Tableau37[#Headers],0),IFERROR(INDEX(Tableau37[],_xlpm.r,_xlpm.c),""))} -> 0 | K38: {=_xlfn.LET(_xlpm.m,$A38,_xlpm.ang,VALUE(K$1),_xlpm.th,$B38,_xlpm.v,$E38,_xlpm.r,_xlfn.XMATCH(1,(Tableau37[MaterialNumber2]=_xlpm.m)*(Tableau37[Angle]=_xlpm.ang)*(Tableau37[Thickness]=_xlpm.th),0),_xlpm.c,_xlfn.XMATCH(TEXT(_xlpm.v,"0"),Tableau37[#Headers],0),IFERROR(INDEX(Tableau37[],_xlpm.r,_xlpm.c),""))} -> 0 | L38: {=_xlfn.LET(_xlpm.m,$A38,_xlpm.ang,VALUE(L$1),_xlpm.th,$B38,_xlpm.v,$E38,_xlpm.r,_xlfn.XMATCH(1,(Tableau37[MaterialNumber2]=_xlpm.m)*(Tableau37[Angle]=_xlpm.ang)*(Tableau37[Thickness]=_xlpm.th),0),_xlpm.c,_xlfn.XMATCH(TEXT(_xlpm.v,"0"),Tableau37[#Headers],0),IFERROR(INDEX(Tableau37[],_xlpm.r,_xlpm.c),""))} -> 0 | M38: {=_xlfn.LET(_xlpm.m,$A38,_xlpm.ang,VALUE(M$1),_xlpm.th,$B38,_xlpm.v,$E38,_xlpm.r,_xlfn.XMATCH(1,(Tableau37[MaterialNumber2]=_xlpm.m)*(Tableau37[Angle]=_xlpm.ang)*(Tableau37[Thickness]=_xlpm.th),0),_xlpm.c,_xlfn.XMATCH(TEXT(_xlpm.v,"0"),Tableau37[#Headers],0),IFERROR(INDEX(Tableau37[],_xlpm.r,_xlpm.c),""))} -> 0 | N38: {=_xlfn.LET(_xlpm.m,$A38,_xlpm.ang,VALUE(N$1),_xlpm.th,$B38,_xlpm.v,$E38,_xlpm.r,_xlfn.XMATCH(1,(Tableau37[MaterialNumber2]=_xlpm.m)*(Tableau37[Angle]=_xlpm.ang)*(Tableau37[Thickness]=_xlpm.th),0),_xlpm.c,_xlfn.XMATCH(TEXT(_xlpm.v,"0"),Tableau37[#Headers],0),IFERROR(INDEX(Tableau37[],_xlpm.r,_xlpm.c),""))} -> 0 | O38: 0
A39: 0 | B39: 0.8 | C39: 1 | D39: 8 | E39: 50 | F39: 0 | G39: 0 | H39: {=_xlfn.LET(_xlpm.m,$A39,_xlpm.ang,VALUE(H$1),_xlpm.th,$B39,_xlpm.v,$E39,_xlpm.r,_xlfn.XMATCH(1,(Tableau37[MaterialNumber2]=_xlpm.m)*(Tableau37[Angle]=_xlpm.ang)*(Tableau37[Thickness]=_xlpm.th),0),_xlpm.c,_xlfn.XMATCH(TEXT(_xlpm.v,"0"),Tableau37[#Headers],0),IFERROR(INDEX(Tableau37[],_xlpm.r,_xlpm.c),""))} -> 0 | I39: {=_xlfn.LET(_xlpm.m,$A39,_xlpm.ang,VALUE(I$1),_xlpm.th,$B39,_xlpm.v,$E39,_xlpm.r,_xlfn.XMATCH(1,(Tableau37[MaterialNumber2]=_xlpm.m)*(Tableau37[Angle]=_xlpm.ang)*(Tableau37[Thickness]=_xlpm.th),0),_xlpm.c,_xlfn.XMATCH(TEXT(_xlpm.v,"0"),Tableau37[#Headers],0),IFERROR(INDEX(Tableau37[],_xlpm.r,_xlpm.c),""))} -> 0 | J39: {=_xlfn.LET(_xlpm.m,$A39,_xlpm.ang,VALUE(J$1),_xlpm.th,$B39,_xlpm.v,$E39,_xlpm.r,_xlfn.XMATCH(1,(Tableau37[MaterialNumber2]=_xlpm.m)*(Tableau37[Angle]=_xlpm.ang)*(Tableau37[Thickness]=_xlpm.th),0),_xlpm.c,_xlfn.XMATCH(TEXT(_xlpm.v,"0"),Tableau37[#Headers],0),IFERROR(INDEX(Tableau37[],_xlpm.r,_xlpm.c),""))} -> 0 | K39: {=_xlfn.LET(_xlpm.m,$A39,_xlpm.ang,VALUE(K$1),_xlpm.th,$B39,_xlpm.v,$E39,_xlpm.r,_xlfn.XMATCH(1,(Tableau37[MaterialNumber2]=_xlpm.m)*(Tableau37[Angle]=_xlpm.ang)*(Tableau37[Thickness]=_xlpm.th),0),_xlpm.c,_xlfn.XMATCH(TEXT(_xlpm.v,"0"),Tableau37[#Headers],0),IFERROR(INDEX(Tableau37[],_xlpm.r,_xlpm.c),""))} -> 0 | L39: {=_xlfn.LET(_xlpm.m,$A39,_xlpm.ang,VALUE(L$1),_xlpm.th,$B39,_xlpm.v,$E39,_xlpm.r,_xlfn.XMATCH(1,(Tableau37[MaterialNumber2]=_xlpm.m)*(Tableau37[Angle]=_xlpm.ang)*(Tableau37[Thickness]=_xlpm.th),0),_xlpm.c,_xlfn.XMATCH(TEXT(_xlpm.v,"0"),Tableau37[#Headers],0),IFERROR(INDEX(Tableau37[],_xlpm.r,_xlpm.c),""))} -> 0 | M39: {=_xlfn.LET(_xlpm.m,$A39,_xlpm.ang,VALUE(M$1),_xlpm.th,$B39,_xlpm.v,$E39,_xlpm.r,_xlfn.XMATCH(1,(Tableau37[MaterialNumber2]=_xlpm.m)*(Tableau37[Angle]=_xlpm.ang)*(Tableau37[Thickness]=_xlpm.th),0),_xlpm.c,_xlfn.XMATCH(TEXT(_xlpm.v,"0"),Tableau37[#Headers],0),IFERROR(INDEX(Tableau37[],_xlpm.r,_xlpm.c),""))} -> 0 | N39: {=_xlfn.LET(_xlpm.m,$A39,_xlpm.ang,VALUE(N$1),_xlpm.th,$B39,_xlpm.v,$E39,_xlpm.r,_xlfn.XMATCH(1,(Tableau37[MaterialNumber2]=_xlpm.m)*(Tableau37[Angle]=_xlpm.ang)*(Tableau37[Thickness]=_xlpm.th),0),_xlpm.c,_xlfn.XMATCH(TEXT(_xlpm.v,"0"),Tableau37[#Headers],0),IFERROR(INDEX(Tableau37[],_xlpm.r,_xlpm.c),""))} -> 0 | O39: 0
A40: 0 | B40: 0.8 | C40: 1 | D40: 10 | E40: 63 | F40: 0 | G40: 0 | H40: {=_xlfn.LET(_xlpm.m,$A40,_xlpm.ang,VALUE(H$1),_xlpm.th,$B40,_xlpm.v,$E40,_xlpm.r,_xlfn.XMATCH(1,(Tableau37[MaterialNumber2]=_xlpm.m)*(Tableau37[Angle]=_xlpm.ang)*(Tableau37[Thickness]=_xlpm.th),0),_xlpm.c,_xlfn.XMATCH(TEXT(_xlpm.v,"0"),Tableau37[#Headers],0),IFERROR(INDEX(Tableau37[],_xlpm.r,_xlpm.c),""))} -> 0 | I40: {=_xlfn.LET(_xlpm.m,$A40,_xlpm.ang,VALUE(I$1),_xlpm.th,$B40,_xlpm.v,$E40,_xlpm.r,_xlfn.XMATCH(1,(Tableau37[MaterialNumber2]=_xlpm.m)*(Tableau37[Angle]=_xlpm.ang)*(Tableau37[Thickness]=_xlpm.th),0),_xlpm.c,_xlfn.XMATCH(TEXT(_xlpm.v,"0"),Tableau37[#Headers],0),IFERROR(INDEX(Tableau37[],_xlpm.r,_xlpm.c),""))} -> 0 | J40: {=_xlfn.LET(_xlpm.m,$A40,_xlpm.ang,VALUE(J$1),_xlpm.th,$B40,_xlpm.v,$E40,_xlpm.r,_xlfn.XMATCH(1,(Tableau37[MaterialNumber2]=_xlpm.m)*(Tableau37[Angle]=_xlpm.ang)*(Tableau37[Thickness]=_xlpm.th),0),_xlpm.c,_xlfn.XMATCH(TEXT(_xlpm.v,"0"),Tableau37[#Headers],0),IFERROR(INDEX(Tableau37[],_xlpm.r,_xlpm.c),""))} -> 0 | K40: {=_xlfn.LET(_xlpm.m,$A40,_xlpm.ang,VALUE(K$1),_xlpm.th,$B40,_xlpm.v,$E40,_xlpm.r,_xlfn.XMATCH(1,(Tableau37[MaterialNumber2]=_xlpm.m)*(Tableau37[Angle]=_xlpm.ang)*(Tableau37[Thickness]=_xlpm.th),0),_xlpm.c,_xlfn.XMATCH(TEXT(_xlpm.v,"0"),Tableau37[#Headers],0),IFERROR(INDEX(Tableau37[],_xlpm.r,_xlpm.c),""))} -> 0 | L40: {=_xlfn.LET(_xlpm.m,$A40,_xlpm.ang,VALUE(L$1),_xlpm.th,$B40,_xlpm.v,$E40,_xlpm.r,_xlfn.XMATCH(1,(Tableau37[MaterialNumber2]=_xlpm.m)*(Tableau37[Angle]=_xlpm.ang)*(Tableau37[Thickness]=_xlpm.th),0),_xlpm.c,_xlfn.XMATCH(TEXT(_xlpm.v,"0"),Tableau37[#Headers],0),IFERROR(INDEX(Tableau37[],_xlpm.r,_xlpm.c),""))} -> 0 | M40: {=_xlfn.LET(_xlpm.m,$A40,_xlpm.ang,VALUE(M$1),_xlpm.th,$B40,_xlpm.v,$E40,_xlpm.r,_xlfn.XMATCH(1,(Tableau37[MaterialNumber2]=_xlpm.m)*(Tableau37[Angle]=_xlpm.ang)*(Tableau37[Thickness]=_xlpm.th),0),_xlpm.c,_xlfn.XMATCH(TEXT(_xlpm.v,"0"),Tableau37[#Headers],0),IFERROR(INDEX(Tableau37[],_xlpm.r,_xlpm.c),""))} -> 0 | N40: {=_xlfn.LET(_xlpm.m,$A40,_xlpm.ang,VALUE(N$1),_xlpm.th,$B40,_xlpm.v,$E40,_xlpm.r,_xlfn.XMATCH(1,(Tableau37[MaterialNumber2]=_xlpm.m)*(Tableau37[Angle]=_xlpm.ang)*(Tableau37[Thickness]=_xlpm.th),0),_xlpm.c,_xlfn.XMATCH(TEXT(_xlpm.v,"0"),Tableau37[#Headers],0),IFERROR(INDEX(Tableau37[],_xlpm.r,_xlpm.c),""))} -> 0 | O40: 0
A41: 0 | B41: 0.8 | C41: 1 | D41: 13 | E41: 80 | F41: 0 | G41: 0 | H41: {=_xlfn.LET(_xlpm.m,$A41,_xlpm.ang,VALUE(H$1),_xlpm.th,$B41,_xlpm.v,$E41,_xlpm.r,_xlfn.XMATCH(1,(Tableau37[MaterialNumber2]=_xlpm.m)*(Tableau37[Angle]=_xlpm.ang)*(Tableau37[Thickness]=_xlpm.th),0),_xlpm.c,_xlfn.XMATCH(TEXT(_xlpm.v,"0"),Tableau37[#Headers],0),IFERROR(INDEX(Tableau37[],_xlpm.r,_xlpm.c),""))} -> 0 | I41: {=_xlfn.LET(_xlpm.m,$A41,_xlpm.ang,VALUE(I$1),_xlpm.th,$B41,_xlpm.v,$E41,_xlpm.r,_xlfn.XMATCH(1,(Tableau37[MaterialNumber2]=_xlpm.m)*(Tableau37[Angle]=_xlpm.ang)*(Tableau37[Thickness]=_xlpm.th),0),_xlpm.c,_xlfn.XMATCH(TEXT(_xlpm.v,"0"),Tableau37[#Headers],0),IFERROR(INDEX(Tableau37[],_xlpm.r,_xlpm.c),""))} -> 0 | J41: {=_xlfn.LET(_xlpm.m,$A41,_xlpm.ang,VALUE(J$1),_xlpm.th,$B41,_xlpm.v,$E41,_xlpm.r,_xlfn.XMATCH(1,(Tableau37[MaterialNumber2]=_xlpm.m)*(Tableau37[Angle]=_xlpm.ang)*(Tableau37[Thickness]=_xlpm.th),0),_xlpm.c,_xlfn.XMATCH(TEXT(_xlpm.v,"0"),Tableau37[#Headers],0),IFERROR(INDEX(Tableau37[],_xlpm.r,_xlpm.c),""))} -> 0 | K41: {=_xlfn.LET(_xlpm.m,$A41,_xlpm.ang,VALUE(K$1),_xlpm.th,$B41,_xlpm.v,$E41,_xlpm.r,_xlfn.XMATCH(1,(Tableau37[MaterialNumber2]=_xlpm.m)*(Tableau37[Angle]=_xlpm.ang)*(Tableau37[Thickness]=_xlpm.th),0),_xlpm.c,_xlfn.XMATCH(TEXT(_xlpm.v,"0"),Tableau37[#Headers],0),IFERROR(INDEX(Tableau37[],_xlpm.r,_xlpm.c),""))} -> 0 | L41: {=_xlfn.LET(_xlpm.m,$A41,_xlpm.ang,VALUE(L$1),_xlpm.th,$B41,_xlpm.v,$E41,_xlpm.r,_xlfn.XMATCH(1,(Tableau37[MaterialNumber2]=_xlpm.m)*(Tableau37[Angle]=_xlpm.ang)*(Tableau37[Thickness]=_xlpm.th),0),_xlpm.c,_xlfn.XMATCH(TEXT(_xlpm.v,"0"),Tableau37[#Headers],0),IFERROR(INDEX(Tableau37[],_xlpm.r,_xlpm.c),""))} -> 0 | M41: {=_xlfn.LET(_xlpm.m,$A41,_xlpm.ang,VALUE(M$1),_xlpm.th,$B41,_xlpm.v,$E41,_xlpm.r,_xlfn.XMATCH(1,(Tableau37[MaterialNumber2]=_xlpm.m)*(Tableau37[Angle]=_xlpm.ang)*(Tableau37[Thickness]=_xlpm.th),0),_xlpm.c,_xlfn.XMATCH(TEXT(_xlpm.v,"0"),Tableau37[#Headers],0),IFERROR(INDEX(Tableau37[],_xlpm.r,_xlpm.c),""))} -> 0 | N41: {=_xlfn.LET(_xlpm.m,$A41,_xlpm.ang,VALUE(N$1),_xlpm.th,$B41,_xlpm.v,$E41,_xlpm.r,_xlfn.XMATCH(1,(Tableau37[MaterialNumber2]=_xlpm.m)*(Tableau37[Angle]=_xlpm.ang)*(Tableau37[Thickness]=_xlpm.th),0),_xlpm.c,_xlfn.XMATCH(TEXT(_xlpm.v,"0"),Tableau37[#Headers],0),IFERROR(INDEX(Tableau37[],_xlpm.r,_xlpm.c),""))} -> 0 | O41: 0
A42: 0 | B42: 0.8 | C42: 1 | D42: 16 | E42: 100 | F42: 0 | G42: 0 | H42: {=_xlfn.LET(_xlpm.m,$A42,_xlpm.ang,VALUE(H$1),_xlpm.th,$B42,_xlpm.v,$E42,_xlpm.r,_xlfn.XMATCH(1,(Tableau37[MaterialNumber2]=_xlpm.m)*(Tableau37[Angle]=_xlpm.ang)*(Tableau37[Thickness]=_xlpm.th),0),_xlpm.c,_xlfn.XMATCH(TEXT(_xlpm.v,"0"),Tableau37[#Headers],0),IFERROR(INDEX(Tableau37[],_xlpm.r,_xlpm.c),""))} -> 0 | I42: {=_xlfn.LET(_xlpm.m,$A42,_xlpm.ang,VALUE(I$1),_xlpm.th,$B42,_xlpm.v,$E42,_xlpm.r,_xlfn.XMATCH(1,(Tableau37[MaterialNumber2]=_xlpm.m)*(Tableau37[Angle]=_xlpm.ang)*(Tableau37[Thickness]=_xlpm.th),0),_xlpm.c,_xlfn.XMATCH(TEXT(_xlpm.v,"0"),Tableau37[#Headers],0),IFERROR(INDEX(Tableau37[],_xlpm.r,_xlpm.c),""))} -> 0 | J42: {=_xlfn.LET(_xlpm.m,$A42,_xlpm.ang,VALUE(J$1),_xlpm.th,$B42,_xlpm.v,$E42,_xlpm.r,_xlfn.XMATCH(1,(Tableau37[MaterialNumber2]=_xlpm.m)*(Tableau37[Angle]=_xlpm.ang)*(Tableau37[Thickness]=_xlpm.th),0),_xlpm.c,_xlfn.XMATCH(TEXT(_xlpm.v,"0"),Tableau37[#Headers],0),IFERROR(INDEX(Tableau37[],_xlpm.r,_xlpm.c),""))} -> 0 | K42: {=_xlfn.LET(_xlpm.m,$A42,_xlpm.ang,VALUE(K$1),_xlpm.th,$B42,_xlpm.v,$E42,_xlpm.r,_xlfn.XMATCH(1,(Tableau37[MaterialNumber2]=_xlpm.m)*(Tableau37[Angle]=_xlpm.ang)*(Tableau37[Thickness]=_xlpm.th),0),_xlpm.c,_xlfn.XMATCH(TEXT(_xlpm.v,"0"),Tableau37[#Headers],0),IFERROR(INDEX(Tableau37[],_xlpm.r,_xlpm.c),""))} -> 0 | L42: {=_xlfn.LET(_xlpm.m,$A42,_xlpm.ang,VALUE(L$1),_xlpm.th,$B42,_xlpm.v,$E42,_xlpm.r,_xlfn.XMATCH(1,(Tableau37[MaterialNumber2]=_xlpm.m)*(Tableau37[Angle]=_xlpm.ang)*(Tableau37[Thickness]=_xlpm.th),0),_xlpm.c,_xlfn.XMATCH(TEXT(_xlpm.v,"0"),Tableau37[#Headers],0),IFERROR(INDEX(Tableau37[],_xlpm.r,_xlpm.c),""))} -> 0 | M42: {=_xlfn.LET(_xlpm.m,$A42,_xlpm.ang,VALUE(M$1),_xlpm.th,$B42,_xlpm.v,$E42,_xlpm.r,_xlfn.XMATCH(1,(Tableau37[MaterialNumber2]=_xlpm.m)*(Tableau37[Angle]=_xlpm.ang)*(Tableau37[Thickness]=_xlpm.th),0),_xlpm.c,_xlfn.XMATCH(TEXT(_xlpm.v,"0"),Tableau37[#Headers],0),IFERROR(INDEX(Tableau37[],_xlpm.r,_xlpm.c),""))} -> 0 | N42: {=_xlfn.LET(_xlpm.m,$A42,_xlpm.ang,VALUE(N$1),_xlpm.th,$B42,_xlpm.v,$E42,_xlpm.r,_xlfn.XMATCH(1,(Tableau37[MaterialNumber2]=_xlpm.m)*(Tableau37[Angle]=_xlpm.ang)*(Tableau37[Thickness]=_xlpm.th),0),_xlpm.c,_xlfn.XMATCH(TEXT(_xlpm.v,"0"),Tableau37[#Headers],0),IFERROR(INDEX(Tableau37[],_xlpm.r,_xlpm.c),""))} -> 0 | O42: 0
A43: 0 | B43: 0.8 | C43: 1 | D43: 20 | E43: 125 | F43: 0 | G43: 0 | H43: {=_xlfn.LET(_xlpm.m,$A43,_xlpm.ang,VALUE(H$1),_xlpm.th,$B43,_xlpm.v,$E43,_xlpm.r,_xlfn.XMATCH(1,(Tableau37[MaterialNumber2]=_xlpm.m)*(Tableau37[Angle]=_xlpm.ang)*(Tableau37[Thickness]=_xlpm.th),0),_xlpm.c,_xlfn.XMATCH(TEXT(_xlpm.v,"0"),Tableau37[#Headers],0),IFERROR(INDEX(Tableau37[],_xlpm.r,_xlpm.c),""))} -> 0 | I43: {=_xlfn.LET(_xlpm.m,$A43,_xlpm.ang,VALUE(I$1),_xlpm.th,$B43,_xlpm.v,$E43,_xlpm.r,_xlfn.XMATCH(1,(Tableau37[MaterialNumber2]=_xlpm.m)*(Tableau37[Angle]=_xlpm.ang)*(Tableau37[Thickness]=_xlpm.th),0),_xlpm.c,_xlfn.XMATCH(TEXT(_xlpm.v,"0"),Tableau37[#Headers],0),IFERROR(INDEX(Tableau37[],_xlpm.r,_xlpm.c),""))} -> 0 | J43: {=_xlfn.LET(_xlpm.m,$A43,_xlpm.ang,VALUE(J$1),_xlpm.th,$B43,_xlpm.v,$E43,_xlpm.r,_xlfn.XMATCH(1,(Tableau37[MaterialNumber2]=_xlpm.m)*(Tableau37[Angle]=_xlpm.ang)*(Tableau37[Thickness]=_xlpm.th),0),_xlpm.c,_xlfn.XMATCH(TEXT(_xlpm.v,"0"),Tableau37[#Headers],0),IFERROR(INDEX(Tableau37[],_xlpm.r,_xlpm.c),""))} -> 0 | K43: {=_xlfn.LET(_xlpm.m,$A43,_xlpm.ang,VALUE(K$1),_xlpm.th,$B43,_xlpm.v,$E43,_xlpm.r,_xlfn.XMATCH(1,(Tableau37[MaterialNumber2]=_xlpm.m)*(Tableau37[Angle]=_xlpm.ang)*(Tableau37[Thickness]=_xlpm.th),0),_xlpm.c,_xlfn.XMATCH(TEXT(_xlpm.v,"0"),Tableau37[#Headers],0),IFERROR(INDEX(Tableau37[],_xlpm.r,_xlpm.c),""))} -> 0 | L43: {=_xlfn.LET(_xlpm.m,$A43,_xlpm.ang,VALUE(L$1),_xlpm.th,$B43,_xlpm.v,$E43,_xlpm.r,_xlfn.XMATCH(1,(Tableau37[MaterialNumber2]=_xlpm.m)*(Tableau37[Angle]=_xlpm.ang)*(Tableau37[Thickness]=_xlpm.th),0),_xlpm.c,_xlfn.XMATCH(TEXT(_xlpm.v,"0"),Tableau37[#Headers],0),IFERROR(INDEX(Tableau37[],_xlpm.r,_xlpm.c),""))} -> 0 | M43: {=_xlfn.LET(_xlpm.m,$A43,_xlpm.ang,VALUE(M$1),_xlpm.th,$B43,_xlpm.v,$E43,_xlpm.r,_xlfn.XMATCH(1,(Tableau37[MaterialNumber2]=_xlpm.m)*(Tableau37[Angle]=_xlpm.ang)*(Tableau37[Thickness]=_xlpm.th),0),_xlpm.c,_xlfn.XMATCH(TEXT(_xlpm.v,"0"),Tableau37[#Headers],0),IFERROR(INDEX(Tableau37[],_xlpm.r,_xlpm.c),""))} -> 0 | N43: {=_xlfn.LET(_xlpm.m,$A43,_xlpm.ang,VALUE(N$1),_xlpm.th,$B43,_xlpm.v,$E43,_xlpm.r,_xlfn.XMATCH(1,(Tableau37[MaterialNumber2]=_xlpm.m)*(Tableau37[Angle]=_xlpm.ang)*(Tableau37[Thickness]=_xlpm.th),0),_xlpm.c,_xlfn.XMATCH(TEXT(_xlpm.v,"0"),Tableau37[#Headers],0),IFERROR(INDEX(Tableau37[],_xlpm.r,_xlpm.c),""))} -> 0 | O43: 0
A44: 0 | B44: 1 | C44: 1 | D44: 0.7 | E44: 4 | F44: 0 | G44: 0 | H44: {=_xlfn.LET(_xlpm.m,$A44,_xlpm.ang,VALUE(H$1),_xlpm.th,$B44,_xlpm.v,$E44,_xlpm.r,_xlfn.XMATCH(1,(Tableau37[MaterialNumber2]=_xlpm.m)*(Tableau37[Angle]=_xlpm.ang)*(Tableau37[Thickness]=_xlpm.th),0),_xlpm.c,_xlfn.XMATCH(TEXT(_xlpm.v,"0"),Tableau37[#Headers],0),IFERROR(INDEX(Tableau37[],_xlpm.r,_xlpm.c),""))} -> 0.278 | I44: {=_xlfn.LET(_xlpm.m,$A44,_xlpm.ang,VALUE(I$1),_xlpm.th,$B44,_xlpm.v,$E44,_xlpm.r,_xlfn.XMATCH(1,(Tableau37[MaterialNumber2]=_xlpm.m)*(Tableau37[Angle]=_xlpm.ang)*(Tableau37[Thickness]=_xlpm.th),0),_xlpm.c,_xlfn.XMATCH(TEXT(_xlpm.v,"0"),Tableau37[#Headers],0),IFERROR(INDEX(Tableau37[],_xlpm.r,_xlpm.c),""))} -> 0.594 | J44: {=_xlfn.LET(_xlpm.m,$A44,_xlpm.ang,VALUE(J$1),_xlpm.th,$B44,_xlpm.v,$E44,_xlpm.r,_xlfn.XMATCH(1,(Tableau37[MaterialNumber2]=_xlpm.m)*(Tableau37[Angle]=_xlpm.ang)*(Tableau37[Thickness]=_xlpm.th),0),_xlpm.c,_xlfn.XMATCH(TEXT(_xlpm.v,"0"),Tableau37[#Headers],0),IFERROR(INDEX(Tableau37[],_xlpm.r,_xlpm.c),""))} -> 0.926 | K44: {=_xlfn.LET(_xlpm.m,$A44,_xlpm.ang,VALUE(K$1),_xlpm.th,$B44,_xlpm.v,$E44,_xlpm.r,_xlfn.XMATCH(1,(Tableau37[MaterialNumber2]=_xlpm.m)*(Tableau37[Angle]=_xlpm.ang)*(Tableau37[Thickness]=_xlpm.th),0),_xlpm.c,_xlfn.XMATCH(TEXT(_xlpm.v,"0"),Tableau37[#Headers],0),IFERROR(INDEX(Tableau37[],_xlpm.r,_xlpm.c),""))} -> 1.59 | L44: {=_xlfn.LET(_xlpm.m,$A44,_xlpm.ang,VALUE(L$1),_xlpm.th,$B44,_xlpm.v,$E44,_xlpm.r,_xlfn.XMATCH(1,(Tableau37[MaterialNumber2]=_xlpm.m)*(Tableau37[Angle]=_xlpm.ang)*(Tableau37[Thickness]=_xlpm.th),0),_xlpm.c,_xlfn.XMATCH(TEXT(_xlpm.v,"0"),Tableau37[#Headers],0),IFERROR(INDEX(Tableau37[],_xlpm.r,_xlpm.c),""))} -> 0.792 | M44: {=_xlfn.LET(_xlpm.m,$A44,_xlpm.ang,VALUE(M$1),_xlpm.th,$B44,_xlpm.v,$E44,_xlpm.r,_xlfn.XMATCH(1,(Tableau37[MaterialNumber2]=_xlpm.m)*(Tableau37[Angle]=_xlpm.ang)*(Tableau37[Thickness]=_xlpm.th),0),_xlpm.c,_xlfn.XMATCH(TEXT(_xlpm.v,"0"),Tableau37[#Headers],0),IFERROR(INDEX(Tableau37[],_xlpm.r,_xlpm.c),""))} -> 0.506 | N44: {=_xlfn.LET(_xlpm.m,$A44,_xlpm.ang,VALUE(N$1),_xlpm.th,$B44,_xlpm.v,$E44,_xlpm.r,_xlfn.XMATCH(1,(Tableau37[MaterialNumber2]=_xlpm.m)*(Tableau37[Angle]=_xlpm.ang)*(Tableau37[Thickness]=_xlpm.th),0),_xlpm.c,_xlfn.XMATCH(TEXT(_xlpm.v,"0"),Tableau37[#Headers],0),IFERROR(INDEX(Tableau37[],_xlpm.r,_xlpm.c),""))} -> 0.264 | O44: 0
A45: 0 | B45: 1 | C45: 1 | D45: 1 | E45: 6 | F45: 0 | G45: 0 | H45: {=_xlfn.LET(_xlpm.m,$A45,_xlpm.ang,VALUE(H$1),_xlpm.th,$B45,_xlpm.v,$E45,_xlpm.r,_xlfn.XMATCH(1,(Tableau37[MaterialNumber2]=_xlpm.m)*(Tableau37[Angle]=_xlpm.ang)*(Tableau37[Thickness]=_xlpm.th),0),_xlpm.c,_xlfn.XMATCH(TEXT(_xlpm.v,"0"),Tableau37[#Headers],0),IFERROR(INDEX(Tableau37[],_xlpm.r,_xlpm.c),""))} -> 0.306 | I45: {=_xlfn.LET(_xlpm.m,$A45,_xlpm.ang,VALUE(I$1),_xlpm.th,$B45,_xlpm.v,$E45,_xlpm.r,_xlfn.XMATCH(1,(Tableau37[MaterialNumber2]=_xlpm.m)*(Tableau37[Angle]=_xlpm.ang)*(Tableau37[Thickness]=_xlpm.th),0),_xlpm.c,_xlfn.XMATCH(TEXT(_xlpm.v,"0"),Tableau37[#Headers],0),IFERROR(INDEX(Tableau37[],_xlpm.r,_xlpm.c),""))} -> 0.652 | J45: {=_xlfn.LET(_xlpm.m,$A45,_xlpm.ang,VALUE(J$1),_xlpm.th,$B45,_xlpm.v,$E45,_xlpm.r,_xlfn.XMATCH(1,(Tableau37[MaterialNumber2]=_xlpm.m)*(Tableau37[Angle]=_xlpm.ang)*(Tableau37[Thickness]=_xlpm.th),0),_xlpm.c,_xlfn.XMATCH(TEXT(_xlpm.v,"0"),Tableau37[#Headers],0),IFERROR(INDEX(Tableau37[],_xlpm.r,_xlpm.c),""))} -> 1.016 | K45: {=_xlfn.LET(_xlpm.m,$A45,_xlpm.ang,VALUE(K$1),_xlpm.th,$B45,_xlpm.v,$E45,_xlpm.r,_xlfn.XMATCH(1,(Tableau37[MaterialNumber2]=_xlpm.m)*(Tableau37[Angle]=_xlpm.ang)*(Tableau37[Thickness]=_xlpm.th),0),_xlpm.c,_xlfn.XMATCH(TEXT(_xlpm.v,"0"),Tableau37[#Headers],0),IFERROR(INDEX(Tableau37[],_xlpm.r,_xlpm.c),""))} -> 1.742 | L45: {=_xlfn.LET(_xlpm.m,$A45,_xlpm.ang,VALUE(L$1),_xlpm.th,$B45,_xlpm.v,$E45,_xlpm.r,_xlfn.XMATCH(1,(Tableau37[MaterialNumber2]=_xlpm.m)*(Tableau37[Angle]=_xlpm.ang)*(Tableau37[Thickness]=_xlpm.th),0),_xlpm.c,_xlfn.XMATCH(TEXT(_xlpm.v,"0"),Tableau37[#Headers],0),IFERROR(INDEX(Tableau37[],_xlpm.r,_xlpm.c),""))} -> 0.856 | M45: {=_xlfn.LET(_xlpm.m,$A45,_xlpm.ang,VALUE(M$1),_xlpm.th,$B45,_xlpm.v,$E45,_xlpm.r,_xlfn.XMATCH(1,(Tableau37[MaterialNumber2]=_xlpm.m)*(Tableau37[Angle]=_xlpm.ang)*(Tableau37[Thickness]=_xlpm.th),0),_xlpm.c,_xlfn.XMATCH(TEXT(_xlpm.v,"0"),Tableau37[#Headers],0),IFERROR(INDEX(Tableau37[],_xlpm.r,_xlpm.c),""))} -> 0.554 | N45: {=_xlfn.LET(_xlpm.m,$A45,_xlpm.ang,VALUE(N$1),_xlpm.th,$B45,_xlpm.v,$E45,_xlpm.r,_xlfn.XMATCH(1,(Tableau37[MaterialNumber2]=_xlpm.m)*(Tableau37[Angle]=_xlpm.ang)*(Tableau37[Thickness]=_xlpm.th),0),_xlpm.c,_xlfn.XMATCH(TEXT(_xlpm.v,"0"),Tableau37[#Headers],0),IFERROR(INDEX(Tableau37[],_xlpm.r,_xlpm.c),""))} -> 0.29 | O45: 0
A46: 0 | B46: 1 | C46: 1 | D46: 1.1 | E46: 7 | F46: 0 | G46: 0 | H46: {=_xlfn.LET(_xlpm.m,$A46,_xlpm.ang,VALUE(H$1),_xlpm.th,$B46,_xlpm.v,$E46,_xlpm.r,_xlfn.XMATCH(1,(Tableau37[MaterialNumber2]=_xlpm.m)*(Tableau37[Angle]=_xlpm.ang)*(Tableau37[Thickness]=_xlpm.th),0),_xlpm.c,_xlfn.XMATCH(TEXT(_xlpm.v,"0"),Tableau37[#Headers],0),IFERROR(INDEX(Tableau37[],_xlpm.r,_xlpm.c),""))} -> 0.32 | I46: {=_xlfn.LET(_xlpm.m,$A46,_xlpm.ang,VALUE(I$1),_xlpm.th,$B46,_xlpm.v,$E46,_xlpm.r,_xlfn.XMATCH(1,(Tableau37[MaterialNumber2]=_xlpm.m)*(Tableau37[Angle]=_xlpm.ang)*(Tableau37[Thickness]=_xlpm.th),0),_xlpm.c,_xlfn.XMATCH(TEXT(_xlpm.v,"0"),Tableau37[#Headers],0),IFERROR(INDEX(Tableau37[],_xlpm.r,_xlpm.c),""))} -> 0.68 | J46: {=_xlfn.LET(_xlpm.m,$A46,_xlpm.ang,VALUE(J$1),_xlpm.th,$B46,_xlpm.v,$E46,_xlpm.r,_xlfn.XMATCH(1,(Tableau37[MaterialNumber2]=_xlpm.m)*(Tableau37[Angle]=_xlpm.ang)*(Tableau37[Thickness]=_xlpm.th),0),_xlpm.c,_xlfn.XMATCH(TEXT(_xlpm.v,"0"),Tableau37[#Headers],0),IFERROR(INDEX(Tableau37[],_xlpm.r,_xlpm.c),""))} -> 1.062 | K46: {=_xlfn.LET(_xlpm.m,$A46,_xlpm.ang,VALUE(K$1),_xlpm.th,$B46,_xlpm.v,$E46,_xlpm.r,_xlfn.XMATCH(1,(Tableau37[MaterialNumber2]=_xlpm.m)*(Tableau37[Angle]=_xlpm.ang)*(Tableau37[Thickness]=_xlpm.th),0),_xlpm.c,_xlfn.XMATCH(TEXT(_xlpm.v,"0"),Tableau37[#Headers],0),IFERROR(INDEX(Tableau37[],_xlpm.r,_xlpm.c),""))} -> 1.82 | L46: {=_xlfn.LET(_xlpm.m,$A46,_xlpm.ang,VALUE(L$1),_xlpm.th,$B46,_xlpm.v,$E46,_xlpm.r,_xlfn.XMATCH(1,(Tableau37[MaterialNumber2]=_xlpm.m)*(Tableau37[Angle]=_xlpm.ang)*(Tableau37[Thickness]=_xlpm.th),0),_xlpm.c,_xlfn.XMATCH(TEXT(_xlpm.v,"0"),Tableau37[#Headers],0),IFERROR(INDEX(Tableau37[],_xlpm.r,_xlpm.c),""))} -> 0.894 | M46: {=_xlfn.LET(_xlpm.m,$A46,_xlpm.ang,VALUE(M$1),_xlpm.th,$B46,_xlpm.v,$E46,_xlpm.r,_xlfn.XMATCH(1,(Tableau37[MaterialNumber2]=_xlpm.m)*(Tableau37[Angle]=_xlpm.ang)*(Tableau37[Thickness]=_xlpm.th),0),_xlpm.c,_xlfn.XMATCH(TEXT(_xlpm.v,"0"),Tableau37[#Headers],0),IFERROR(INDEX(Tableau37[],_xlpm.r,_xlpm.c),""))} -> 0.578 | N46: {=_xlfn.LET(_xlpm.m,$A46,_xlpm.ang,VALUE(N$1),_xlpm.th,$B46,_xlpm.v,$E46,_xlpm.r,_xlfn.XMATCH(1,(Tableau37[MaterialNumber2]=_xlpm.m)*(Tableau37[Angle]=_xlpm.ang)*(Tableau37[Thickness]=_xlpm.th),0),_xlpm.c,_xlfn.XMATCH(TEXT(_xlpm.v,"0"),Tableau37[#Headers],0),IFERROR(INDEX(Tableau37[],_xlpm.r,_xlpm.c),""))} -> 0.302 | O46: 0
A47: 0 | B47: 1 | C47: 1 | D47: 1.3 | E47: 8 | F47: 0 | G47: 0 | H47: {=_xlfn.LET(_xlpm.m,$A47,_xlpm.ang,VALUE(H$1),_xlpm.th,$B47,_xlpm.v,$E47,_xlpm.r,_xlfn.XMATCH(1,(Tableau37[MaterialNumber2]=_xlpm.m)*(Tableau37[Angle]=_xlpm.ang)*(Tableau37[Thickness]=_xlpm.th),0),_xlpm.c,_xlfn.XMATCH(TEXT(_xlpm.v,"0"),Tableau37[#Headers],0),IFERROR(INDEX(Tableau37[],_xlpm.r,_xlpm.c),""))} -> 0.332 | I47: {=_xlfn.LET(_xlpm.m,$A47,_xlpm.ang,VALUE(I$1),_xlpm.th,$B47,_xlpm.v,$E47,_xlpm.r,_xlfn.XMATCH(1,(Tableau37[MaterialNumber2]=_xlpm.m)*(Tableau37[Angle]=_xlpm.ang)*(Tableau37[Thickness]=_xlpm.th),0),_xlpm.c,_xlfn.XMATCH(TEXT(_xlpm.v,"0"),Tableau37[#Headers],0),IFERROR(INDEX(Tableau37[],_xlpm.r,_xlpm.c),""))} -> 0.708 | J47: {=_xlfn.LET(_xlpm.m,$A47,_xlpm.ang,VALUE(J$1),_xlpm.th,$B47,_xlpm.v,$E47,_xlpm.r,_xlfn.XMATCH(1,(Tableau37[MaterialNumber2]=_xlpm.m)*(Tableau37[Angle]=_xlpm.ang)*(Tableau37[Thickness]=_xlpm.th),0),_xlpm.c,_xlfn.XMATCH(TEXT(_xlpm.v,"0"),Tableau37[#Headers],0),IFERROR(INDEX(Tableau37[],_xlpm.r,_xlpm.c),""))} -> 1.106 | K47: {=_xlfn.LET(_xlpm.m,$A47,_xlpm.ang,VALUE(K$1),_xlpm.th,$B47,_xlpm.v,$E47,_xlpm.r,_xlfn.XMATCH(1,(Tableau37[MaterialNumber2]=_xlpm.m)*(Tableau37[Angle]=_xlpm.ang)*(Tableau37[Thickness]=_xlpm.th),0),_xlpm.c,_xlfn.XMATCH(TEXT(_xlpm.v,"0"),Tableau37[#Headers],0),IFERROR(INDEX(Tableau37[],_xlpm.r,_xlpm.c),""))} -> 1.896 | L47: {=_xlfn.LET(_xlpm.m,$A47,_xlpm.ang,VALUE(L$1),_xlpm.th,$B47,_xlpm.v,$E47,_xlpm.r,_xlfn.XMATCH(1,(Tableau37[MaterialNumber2]=_xlpm.m)*(Tableau37[Angle]=_xlpm.ang)*(Tableau37[Thickness]=_xlpm.th),0),_xlpm.c,_xlfn.XMATCH(TEXT(_xlpm.v,"0"),Tableau37[#Headers],0),IFERROR(INDEX(Tableau37[],_xlpm.r,_xlpm.c),""))} -> 0.932 | M47: {=_xlfn.LET(_xlpm.m,$A47,_xlpm.ang,VALUE(M$1),_xlpm.th,$B47,_xlpm.v,$E47,_xlpm.r,_xlfn.XMATCH(1,(Tableau37[MaterialNumber2]=_xlpm.m)*(Tableau37[Angle]=_xlpm.ang)*(Tableau37[Thickness]=_xlpm.th),0),_xlpm.c,_xlfn.XMATCH(TEXT(_xlpm.v,"0"),Tableau37[#Headers],0),IFERROR(INDEX(Tableau37[],_xlpm.r,_xlpm.c),""))} -> 0.604 | N47: {=_xlfn.LET(_xlpm.m,$A47,_xlpm.ang,VALUE(N$1),_xlpm.th,$B47,_xlpm.v,$E47,_xlpm.r,_xlfn.XMATCH(1,(Tableau37[MaterialNumber2]=_xlpm.m)*(Tableau37[Angle]=_xlpm.ang)*(Tableau37[Thickness]=_xlpm.th),0),_xlpm.c,_xlfn.XMATCH(TEXT(_xlpm.v,"0"),Tableau37[#Headers],0),IFERROR(INDEX(Tableau37[],_xlpm.r,_xlpm.c),""))} -> 0.316 | O47: 0
A48: 0 | B48: 1 | C48: 1 | D48: 1.6 | E48: 10 | F48: 0 | G48: 0 | H48: {=_xlfn.LET(_xlpm.m,$A48,_xlpm.ang,VALUE(H$1),_xlpm.th,$B48,_xlpm.v,$E48,_xlpm.r,_xlfn.XMATCH(1,(Tableau37[MaterialNumber2]=_xlpm.m)*(Tableau37[Angle]=_xlpm.ang)*(Tableau37[Thickness]=_xlpm.th),0),_xlpm.c,_xlfn.XMATCH(TEXT(_xlpm.v,"0"),Tableau37[#Headers],0),IFERROR(INDEX(Tableau37[],_xlpm.r,_xlpm.c),""))} -> 0.36 | I48: {=_xlfn.LET(_xlpm.m,$A48,_xlpm.ang,VALUE(I$1),_xlpm.th,$B48,_xlpm.v,$E48,_xlpm.r,_xlfn.XMATCH(1,(Tableau37[MaterialNumber2]=_xlpm.m)*(Tableau37[Angle]=_xlpm.ang)*(Tableau37[Thickness]=_xlpm.th),0),_xlpm.c,_xlfn.XMATCH(TEXT(_xlpm.v,"0"),Tableau37[#Headers],0),IFERROR(INDEX(Tableau37[],_xlpm.r,_xlpm.c),""))} -> 0.766 | J48: {=_xlfn.LET(_xlpm.m,$A48,_xlpm.ang,VALUE(J$1),_xlpm.th,$B48,_xlpm.v,$E48,_xlpm.r,_xlfn.XMATCH(1,(Tableau37[MaterialNumber2]=_xlpm.m)*(Tableau37[Angle]=_xlpm.ang)*(Tableau37[Thickness]=_xlpm.th),0),_xlpm.c,_xlfn.XMATCH(TEXT(_xlpm.v,"0"),Tableau37[#Headers],0),IFERROR(INDEX(Tableau37[],_xlpm.r,_xlpm.c),""))} -> 1.196 | K48: {=_xlfn.LET(_xlpm.m,$A48,_xlpm.ang,VALUE(K$1),_xlpm.th,$B48,_xlpm.v,$E48,_xlpm.r,_xlfn.XMATCH(1,(Tableau37[MaterialNumber2]=_xlpm.m)*(Tableau37[Angle]=_xlpm.ang)*(Tableau37[Thickness]=_xlpm.th),0),_xlpm.c,_xlfn.XMATCH(TEXT(_xlpm.v,"0"),Tableau37[#Headers],0),IFERROR(INDEX(Tableau37[],_xlpm.r,_xlpm.c),""))} -> 2.05 | L48: {=_xlfn.LET(_xlpm.m,$A48,_xlpm.ang,VALUE(L$1),_xlpm.th,$B48,_xlpm.v,$E48,_xlpm.r,_xlfn.XMATCH(1,(Tableau37[MaterialNumber2]=_xlpm.m)*(Tableau37[Angle]=_xlpm.ang)*(Tableau37[Thickness]=_xlpm.th),0),_xlpm.c,_xlfn.XMATCH(TEXT(_xlpm.v,"0"),Tableau37[#Headers],0),IFERROR(INDEX(Tableau37[],_xlpm.r,_xlpm.c),""))} -> 1.008 | M48: {=_xlfn.LET(_xlpm.m,$A48,_xlpm.ang,VALUE(M$1),_xlpm.th,$B48,_xlpm.v,$E48,_xlpm.r,_xlfn.XMATCH(1,(Tableau37[MaterialNumber2]=_xlpm.m)*(Tableau37[Angle]=_xlpm.ang)*(Tableau37[Thickness]=_xlpm.th),0),_xlpm.c,_xlfn.XMATCH(TEXT(_xlpm.v,"0"),Tableau37[#Headers],0),IFERROR(INDEX(Tableau37[],_xlpm.r,_xlpm.c),""))} -> 0.652 | N48: {=_xlfn.LET(_xlpm.m,$A48,_xlpm.ang,VALUE(N$1),_xlpm.th,$B48,_xlpm.v,$E48,_xlpm.r,_xlfn.XMATCH(1,(Tableau37[MaterialNumber2]=_xlpm.m)*(Tableau37[Angle]=_xlpm.ang)*(Tableau37[Thickness]=_xlpm.th),0),_xlpm.c,_xlfn.XMATCH(TEXT(_xlpm.v,"0"),Tableau37[#Headers],0),IFERROR(INDEX(Tableau37[],_xlpm.r,_xlpm.c),""))} -> 0.342 | O48: 0
... A50: 0 | B50: 1 | C50: 1 | D50: 2.3 | E50: 14 | F50: 0 | G50: 0 | H50: {=_xlfn.LET(_xlpm.m,$A50,_xlpm.ang,VALUE(H$1),_xlpm.th,$B50,_xlpm.v,$E50,_xlpm.r,_xlfn.XMATCH(1,(Tableau37[MaterialNumber2]=_xlpm.m)*(Tableau37[Angle]=_xlpm.ang)*(Tableau37[Thickness]=_xlpm.th),0),_xlpm.c,_xlfn.XMATCH(TEXT(_xlpm.v,"0"),Tableau37[#Headers],0),IFERROR(INDEX(Tableau37[],_xlpm.r,_xlpm.c),""))} -> 0.414 | I50: {=_xlfn.LET(_xlpm.m,$A50,_xlpm.ang,VALUE(I$1),_xlpm.th,$B50,_xlpm.v,$E50,_xlpm.r,_xlfn.XMATCH(1,(Tableau37[MaterialNumber2]=_xlpm.m)*(Tableau37[Angle]=_xlpm.ang)*(Tableau37[Thickness]=_xlpm.th),0),_xlpm.c,_xlfn.XMATCH(TEXT(_xlpm.v,"0"),Tableau37[#Headers],0),IFERROR(INDEX(Tableau37[],_xlpm.r,_xlpm.c),""))} -> 0.88 | J50: {=_xlfn.LET(_xlpm.m,$A50,_xlpm.ang,VALUE(J$1),_xlpm.th,$B50,_xlpm.v,$E50,_xlpm.r,_xlfn.XMATCH(1,(Tableau37[MaterialNumber2]=_xlpm.m)*(Tableau37[Angle]=_xlpm.ang)*(Tableau37[Thickness]=_xlpm.th),0),_xlpm.c,_xlfn.XMATCH(TEXT(_xlpm.v,"0"),Tableau37[#Headers],0),IFERROR(INDEX(Tableau37[],_xlpm.r,_xlpm.c),""))} -> 1.374 | K50: {=_xlfn.LET(_xlpm.m,$A50,_xlpm.ang,VALUE(K$1),_xlpm.th,$B50,_xlpm.v,$E50,_xlpm.r,_xlfn.XMATCH(1,(Tableau37[MaterialNumber2]=_xlpm.m)*(Tableau37[Angle]=_xlpm.ang)*(Tableau37[Thickness]=_xlpm.th),0),_xlpm.c,_xlfn.XMATCH(TEXT(_xlpm.v,"0"),Tableau37[#Headers],0),IFERROR(INDEX(Tableau37[],_xlpm.r,_xlpm.c),""))} -> 2.356 | L50: {=_xlfn.LET(_xlpm.m,$A50,_xlpm.ang,VALUE(L$1),_xlpm.th,$B50,_xlpm.v,$E50,_xlpm.r,_xlfn.XMATCH(1,(Tableau37[MaterialNumber2]=_xlpm.m)*(Tableau37[Angle]=_xlpm.ang)*(Tableau37[Thickness]=_xlpm.th),0),_xlpm.c,_xlfn.XMATCH(TEXT(_xlpm.v,"0"),Tableau37[#Headers],0),IFERROR(INDEX(Tableau37[],_xlpm.r,_xlpm.c),""))} -> 1.158 | M50: {=_xlfn.LET(_xlpm.m,$A50,_xlpm.ang,VALUE(M$1),_xlpm.th,$B50,_xlpm.v,$E50,_xlpm.r,_xlfn.XMATCH(1,(Tableau37[MaterialNumber2]=_xlpm.m)*(Tableau37[Angle]=_xlpm.ang)*(Tableau37[Thickness]=_xlpm.th),0),_xlpm.c,_xlfn.XMATCH(TEXT(_xlpm.v,"0"),Tableau37[#Headers],0),IFERROR(INDEX(Tableau37[],_xlpm.r,_xlpm.c),""))} -> 0.075 | N50: {=_xlfn.LET(_xlpm.m,$A50,_xlpm.ang,VALUE(N$1),_xlpm.th,$B50,_xlpm.v,$E50,_xlpm.r,_xlfn.XMATCH(1,(Tableau37[MaterialNumber2]=_xlpm.m)*(Tableau37[Angle]=_xlpm.ang)*(Tableau37[Thickness]=_xlpm.th),0),_xlpm.c,_xlfn.XMATCH(TEXT(_xlpm.v,"0"),Tableau37[#Headers],0),IFERROR(INDEX(Tableau37[],_xlpm.r,_xlpm.c),""))} -> 0.392 | O50: 0
A51: 0 | B51: 1 | C51: 1 | E51: 15 | F51: 0 | G51: 0 | H51: {=_xlfn.LET(_xlpm.m,$A51,_xlpm.ang,VALUE(H$1),_xlpm.th,$B51,_xlpm.v,$E51,_xlpm.r,_xlfn.XMATCH(1,(Tableau37[MaterialNumber2]=_xlpm.m)*(Tableau37[Angle]=_xlpm.ang)*(Tableau37[Thickness]=_xlpm.th),0),_xlpm.c,_xlfn.XMATCH(TEXT(_xlpm.v,"0"),Tableau37[#Headers],0),IFERROR(INDEX(Tableau37[],_xlpm.r,_xlpm.c),""))} | I51: {=_xlfn.LET(_xlpm.m,$A51,_xlpm.ang,VALUE(I$1),_xlpm.th,$B51,_xlpm.v,$E51,_xlpm.r,_xlfn.XMATCH(1,(Tableau37[MaterialNumber2]=_xlpm.m)*(Tableau37[Angle]=_xlpm.ang)*(Tableau37[Thickness]=_xlpm.th),0),_xlpm.c,_xlfn.XMATCH(TEXT(_xlpm.v,"0"),Tableau37[#Headers],0),IFERROR(INDEX(Tableau37[],_xlpm.r,_xlpm.c),""))} | J51: {=_xlfn.LET(_xlpm.m,$A51,_xlpm.ang,VALUE(J$1),_xlpm.th,$B51,_xlpm.v,$E51,_xlpm.r,_xlfn.XMATCH(1,(Tableau37[MaterialNumber2]=_xlpm.m)*(Tableau37[Angle]=_xlpm.ang)*(Tableau37[Thickness]=_xlpm.th),0),_xlpm.c,_xlfn.XMATCH(TEXT(_xlpm.v,"0"),Tableau37[#Headers],0),IFERROR(INDEX(Tableau37[],_xlpm.r,_xlpm.c),""))} | K51: {=_xlfn.LET(_xlpm.m,$A51,_xlpm.ang,VALUE(K$1),_xlpm.th,$B51,_xlpm.v,$E51,_xlpm.r,_xlfn.XMATCH(1,(Tableau37[MaterialNumber2]=_xlpm.m)*(Tableau37[Angle]=_xlpm.ang)*(Tableau37[Thickness]=_xlpm.th),0),_xlpm.c,_xlfn.XMATCH(TEXT(_xlpm.v,"0"),Tableau37[#Headers],0),IFERROR(INDEX(Tableau37[],_xlpm.r,_xlpm.c),""))} | L51: {=_xlfn.LET(_xlpm.m,$A51,_xlpm.ang,VALUE(L$1),_xlpm.th,$B51,_xlpm.v,$E51,_xlpm.r,_xlfn.XMATCH(1,(Tableau37[MaterialNumber2]=_xlpm.m)*(Tableau37[Angle]=_xlpm.ang)*(Tableau37[Thickness]=_xlpm.th),0),_xlpm.c,_xlfn.XMATCH(TEXT(_xlpm.v,"0"),Tableau37[#Headers],0),IFERROR(INDEX(Tableau37[],_xlpm.r,_xlpm.c),""))} | M51: {=_xlfn.LET(_xlpm.m,$A51,_xlpm.ang,VALUE(M$1),_xlpm.th,$B51,_xlpm.v,$E51,_xlpm.r,_xlfn.XMATCH(1,(Tableau37[MaterialNumber2]=_xlpm.m)*(Tableau37[Angle]=_xlpm.ang)*(Tableau37[Thickness]=_xlpm.th),0),_xlpm.c,_xlfn.XMATCH(TEXT(_xlpm.v,"0"),Tableau37[#Headers],0),IFERROR(INDEX(Tableau37[],_xlpm.r,_xlpm.c),""))} | N51: {=_xlfn.LET(_xlpm.m,$A51,_xlpm.ang,VALUE(N$1),_xlpm.th,$B51,_xlpm.v,$E51,_xlpm.r,_xlfn.XMATCH(1,(Tableau37[MaterialNumber2]=_xlpm.m)*(Tableau37[Angle]=_xlpm.ang)*(Tableau37[Thickness]=_xlpm.th),0),_xlpm.c,_xlfn.XMATCH(TEXT(_xlpm.v,"0"),Tableau37[#Headers],0),IFERROR(INDEX(Tableau37[],_xlpm.r,_xlpm.c),""))} | O51: 0
A52: 0 | B52: 1 | C52: 1 | D52: 2.6 | E52: 16 | F52: 0 | G52: 0 | H52: {=_xlfn.LET(_xlpm.m,$A52,_xlpm.ang,VALUE(H$1),_xlpm.th,$B52,_xlpm.v,$E52,_xlpm.r,_xlfn.XMATCH(1,(Tableau37[MaterialNumber2]=_xlpm.m)*(Tableau37[Angle]=_xlpm.ang)*(Tableau37[Thickness]=_xlpm.th),0),_xlpm.c,_xlfn.XMATCH(TEXT(_xlpm.v,"0"),Tableau37[#Headers],0),IFERROR(INDEX(Tableau37[],_xlpm.r,_xlpm.c),""))} -> 0.44 | I52: {=_xlfn.LET(_xlpm.m,$A52,_xlpm.ang,VALUE(I$1),_xlpm.th,$B52,_xlpm.v,$E52,_xlpm.r,_xlfn.XMATCH(1,(Tableau37[MaterialNumber2]=_xlpm.m)*(Tableau37[Angle]=_xlpm.ang)*(Tableau37[Thickness]=_xlpm.th),0),_xlpm.c,_xlfn.XMATCH(TEXT(_xlpm.v,"0"),Tableau37[#Headers],0),IFERROR(INDEX(Tableau37[],_xlpm.r,_xlpm.c),""))} -> 0.938 | J52: {=_xlfn.LET(_xlpm.m,$A52,_xlpm.ang,VALUE(J$1),_xlpm.th,$B52,_xlpm.v,$E52,_xlpm.r,_xlfn.XMATCH(1,(Tableau37[MaterialNumber2]=_xlpm.m)*(Tableau37[Angle]=_xlpm.ang)*(Tableau37[Thickness]=_xlpm.th),0),_xlpm.c,_xlfn.XMATCH(TEXT(_xlpm.v,"0"),Tableau37[#Headers],0),IFERROR(INDEX(Tableau37[],_xlpm.r,_xlpm.c),""))} -> 1.464 | K52: {=_xlfn.LET(_xlpm.m,$A52,_xlpm.ang,VALUE(K$1),_xlpm.th,$B52,_xlpm.v,$E52,_xlpm.r,_xlfn.XMATCH(1,(Tableau37[MaterialNumber2]=_xlpm.m)*(Tableau37[Angle]=_xlpm.ang)*(Tableau37[Thickness]=_xlpm.th),0),_xlpm.c,_xlfn.XMATCH(TEXT(_xlpm.v,"0"),Tableau37[#Headers],0),IFERROR(INDEX(Tableau37[],_xlpm.r,_xlpm.c),""))} -> 2.51 | L52: {=_xlfn.LET(_xlpm.m,$A52,_xlpm.ang,VALUE(L$1),_xlpm.th,$B52,_xlpm.v,$E52,_xlpm.r,_xlfn.XMATCH(1,(Tableau37[MaterialNumber2]=_xlpm.m)*(Tableau37[Angle]=_xlpm.ang)*(Tableau37[Thickness]=_xlpm.th),0),_xlpm.c,_xlfn.XMATCH(TEXT(_xlpm.v,"0"),Tableau37[#Headers],0),IFERROR(INDEX(Tableau37[],_xlpm.r,_xlpm.c),""))} -> 1.234 | M52: {=_xlfn.LET(_xlpm.m,$A52,_xlpm.ang,VALUE(M$1),_xlpm.th,$B52,_xlpm.v,$E52,_xlpm.r,_xlfn.XMATCH(1,(Tableau37[MaterialNumber2]=_xlpm.m)*(Tableau37[Angle]=_xlpm.ang)*(Tableau37[Thickness]=_xlpm.th),0),_xlpm.c,_xlfn.XMATCH(TEXT(_xlpm.v,"0"),Tableau37[#Headers],0),IFERROR(INDEX(Tableau37[],_xlpm.r,_xlpm.c),""))} -> 0.798 | N52: {=_xlfn.LET(_xlpm.m,$A52,_xlpm.ang,VALUE(N$1),_xlpm.th,$B52,_xlpm.v,$E52,_xlpm.r,_xlfn.XMATCH(1,(Tableau37[MaterialNumber2]=_xlpm.m)*(Tableau37[Angle]=_xlpm.ang)*(Tableau37[Thickness]=_xlpm.th),0),_xlpm.c,_xlfn.XMATCH(TEXT(_xlpm.v,"0"),Tableau37[#Headers],0),IFERROR(INDEX(Tableau37[],_xlpm.r,_xlpm.c),""))} -> 0.418 | O52: 0
A53: 0 | B53: 1 | C53: 1 | D53: 3 | E53: 18 | F53: 0 | G53: 0 | H53: {=_xlfn.LET(_xlpm.m,$A53,_xlpm.ang,VALUE(H$1),_xlpm.th,$B53,_xlpm.v,$E53,_xlpm.r,_xlfn.XMATCH(1,(Tableau37[MaterialNumber2]=_xlpm.m)*(Tableau37[Angle]=_xlpm.ang)*(Tableau37[Thickness]=_xlpm.th),0),_xlpm.c,_xlfn.XMATCH(TEXT(_xlpm.v,"0"),Tableau37[#Headers],0),IFERROR(INDEX(Tableau37[],_xlpm.r,_xlpm.c),""))} -> 0.468 | I53: {=_xlfn.LET(_xlpm.m,$A53,_xlpm.ang,VALUE(I$1),_xlpm.th,$B53,_xlpm.v,$E53,_xlpm.r,_xlfn.XMATCH(1,(Tableau37[MaterialNumber2]=_xlpm.m)*(Tableau37[Angle]=_xlpm.ang)*(Tableau37[Thickness]=_xlpm.th),0),_xlpm.c,_xlfn.XMATCH(TEXT(_xlpm.v,"0"),Tableau37[#Headers],0),IFERROR(INDEX(Tableau37[],_xlpm.r,_xlpm.c),""))} -> 0.996 | J53: {=_xlfn.LET(_xlpm.m,$A53,_xlpm.ang,VALUE(J$1),_xlpm.th,$B53,_xlpm.v,$E53,_xlpm.r,_xlfn.XMATCH(1,(Tableau37[MaterialNumber2]=_xlpm.m)*(Tableau37[Angle]=_xlpm.ang)*(Tableau37[Thickness]=_xlpm.th),0),_xlpm.c,_xlfn.XMATCH(TEXT(_xlpm.v,"0"),Tableau37[#Headers],0),IFERROR(INDEX(Tableau37[],_xlpm.r,_xlpm.c),""))} -> 1.554 | K53: {=_xlfn.LET(_xlpm.m,$A53,_xlpm.ang,VALUE(K$1),_xlpm.th,$B53,_xlpm.v,$E53,_xlpm.r,_xlfn.XMATCH(1,(Tableau37[MaterialNumber2]=_xlpm.m)*(Tableau37[Angle]=_xlpm.ang)*(Tableau37[Thickness]=_xlpm.th),0),_xlpm.c,_xlfn.XMATCH(TEXT(_xlpm.v,"0"),Tableau37[#Headers],0),IFERROR(INDEX(Tableau37[],_xlpm.r,_xlpm.c),""))} -> 2.662 | L53: {=_xlfn.LET(_xlpm.m,$A53,_xlpm.ang,VALUE(L$1),_xlpm.th,$B53,_xlpm.v,$E53,_xlpm.r,_xlfn.XMATCH(1,(Tableau37[MaterialNumber2]=_xlpm.m)*(Tableau37[Angle]=_xlpm.ang)*(Tableau37[Thickness]=_xlpm.th),0),_xlpm.c,_xlfn.XMATCH(TEXT(_xlpm.v,"0"),Tableau37[#Headers],0),IFERROR(INDEX(Tableau37[],_xlpm.r,_xlpm.c),""))} -> 1.31 | M53: {=_xlfn.LET(_xlpm.m,$A53,_xlpm.ang,VALUE(M$1),_xlpm.th,$B53,_xlpm.v,$E53,_xlpm.r,_xlfn.XMATCH(1,(Tableau37[MaterialNumber2]=_xlpm.m)*(Tableau37[Angle]=_xlpm.ang)*(Tableau37[Thickness]=_xlpm.th),0),_xlpm.c,_xlfn.XMATCH(TEXT(_xlpm.v,"0"),Tableau37[#Headers],0),IFERROR(INDEX(Tableau37[],_xlpm.r,_xlpm.c),""))} -> 0.848 | N53: {=_xlfn.LET(_xlpm.m,$A53,_xlpm.ang,VALUE(N$1),_xlpm.th,$B53,_xlpm.v,$E53,_xlpm.r,_xlfn.XMATCH(1,(Tableau37[MaterialNumber2]=_xlpm.m)*(Tableau37[Angle]=_xlpm.ang)*(Tableau37[Thickness]=_xlpm.th),0),_xlpm.c,_xlfn.XMATCH(TEXT(_xlpm.v,"0"),Tableau37[#Headers],0),IFERROR(INDEX(Tableau37[],_xlpm.r,_xlpm.c),""))} -> 0.444 | O53: 0
A54: 0 | B54: 1 | C54: 1 | D54: 3.3 | E54: 20 | F54: 0 | G54: 0 | H54: {=_xlfn.LET(_xlpm.m,$A54,_xlpm.ang,VALUE(H$1),_xlpm.th,$B54,_xlpm.v,$E54,_xlpm.r,_xlfn.XMATCH(1,(Tableau37[MaterialNumber2]=_xlpm.m)*(Tableau37[Angle]=_xlpm.ang)*(Tableau37[Thickness]=_xlpm.th),0),_xlpm.c,_xlfn.XMATCH(TEXT(_xlpm.v,"0"),Tableau37[#Headers],0),IFERROR(INDEX(Tableau37[],_xlpm.r,_xlpm.c),""))} -> 0.494 | I54: {=_xlfn.LET(_xlpm.m,$A54,_xlpm.ang,VALUE(I$1),_xlpm.th,$B54,_xlpm.v,$E54,_xlpm.r,_xlfn.XMATCH(1,(Tableau37[MaterialNumber2]=_xlpm.m)*(Tableau37[Angle]=_xlpm.ang)*(Tableau37[Thickness]=_xlpm.th),0),_xlpm.c,_xlfn.XMATCH(TEXT(_xlpm.v,"0"),Tableau37[#Headers],0),IFERROR(INDEX(Tableau37[],_xlpm.r,_xlpm.c),""))} -> 1.052 | J54: {=_xlfn.LET(_xlpm.m,$A54,_xlpm.ang,VALUE(J$1),_xlpm.th,$B54,_xlpm.v,$E54,_xlpm.r,_xlfn.XMATCH(1,(Tableau37[MaterialNumber2]=_xlpm.m)*(Tableau37[Angle]=_xlpm.ang)*(Tableau37[Thickness]=_xlpm.th),0),_xlpm.c,_xlfn.XMATCH(TEXT(_xlpm.v,"0"),Tableau37[#Headers],0),IFERROR(INDEX(Tableau37[],_xlpm.r,_xlpm.c),""))} -> 1.642 | K54: {=_xlfn.LET(_xlpm.m,$A54,_xlpm.ang,VALUE(K$1),_xlpm.th,$B54,_xlpm.v,$E54,_xlpm.r,_xlfn.XMATCH(1,(Tableau37[MaterialNumber2]=_xlpm.m)*(Tableau37[Angle]=_xlpm.ang)*(Tableau37[Thickness]=_xlpm.th),0),_xlpm.c,_xlfn.XMATCH(TEXT(_xlpm.v,"0"),Tableau37[#Headers],0),IFERROR(INDEX(Tableau37[],_xlpm.r,_xlpm.c),""))} -> 2.816 | L54: {=_xlfn.LET(_xlpm.m,$A54,_xlpm.ang,VALUE(L$1),_xlpm.th,$B54,_xlpm.v,$E54,_xlpm.r,_xlfn.XMATCH(1,(Tableau37[MaterialNumber2]=_xlpm.m)*(Tableau37[Angle]=_xlpm.ang)*(Tableau37[Thickness]=_xlpm.th),0),_xlpm.c,_xlfn.XMATCH(TEXT(_xlpm.v,"0"),Tableau37[#Headers],0),IFERROR(INDEX(Tableau37[],_xlpm.r,_xlpm.c),""))} -> 1.384 | M54: {=_xlfn.LET(_xlpm.m,$A54,_xlpm.ang,VALUE(M$1),_xlpm.th,$B54,_xlpm.v,$E54,_xlpm.r,_xlfn.XMATCH(1,(Tableau37[MaterialNumber2]=_xlpm.m)*(Tableau37[Angle]=_xlpm.ang)*(Tableau37[Thickness]=_xlpm.th),0),_xlpm.c,_xlfn.XMATCH(TEXT(_xlpm.v,"0"),Tableau37[#Headers],0),IFERROR(INDEX(Tableau37[],_xlpm.r,_xlpm.c),""))} -> 0.894 | N54: {=_xlfn.LET(_xlpm.m,$A54,_xlpm.ang,VALUE(N$1),_xlpm.th,$B54,_xlpm.v,$E54,_xlpm.r,_xlfn.XMATCH(1,(Tableau37[MaterialNumber2]=_xlpm.m)*(Tableau37[Angle]=_xlpm.ang)*(Tableau37[Thickness]=_xlpm.th),0),_xlpm.c,_xlfn.XMATCH(TEXT(_xlpm.v,"0"),Tableau37[#Headers],0),IFERROR(INDEX(Tableau37[],_xlpm.r,_xlpm.c),""))} -> 0.47 | O54: 0
A55: 0 | B55: 1 | C55: 1 | E55: 22 | F55: 0 | G55: 0 | H55: {=_xlfn.LET(_xlpm.m,$A55,_xlpm.ang,VALUE(H$1),_xlpm.th,$B55,_xlpm.v,$E55,_xlpm.r,_xlfn.XMATCH(1,(Tableau37[MaterialNumber2]=_xlpm.m)*(Tableau37[Angle]=_xlpm.ang)*(Tableau37[Thickness]=_xlpm.th),0),_xlpm.c,_xlfn.XMATCH(TEXT(_xlpm.v,"0"),Tableau37[#Headers],0),IFERROR(INDEX(Tableau37[],_xlpm.r,_xlpm.c),""))} | I55: {=_xlfn.LET(_xlpm.m,$A55,_xlpm.ang,VALUE(I$1),_xlpm.th,$B55,_xlpm.v,$E55,_xlpm.r,_xlfn.XMATCH(1,(Tableau37[MaterialNumber2]=_xlpm.m)*(Tableau37[Angle]=_xlpm.ang)*(Tableau37[Thickness]=_xlpm.th),0),_xlpm.c,_xlfn.XMATCH(TEXT(_xlpm.v,"0"),Tableau37[#Headers],0),IFERROR(INDEX(Tableau37[],_xlpm.r,_xlpm.c),""))} | J55: {=_xlfn.LET(_xlpm.m,$A55,_xlpm.ang,VALUE(J$1),_xlpm.th,$B55,_xlpm.v,$E55,_xlpm.r,_xlfn.XMATCH(1,(Tableau37[MaterialNumber2]=_xlpm.m)*(Tableau37[Angle]=_xlpm.ang)*(Tableau37[Thickness]=_xlpm.th),0),_xlpm.c,_xlfn.XMATCH(TEXT(_xlpm.v,"0"),Tableau37[#Headers],0),IFERROR(INDEX(Tableau37[],_xlpm.r,_xlpm.c),""))} | K55: {=_xlfn.LET(_xlpm.m,$A55,_xlpm.ang,VALUE(K$1),_xlpm.th,$B55,_xlpm.v,$E55,_xlpm.r,_xlfn.XMATCH(1,(Tableau37[MaterialNumber2]=_xlpm.m)*(Tableau37[Angle]=_xlpm.ang)*(Tableau37[Thickness]=_xlpm.th),0),_xlpm.c,_xlfn.XMATCH(TEXT(_xlpm.v,"0"),Tableau37[#Headers],0),IFERROR(INDEX(Tableau37[],_xlpm.r,_xlpm.c),""))} | L55: {=_xlfn.LET(_xlpm.m,$A55,_xlpm.ang,VALUE(L$1),_xlpm.th,$B55,_xlpm.v,$E55,_xlpm.r,_xlfn.XMATCH(1,(Tableau37[MaterialNumber2]=_xlpm.m)*(Tableau37[Angle]=_xlpm.ang)*(Tableau37[Thickness]=_xlpm.th),0),_xlpm.c,_xlfn.XMATCH(TEXT(_xlpm.v,"0"),Tableau37[#Headers],0),IFERROR(INDEX(Tableau37[],_xlpm.r,_xlpm.c),""))} | M55: {=_xlfn.LET(_xlpm.m,$A55,_xlpm.ang,VALUE(M$1),_xlpm.th,$B55,_xlpm.v,$E55,_xlpm.r,_xlfn.XMATCH(1,(Tableau37[MaterialNumber2]=_xlpm.m)*(Tableau37[Angle]=_xlpm.ang)*(Tableau37[Thickness]=_xlpm.th),0),_xlpm.c,_xlfn.XMATCH(TEXT(_xlpm.v,"0"),Tableau37[#Headers],0),IFERROR(INDEX(Tableau37[],_xlpm.r,_xlpm.c),""))} | N55: {=_xlfn.LET(_xlpm.m,$A55,_xlpm.ang,VALUE(N$1),_xlpm.th,$B55,_xlpm.v,$E55,_xlpm.r,_xlfn.XMATCH(1,(Tableau37[MaterialNumber2]=_xlpm.m)*(Tableau37[Angle]=_xlpm.ang)*(Tableau37[Thickness]=_xlpm.th),0),_xlpm.c,_xlfn.XMATCH(TEXT(_xlpm.v,"0"),Tableau37[#Headers],0),IFERROR(INDEX(Tableau37[],_xlpm.r,_xlpm.c),""))} | O55: 0
A56: 0 | B56: 1 | C56: 1 | D56: 4 | E56: 25 | F56: 0 | G56: 0 | H56: {=_xlfn.LET(_xlpm.m,$A56,_xlpm.ang,VALUE(H$1),_xlpm.th,$B56,_xlpm.v,$E56,_xlpm.r,_xlfn.XMATCH(1,(Tableau37[MaterialNumber2]=_xlpm.m)*(Tableau37[Angle]=_xlpm.ang)*(Tableau37[Thickness]=_xlpm.th),0),_xlpm.c,_xlfn.XMATCH(TEXT(_xlpm.v,"0"),Tableau37[#Headers],0),IFERROR(INDEX(Tableau37[],_xlpm.r,_xlpm.c),""))} -> 0 | I56: {=_xlfn.LET(_xlpm.m,$A56,_xlpm.ang,VALUE(I$1),_xlpm.th,$B56,_xlpm.v,$E56,_xlpm.r,_xlfn.XMATCH(1,(Tableau37[MaterialNumber2]=_xlpm.m)*(Tableau37[Angle]=_xlpm.ang)*(Tableau37[Thickness]=_xlpm.th),0),_xlpm.c,_xlfn.XMATCH(TEXT(_xlpm.v,"0"),Tableau37[#Headers],0),IFERROR(INDEX(Tableau37[],_xlpm.r,_xlpm.c),""))} -> 0 | J56: {=_xlfn.LET(_xlpm.m,$A56,_xlpm.ang,VALUE(J$1),_xlpm.th,$B56,_xlpm.v,$E56,_xlpm.r,_xlfn.XMATCH(1,(Tableau37[MaterialNumber2]=_xlpm.m)*(Tableau37[Angle]=_xlpm.ang)*(Tableau37[Thickness]=_xlpm.th),0),_xlpm.c,_xlfn.XMATCH(TEXT(_xlpm.v,"0"),Tableau37[#Headers],0),IFERROR(INDEX(Tableau37[],_xlpm.r,_xlpm.c),""))} -> 0 | K56: {=_xlfn.LET(_xlpm.m,$A56,_xlpm.ang,VALUE(K$1),_xlpm.th,$B56,_xlpm.v,$E56,_xlpm.r,_xlfn.XMATCH(1,(Tableau37[MaterialNumber2]=_xlpm.m)*(Tableau37[Angle]=_xlpm.ang)*(Tableau37[Thickness]=_xlpm.th),0),_xlpm.c,_xlfn.XMATCH(TEXT(_xlpm.v,"0"),Tableau37[#Headers],0),IFERROR(INDEX(Tableau37[],_xlpm.r,_xlpm.c),""))} -> 0 | L56: {=_xlfn.LET(_xlpm.m,$A56,_xlpm.ang,VALUE(L$1),_xlpm.th,$B56,_xlpm.v,$E56,_xlpm.r,_xlfn.XMATCH(1,(Tableau37[MaterialNumber2]=_xlpm.m)*(Tableau37[Angle]=_xlpm.ang)*(Tableau37[Thickness]=_xlpm.th),0),_xlpm.c,_xlfn.XMATCH(TEXT(_xlpm.v,"0"),Tableau37[#Headers],0),IFERROR(INDEX(Tableau37[],_xlpm.r,_xlpm.c),""))} -> 0 | M56: {=_xlfn.LET(_xlpm.m,$A56,_xlpm.ang,VALUE(M$1),_xlpm.th,$B56,_xlpm.v,$E56,_xlpm.r,_xlfn.XMATCH(1,(Tableau37[MaterialNumber2]=_xlpm.m)*(Tableau37[Angle]=_xlpm.ang)*(Tableau37[Thickness]=_xlpm.th),0),_xlpm.c,_xlfn.XMATCH(TEXT(_xlpm.v,"0"),Tableau37[#Headers],0),IFERROR(INDEX(Tableau37[],_xlpm.r,_xlpm.c),""))} -> 0 | N56: {=_xlfn.LET(_xlpm.m,$A56,_xlpm.ang,VALUE(N$1),_xlpm.th,$B56,_xlpm.v,$E56,_xlpm.r,_xlfn.XMATCH(1,(Tableau37[MaterialNumber2]=_xlpm.m)*(Tableau37[Angle]=_xlpm.ang)*(Tableau37[Thickness]=_xlpm.th),0),_xlpm.c,_xlfn.XMATCH(TEXT(_xlpm.v,"0"),Tableau37[#Headers],0),IFERROR(INDEX(Tableau37[],_xlpm.r,_xlpm.c),""))} -> 0 | O56: 0
A57: 0 | B57: 1 | C57: 1 | E57: 30 | F57: 0 | G57: 0 | H57: {=_xlfn.LET(_xlpm.m,$A57,_xlpm.ang,VALUE(H$1),_xlpm.th,$B57,_xlpm.v,$E57,_xlpm.r,_xlfn.XMATCH(1,(Tableau37[MaterialNumber2]=_xlpm.m)*(Tableau37[Angle]=_xlpm.ang)*(Tableau37[Thickness]=_xlpm.th),0),_xlpm.c,_xlfn.XMATCH(TEXT(_xlpm.v,"0"),Tableau37[#Headers],0),IFERROR(INDEX(Tableau37[],_xlpm.r,_xlpm.c),""))} | I57: {=_xlfn.LET(_xlpm.m,$A57,_xlpm.ang,VALUE(I$1),_xlpm.th,$B57,_xlpm.v,$E57,_xlpm.r,_xlfn.XMATCH(1,(Tableau37[MaterialNumber2]=_xlpm.m)*(Tableau37[Angle]=_xlpm.ang)*(Tableau37[Thickness]=_xlpm.th),0),_xlpm.c,_xlfn.XMATCH(TEXT(_xlpm.v,"0"),Tableau37[#Headers],0),IFERROR(INDEX(Tableau37[],_xlpm.r,_xlpm.c),""))} | J57: {=_xlfn.LET(_xlpm.m,$A57,_xlpm.ang,VALUE(J$1),_xlpm.th,$B57,_xlpm.v,$E57,_xlpm.r,_xlfn.XMATCH(1,(Tableau37[MaterialNumber2]=_xlpm.m)*(Tableau37[Angle]=_xlpm.ang)*(Tableau37[Thickness]=_xlpm.th),0),_xlpm.c,_xlfn.XMATCH(TEXT(_xlpm.v,"0"),Tableau37[#Headers],0),IFERROR(INDEX(Tableau37[],_xlpm.r,_xlpm.c),""))} | K57: {=_xlfn.LET(_xlpm.m,$A57,_xlpm.ang,VALUE(K$1),_xlpm.th,$B57,_xlpm.v,$E57,_xlpm.r,_xlfn.XMATCH(1,(Tableau37[MaterialNumber2]=_xlpm.m)*(Tableau37[Angle]=_xlpm.ang)*(Tableau37[Thickness]=_xlpm.th),0),_xlpm.c,_xlfn.XMATCH(TEXT(_xlpm.v,"0"),Tableau37[#Headers],0),IFERROR(INDEX(Tableau37[],_xlpm.r,_xlpm.c),""))} | L57: {=_xlfn.LET(_xlpm.m,$A57,_xlpm.ang,VALUE(L$1),_xlpm.th,$B57,_xlpm.v,$E57,_xlpm.r,_xlfn.XMATCH(1,(Tableau37[MaterialNumber2]=_xlpm.m)*(Tableau37[Angle]=_xlpm.ang)*(Tableau37[Thickness]=_xlpm.th),0),_xlpm.c,_xlfn.XMATCH(TEXT(_xlpm.v,"0"),Tableau37[#Headers],0),IFERROR(INDEX(Tableau37[],_xlpm.r,_xlpm.c),""))} | M57: {=_xlfn.LET(_xlpm.m,$A57,_xlpm.ang,VALUE(M$1),_xlpm.th,$B57,_xlpm.v,$E57,_xlpm.r,_xlfn.XMATCH(1,(Tableau37[MaterialNumber2]=_xlpm.m)*(Tableau37[Angle]=_xlpm.ang)*(Tableau37[Thickness]=_xlpm.th),0),_xlpm.c,_xlfn.XMATCH(TEXT(_xlpm.v,"0"),Tableau37[#Headers],0),IFERROR(INDEX(Tableau37[],_xlpm.r,_xlpm.c),""))} | N57: {=_xlfn.LET(_xlpm.m,$A57,_xlpm.ang,VALUE(N$1),_xlpm.th,$B57,_xlpm.v,$E57,_xlpm.r,_xlfn.XMATCH(1,(Tableau37[MaterialNumber2]=_xlpm.m)*(Tableau37[Angle]=_xlpm.ang)*(Tableau37[Thickness]=_xlpm.th),0),_xlpm.c,_xlfn.XMATCH(TEXT(_xlpm.v,"0"),Tableau37[#Headers],0),IFERROR(INDEX(Tableau37[],_xlpm.r,_xlpm.c),""))} | O57: 0
A58: 0 | B58: 1 | C58: 1 | D58: 5 | E58: 32 | F58: 0 | G58: 0 | H58: {=_xlfn.LET(_xlpm.m,$A58,_xlpm.ang,VALUE(H$1),_xlpm.th,$B58,_xlpm.v,$E58,_xlpm.r,_xlfn.XMATCH(1,(Tableau37[MaterialNumber2]=_xlpm.m)*(Tableau37[Angle]=_xlpm.ang)*(Tableau37[Thickness]=_xlpm.th),0),_xlpm.c,_xlfn.XMATCH(TEXT(_xlpm.v,"0"),Tableau37[#Headers],0),IFERROR(INDEX(Tableau37[],_xlpm.r,_xlpm.c),""))} -> 0 | I58: {=_xlfn.LET(_xlpm.m,$A58,_xlpm.ang,VALUE(I$1),_xlpm.th,$B58,_xlpm.v,$E58,_xlpm.r,_xlfn.XMATCH(1,(Tableau37[MaterialNumber2]=_xlpm.m)*(Tableau37[Angle]=_xlpm.ang)*(Tableau37[Thickness]=_xlpm.th),0),_xlpm.c,_xlfn.XMATCH(TEXT(_xlpm.v,"0"),Tableau37[#Headers],0),IFERROR(INDEX(Tableau37[],_xlpm.r,_xlpm.c),""))} -> 0 | J58: {=_xlfn.LET(_xlpm.m,$A58,_xlpm.ang,VALUE(J$1),_xlpm.th,$B58,_xlpm.v,$E58,_xlpm.r,_xlfn.XMATCH(1,(Tableau37[MaterialNumber2]=_xlpm.m)*(Tableau37[Angle]=_xlpm.ang)*(Tableau37[Thickness]=_xlpm.th),0),_xlpm.c,_xlfn.XMATCH(TEXT(_xlpm.v,"0"),Tableau37[#Headers],0),IFERROR(INDEX(Tableau37[],_xlpm.r,_xlpm.c),""))} -> 0 | K58: {=_xlfn.LET(_xlpm.m,$A58,_xlpm.ang,VALUE(K$1),_xlpm.th,$B58,_xlpm.v,$E58,_xlpm.r,_xlfn.XMATCH(1,(Tableau37[MaterialNumber2]=_xlpm.m)*(Tableau37[Angle]=_xlpm.ang)*(Tableau37[Thickness]=_xlpm.th),0),_xlpm.c,_xlfn.XMATCH(TEXT(_xlpm.v,"0"),Tableau37[#Headers],0),IFERROR(INDEX(Tableau37[],_xlpm.r,_xlpm.c),""))} -> 0 | L58: {=_xlfn.LET(_xlpm.m,$A58,_xlpm.ang,VALUE(L$1),_xlpm.th,$B58,_xlpm.v,$E58,_xlpm.r,_xlfn.XMATCH(1,(Tableau37[MaterialNumber2]=_xlpm.m)*(Tableau37[Angle]=_xlpm.ang)*(Tableau37[Thickness]=_xlpm.th),0),_xlpm.c,_xlfn.XMATCH(TEXT(_xlpm.v,"0"),Tableau37[#Headers],0),IFERROR(INDEX(Tableau37[],_xlpm.r,_xlpm.c),""))} -> 0 | M58: {=_xlfn.LET(_xlpm.m,$A58,_xlpm.ang,VALUE(M$1),_xlpm.th,$B58,_xlpm.v,$E58,_xlpm.r,_xlfn.XMATCH(1,(Tableau37[MaterialNumber2]=_xlpm.m)*(Tableau37[Angle]=_xlpm.ang)*(Tableau37[Thickness]=_xlpm.th),0),_xlpm.c,_xlfn.XMATCH(TEXT(_xlpm.v,"0"),Tableau37[#Headers],0),IFERROR(INDEX(Tableau37[],_xlpm.r,_xlpm.c),""))} -> 0 | N58: {=_xlfn.LET(_xlpm.m,$A58,_xlpm.ang,VALUE(N$1),_xlpm.th,$B58,_xlpm.v,$E58,_xlpm.r,_xlfn.XMATCH(1,(Tableau37[MaterialNumber2]=_xlpm.m)*(Tableau37[Angle]=_xlpm.ang)*(Tableau37[Thickness]=_xlpm.th),0),_xlpm.c,_xlfn.XMATCH(TEXT(_xlpm.v,"0"),Tableau37[#Headers],0),IFERROR(INDEX(Tableau37[],_xlpm.r,_xlpm.c),""))} -> 0 | O58: 0
A59: 0 | B59: 1 | C59: 1 | D59: 6.5 | E59: 40 | F59: 0 | G59: 0 | H59: {=_xlfn.LET(_xlpm.m,$A59,_xlpm.ang,VALUE(H$1),_xlpm.th,$B59,_xlpm.v,$E59,_xlpm.r,_xlfn.XMATCH(1,(Tableau37[MaterialNumber2]=_xlpm.m)*(Tableau37[Angle]=_xlpm.ang)*(Tableau37[Thickness]=_xlpm.th),0),_xlpm.c,_xlfn.XMATCH(TEXT(_xlpm.v,"0"),Tableau37[#Headers],0),IFERROR(INDEX(Tableau37[],_xlpm.r,_xlpm.c),""))} -> 0 | I59: {=_xlfn.LET(_xlpm.m,$A59,_xlpm.ang,VALUE(I$1),_xlpm.th,$B59,_xlpm.v,$E59,_xlpm.r,_xlfn.XMATCH(1,(Tableau37[MaterialNumber2]=_xlpm.m)*(Tableau37[Angle]=_xlpm.ang)*(Tableau37[Thickness]=_xlpm.th),0),_xlpm.c,_xlfn.XMATCH(TEXT(_xlpm.v,"0"),Tableau37[#Headers],0),IFERROR(INDEX(Tableau37[],_xlpm.r,_xlpm.c),""))} -> 0 | J59: {=_xlfn.LET(_xlpm.m,$A59,_xlpm.ang,VALUE(J$1),_xlpm.th,$B59,_xlpm.v,$E59,_xlpm.r,_xlfn.XMATCH(1,(Tableau37[MaterialNumber2]=_xlpm.m)*(Tableau37[Angle]=_xlpm.ang)*(Tableau37[Thickness]=_xlpm.th),0),_xlpm.c,_xlfn.XMATCH(TEXT(_xlpm.v,"0"),Tableau37[#Headers],0),IFERROR(INDEX(Tableau37[],_xlpm.r,_xlpm.c),""))} -> 0 | K59: {=_xlfn.LET(_xlpm.m,$A59,_xlpm.ang,VALUE(K$1),_xlpm.th,$B59,_xlpm.v,$E59,_xlpm.r,_xlfn.XMATCH(1,(Tableau37[MaterialNumber2]=_xlpm.m)*(Tableau37[Angle]=_xlpm.ang)*(Tableau37[Thickness]=_xlpm.th),0),_xlpm.c,_xlfn.XMATCH(TEXT(_xlpm.v,"0"),Tableau37[#Headers],0),IFERROR(INDEX(Tableau37[],_xlpm.r,_xlpm.c),""))} -> 0 | L59: {=_xlfn.LET(_xlpm.m,$A59,_xlpm.ang,VALUE(L$1),_xlpm.th,$B59,_xlpm.v,$E59,_xlpm.r,_xlfn.XMATCH(1,(Tableau37[MaterialNumber2]=_xlpm.m)*(Tableau37[Angle]=_xlpm.ang)*(Tableau37[Thickness]=_xlpm.th),0),_xlpm.c,_xlfn.XMATCH(TEXT(_xlpm.v,"0"),Tableau37[#Headers],0),IFERROR(INDEX(Tableau37[],_xlpm.r,_xlpm.c),""))} -> 0 | M59: {=_xlfn.LET(_xlpm.m,$A59,_xlpm.ang,VALUE(M$1),_xlpm.th,$B59,_xlpm.v,$E59,_xlpm.r,_xlfn.XMATCH(1,(Tableau37[MaterialNumber2]=_xlpm.m)*(Tableau37[Angle]=_xlpm.ang)*(Tableau37[Thickness]=_xlpm.th),0),_xlpm.c,_xlfn.XMATCH(TEXT(_xlpm.v,"0"),Tableau37[#Headers],0),IFERROR(INDEX(Tableau37[],_xlpm.r,_xlpm.c),""))} -> 0 | N59: {=_xlfn.LET(_xlpm.m,$A59,_xlpm.ang,VALUE(N$1),_xlpm.th,$B59,_xlpm.v,$E59,_xlpm.r,_xlfn.XMATCH(1,(Tableau37[MaterialNumber2]=_xlpm.m)*(Tableau37[Angle]=_xlpm.ang)*(Tableau37[Thickness]=_xlpm.th),0),_xlpm.c,_xlfn.XMATCH(TEXT(_xlpm.v,"0"),Tableau37[#Headers],0),IFERROR(INDEX(Tableau37[],_xlpm.r,_xlpm.c),""))} -> 0 | O59: 0
A60: 0 | B60: 1 | C60: 1 | D60: 8 | E60: 50 | F60: 0 | G60: 0 | H60: {=_xlfn.LET(_xlpm.m,$A60,_xlpm.ang,VALUE(H$1),_xlpm.th,$B60,_xlpm.v,$E60,_xlpm.r,_xlfn.XMATCH(1,(Tableau37[MaterialNumber2]=_xlpm.m)*(Tableau37[Angle]=_xlpm.ang)*(Tableau37[Thickness]=_xlpm.th),0),_xlpm.c,_xlfn.XMATCH(TEXT(_xlpm.v,"0"),Tableau37[#Headers],0),IFERROR(INDEX(Tableau37[],_xlpm.r,_xlpm.c),""))} -> 0 | I60: {=_xlfn.LET(_xlpm.m,$A60,_xlpm.ang,VALUE(I$1),_xlpm.th,$B60,_xlpm.v,$E60,_xlpm.r,_xlfn.XMATCH(1,(Tableau37[MaterialNumber2]=_xlpm.m)*(Tableau37[Angle]=_xlpm.ang)*(Tableau37[Thickness]=_xlpm.th),0),_xlpm.c,_xlfn.XMATCH(TEXT(_xlpm.v,"0"),Tableau37[#Headers],0),IFERROR(INDEX(Tableau37[],_xlpm.r,_xlpm.c),""))} -> 0 | J60: {=_xlfn.LET(_xlpm.m,$A60,_xlpm.ang,VALUE(J$1),_xlpm.th,$B60,_xlpm.v,$E60,_xlpm.r,_xlfn.XMATCH(1,(Tableau37[MaterialNumber2]=_xlpm.m)*(Tableau37[Angle]=_xlpm.ang)*(Tableau37[Thickness]=_xlpm.th),0),_xlpm.c,_xlfn.XMATCH(TEXT(_xlpm.v,"0"),Tableau37[#Headers],0),IFERROR(INDEX(Tableau37[],_xlpm.r,_xlpm.c),""))} -> 0 | K60: {=_xlfn.LET(_xlpm.m,$A60,_xlpm.ang,VALUE(K$1),_xlpm.th,$B60,_xlpm.v,$E60,_xlpm.r,_xlfn.XMATCH(1,(Tableau37[MaterialNumber2]=_xlpm.m)*(Tableau37[Angle]=_xlpm.ang)*(Tableau37[Thickness]=_xlpm.th),0),_xlpm.c,_xlfn.XMATCH(TEXT(_xlpm.v,"0"),Tableau37[#Headers],0),IFERROR(INDEX(Tableau37[],_xlpm.r,_xlpm.c),""))} -> 0 | L60: {=_xlfn.LET(_xlpm.m,$A60,_xlpm.ang,VALUE(L$1),_xlpm.th,$B60,_xlpm.v,$E60,_xlpm.r,_xlfn.XMATCH(1,(Tableau37[MaterialNumber2]=_xlpm.m)*(Tableau37[Angle]=_xlpm.ang)*(Tableau37[Thickness]=_xlpm.th),0),_xlpm.c,_xlfn.XMATCH(TEXT(_xlpm.v,"0"),Tableau37[#Headers],0),IFERROR(INDEX(Tableau37[],_xlpm.r,_xlpm.c),""))} -> 0 | M60: {=_xlfn.LET(_xlpm.m,$A60,_xlpm.ang,VALUE(M$1),_xlpm.th,$B60,_xlpm.v,$E60,_xlpm.r,_xlfn.XMATCH(1,(Tableau37[MaterialNumber2]=_xlpm.m)*(Tableau37[Angle]=_xlpm.ang)*(Tableau37[Thickness]=_xlpm.th),0),_xlpm.c,_xlfn.XMATCH(TEXT(_xlpm.v,"0"),Tableau37[#Headers],0),IFERROR(INDEX(Tableau37[],_xlpm.r,_xlpm.c),""))} -> 0 | N60: {=_xlfn.LET(_xlpm.m,$A60,_xlpm.ang,VALUE(N$1),_xlpm.th,$B60,_xlpm.v,$E60,_xlpm.r,_xlfn.XMATCH(1,(Tableau37[MaterialNumber2]=_xlpm.m)*(Tableau37[Angle]=_xlpm.ang)*(Tableau37[Thickness]=_xlpm.th),0),_xlpm.c,_xlfn.XMATCH(TEXT(_xlpm.v,"0"),Tableau37[#Headers],0),IFERROR(INDEX(Tableau37[],_xlpm.r,_xlpm.c),""))} -> 0 | O60: 0
A61: 0 | B61: 1 | C61: 1 | D61: 10 | E61: 63 | F61: 0 | G61: 0 | H61: {=_xlfn.LET(_xlpm.m,$A61,_xlpm.ang,VALUE(H$1),_xlpm.th,$B61,_xlpm.v,$E61,_xlpm.r,_xlfn.XMATCH(1,(Tableau37[MaterialNumber2]=_xlpm.m)*(Tableau37[Angle]=_xlpm.ang)*(Tableau37[Thickness]=_xlpm.th),0),_xlpm.c,_xlfn.XMATCH(TEXT(_xlpm.v,"0"),Tableau37[#Headers],0),IFERROR(INDEX(Tableau37[],_xlpm.r,_xlpm.c),""))} -> 0 | I61: {=_xlfn.LET(_xlpm.m,$A61,_xlpm.ang,VALUE(I$1),_xlpm.th,$B61,_xlpm.v,$E61,_xlpm.r,_xlfn.XMATCH(1,(Tableau37[MaterialNumber2]=_xlpm.m)*(Tableau37[Angle]=_xlpm.ang)*(Tableau37[Thickness]=_xlpm.th),0),_xlpm.c,_xlfn.XMATCH(TEXT(_xlpm.v,"0"),Tableau37[#Headers],0),IFERROR(INDEX(Tableau37[],_xlpm.r,_xlpm.c),""))} -> 0 | J61: {=_xlfn.LET(_xlpm.m,$A61,_xlpm.ang,VALUE(J$1),_xlpm.th,$B61,_xlpm.v,$E61,_xlpm.r,_xlfn.XMATCH(1,(Tableau37[MaterialNumber2]=_xlpm.m)*(Tableau37[Angle]=_xlpm.ang)*(Tableau37[Thickness]=_xlpm.th),0),_xlpm.c,_xlfn.XMATCH(TEXT(_xlpm.v,"0"),Tableau37[#Headers],0),IFERROR(INDEX(Tableau37[],_xlpm.r,_xlpm.c),""))} -> 0 | K61: {=_xlfn.LET(_xlpm.m,$A61,_xlpm.ang,VALUE(K$1),_xlpm.th,$B61,_xlpm.v,$E61,_xlpm.r,_xlfn.XMATCH(1,(Tableau37[MaterialNumber2]=_xlpm.m)*(Tableau37[Angle]=_xlpm.ang)*(Tableau37[Thickness]=_xlpm.th),0),_xlpm.c,_xlfn.XMATCH(TEXT(_xlpm.v,"0"),Tableau37[#Headers],0),IFERROR(INDEX(Tableau37[],_xlpm.r,_xlpm.c),""))} -> 0 | L61: {=_xlfn.LET(_xlpm.m,$A61,_xlpm.ang,VALUE(L$1),_xlpm.th,$B61,_xlpm.v,$E61,_xlpm.r,_xlfn.XMATCH(1,(Tableau37[MaterialNumber2]=_xlpm.m)*(Tableau37[Angle]=_xlpm.ang)*(Tableau37[Thickness]=_xlpm.th),0),_xlpm.c,_xlfn.XMATCH(TEXT(_xlpm.v,"0"),Tableau37[#Headers],0),IFERROR(INDEX(Tableau37[],_xlpm.r,_xlpm.c),""))} -> 0 | M61: {=_xlfn.LET(_xlpm.m,$A61,_xlpm.ang,VALUE(M$1),_xlpm.th,$B61,_xlpm.v,$E61,_xlpm.r,_xlfn.XMATCH(1,(Tableau37[MaterialNumber2]=_xlpm.m)*(Tableau37[Angle]=_xlpm.ang)*(Tableau37[Thickness]=_xlpm.th),0),_xlpm.c,_xlfn.XMATCH(TEXT(_xlpm.v,"0"),Tableau37[#Headers],0),IFERROR(INDEX(Tableau37[],_xlpm.r,_xlpm.c),""))} -> 0 | N61: {=_xlfn.LET(_xlpm.m,$A61,_xlpm.ang,VALUE(N$1),_xlpm.th,$B61,_xlpm.v,$E61,_xlpm.r,_xlfn.XMATCH(1,(Tableau37[MaterialNumber2]=_xlpm.m)*(Tableau37[Angle]=_xlpm.ang)*(Tableau37[Thickness]=_xlpm.th),0),_xlpm.c,_xlfn.XMATCH(TEXT(_xlpm.v,"0"),Tableau37[#Headers],0),IFERROR(INDEX(Tableau37[],_xlpm.r,_xlpm.c),""))} -> 0 | O61: 0
A62: 0 | B62: 1 | C62: 1 | D62: 13 | E62: 80 | F62: 0 | G62: 0 | H62: {=_xlfn.LET(_xlpm.m,$A62,_xlpm.ang,VALUE(H$1),_xlpm.th,$B62,_xlpm.v,$E62,_xlpm.r,_xlfn.XMATCH(1,(Tableau37[MaterialNumber2]=_xlpm.m)*(Tableau37[Angle]=_xlpm.ang)*(Tableau37[Thickness]=_xlpm.th),0),_xlpm.c,_xlfn.XMATCH(TEXT(_xlpm.v,"0"),Tableau37[#Headers],0),IFERROR(INDEX(Tableau37[],_xlpm.r,_xlpm.c),""))} -> 0 | I62: {=_xlfn.LET(_xlpm.m,$A62,_xlpm.ang,VALUE(I$1),_xlpm.th,$B62,_xlpm.v,$E62,_xlpm.r,_xlfn.XMATCH(1,(Tableau37[MaterialNumber2]=_xlpm.m)*(Tableau37[Angle]=_xlpm.ang)*(Tableau37[Thickness]=_xlpm.th),0),_xlpm.c,_xlfn.XMATCH(TEXT(_xlpm.v,"0"),Tableau37[#Headers],0),IFERROR(INDEX(Tableau37[],_xlpm.r,_xlpm.c),""))} -> 0 | J62: {=_xlfn.LET(_xlpm.m,$A62,_xlpm.ang,VALUE(J$1),_xlpm.th,$B62,_xlpm.v,$E62,_xlpm.r,_xlfn.XMATCH(1,(Tableau37[MaterialNumber2]=_xlpm.m)*(Tableau37[Angle]=_xlpm.ang)*(Tableau37[Thickness]=_xlpm.th),0),_xlpm.c,_xlfn.XMATCH(TEXT(_xlpm.v,"0"),Tableau37[#Headers],0),IFERROR(INDEX(Tableau37[],_xlpm.r,_xlpm.c),""))} -> 0 | K62: {=_xlfn.LET(_xlpm.m,$A62,_xlpm.ang,VALUE(K$1),_xlpm.th,$B62,_xlpm.v,$E62,_xlpm.r,_xlfn.XMATCH(1,(Tableau37[MaterialNumber2]=_xlpm.m)*(Tableau37[Angle]=_xlpm.ang)*(Tableau37[Thickness]=_xlpm.th),0),_xlpm.c,_xlfn.XMATCH(TEXT(_xlpm.v,"0"),Tableau37[#Headers],0),IFERROR(INDEX(Tableau37[],_xlpm.r,_xlpm.c),""))} -> 0 | L62: {=_xlfn.LET(_xlpm.m,$A62,_xlpm.ang,VALUE(L$1),_xlpm.th,$B62,_xlpm.v,$E62,_xlpm.r,_xlfn.XMATCH(1,(Tableau37[MaterialNumber2]=_xlpm.m)*(Tableau37[Angle]=_xlpm.ang)*(Tableau37[Thickness]=_xlpm.th),0),_xlpm.c,_xlfn.XMATCH(TEXT(_xlpm.v,"0"),Tableau37[#Headers],0),IFERROR(INDEX(Tableau37[],_xlpm.r,_xlpm.c),""))} -> 0 | M62: {=_xlfn.LET(_xlpm.m,$A62,_xlpm.ang,VALUE(M$1),_xlpm.th,$B62,_xlpm.v,$E62,_xlpm.r,_xlfn.XMATCH(1,(Tableau37[MaterialNumber2]=_xlpm.m)*(Tableau37[Angle]=_xlpm.ang)*(Tableau37[Thickness]=_xlpm.th),0),_xlpm.c,_xlfn.XMATCH(TEXT(_xlpm.v,"0"),Tableau37[#Headers],0),IFERROR(INDEX(Tableau37[],_xlpm.r,_xlpm.c),""))} -> 0 | N62: {=_xlfn.LET(_xlpm.m,$A62,_xlpm.ang,VALUE(N$1),_xlpm.th,$B62,_xlpm.v,$E62,_xlpm.r,_xlfn.XMATCH(1,(Tableau37[MaterialNumber2]=_xlpm.m)*(Tableau37[Angle]=_xlpm.ang)*(Tableau37[Thickness]=_xlpm.th),0),_xlpm.c,_xlfn.XMATCH(TEXT(_xlpm.v,"0"),Tableau37[#Headers],0),IFERROR(INDEX(Tableau37[],_xlpm.r,_xlpm.c),""))} -> 0 | O62: 0
A63: 0 | B63: 1 | C63: 1 | D63: 16 | E63: 100 | F63: 0 | G63: 0 | H63: {=_xlfn.LET(_xlpm.m,$A63,_xlpm.ang,VALUE(H$1),_xlpm.th,$B63,_xlpm.v,$E63,_xlpm.r,_xlfn.XMATCH(1,(Tableau37[MaterialNumber2]=_xlpm.m)*(Tableau37[Angle]=_xlpm.ang)*(Tableau37[Thickness]=_xlpm.th),0),_xlpm.c,_xlfn.XMATCH(TEXT(_xlpm.v,"0"),Tableau37[#Headers],0),IFERROR(INDEX(Tableau37[],_xlpm.r,_xlpm.c),""))} -> 0 | I63: {=_xlfn.LET(_xlpm.m,$A63,_xlpm.ang,VALUE(I$1),_xlpm.th,$B63,_xlpm.v,$E63,_xlpm.r,_xlfn.XMATCH(1,(Tableau37[MaterialNumber2]=_xlpm.m)*(Tableau37[Angle]=_xlpm.ang)*(Tableau37[Thickness]=_xlpm.th),0),_xlpm.c,_xlfn.XMATCH(TEXT(_xlpm.v,"0"),Tableau37[#Headers],0),IFERROR(INDEX(Tableau37[],_xlpm.r,_xlpm.c),""))} -> 0 | J63: {=_xlfn.LET(_xlpm.m,$A63,_xlpm.ang,VALUE(J$1),_xlpm.th,$B63,_xlpm.v,$E63,_xlpm.r,_xlfn.XMATCH(1,(Tableau37[MaterialNumber2]=_xlpm.m)*(Tableau37[Angle]=_xlpm.ang)*(Tableau37[Thickness]=_xlpm.th),0),_xlpm.c,_xlfn.XMATCH(TEXT(_xlpm.v,"0"),Tableau37[#Headers],0),IFERROR(INDEX(Tableau37[],_xlpm.r,_xlpm.c),""))} -> 0 | K63: {=_xlfn.LET(_xlpm.m,$A63,_xlpm.ang,VALUE(K$1),_xlpm.th,$B63,_xlpm.v,$E63,_xlpm.r,_xlfn.XMATCH(1,(Tableau37[MaterialNumber2]=_xlpm.m)*(Tableau37[Angle]=_xlpm.ang)*(Tableau37[Thickness]=_xlpm.th),0),_xlpm.c,_xlfn.XMATCH(TEXT(_xlpm.v,"0"),Tableau37[#Headers],0),IFERROR(INDEX(Tableau37[],_xlpm.r,_xlpm.c),""))} -> 0 | L63: {=_xlfn.LET(_xlpm.m,$A63,_xlpm.ang,VALUE(L$1),_xlpm.th,$B63,_xlpm.v,$E63,_xlpm.r,_xlfn.XMATCH(1,(Tableau37[MaterialNumber2]=_xlpm.m)*(Tableau37[Angle]=_xlpm.ang)*(Tableau37[Thickness]=_xlpm.th),0),_xlpm.c,_xlfn.XMATCH(TEXT(_xlpm.v,"0"),Tableau37[#Headers],0),IFERROR(INDEX(Tableau37[],_xlpm.r,_xlpm.c),""))} -> 0 | M63: {=_xlfn.LET(_xlpm.m,$A63,_xlpm.ang,VALUE(M$1),_xlpm.th,$B63,_xlpm.v,$E63,_xlpm.r,_xlfn.XMATCH(1,(Tableau37[MaterialNumber2]=_xlpm.m)*(Tableau37[Angle]=_xlpm.ang)*(Tableau37[Thickness]=_xlpm.th),0),_xlpm.c,_xlfn.XMATCH(TEXT(_xlpm.v,"0"),Tableau37[#Headers],0),IFERROR(INDEX(Tableau37[],_xlpm.r,_xlpm.c),""))} -> 0 | N63: {=_xlfn.LET(_xlpm.m,$A63,_xlpm.ang,VALUE(N$1),_xlpm.th,$B63,_xlpm.v,$E63,_xlpm.r,_xlfn.XMATCH(1,(Tableau37[MaterialNumber2]=_xlpm.m)*(Tableau37[Angle]=_xlpm.ang)*(Tableau37[Thickness]=_xlpm.th),0),_xlpm.c,_xlfn.XMATCH(TEXT(_xlpm.v,"0"),Tableau37[#Headers],0),IFERROR(INDEX(Tableau37[],_xlpm.r,_xlpm.c),""))} -> 0 | O63: 0
A64: 0 | B64: 1 | C64: 1 | D64: 20 | E64: 125 | F64: 0 | G64: 0 | H64: {=_xlfn.LET(_xlpm.m,$A64,_xlpm.ang,VALUE(H$1),_xlpm.th,$B64,_xlpm.v,$E64,_xlpm.r,_xlfn.XMATCH(1,(Tableau37[MaterialNumber2]=_xlpm.m)*(Tableau37[Angle]=_xlpm.ang)*(Tableau37[Thickness]=_xlpm.th),0),_xlpm.c,_xlfn.XMATCH(TEXT(_xlpm.v,"0"),Tableau37[#Headers],0),IFERROR(INDEX(Tableau37[],_xlpm.r,_xlpm.c),""))} -> 0 | I64: {=_xlfn.LET(_xlpm.m,$A64,_xlpm.ang,VALUE(I$1),_xlpm.th,$B64,_xlpm.v,$E64,_xlpm.r,_xlfn.XMATCH(1,(Tableau37[MaterialNumber2]=_xlpm.m)*(Tableau37[Angle]=_xlpm.ang)*(Tableau37[Thickness]=_xlpm.th),0),_xlpm.c,_xlfn.XMATCH(TEXT(_xlpm.v,"0"),Tableau37[#Headers],0),IFERROR(INDEX(Tableau37[],_xlpm.r,_xlpm.c),""))} -> 0 | J64: {=_xlfn.LET(_xlpm.m,$A64,_xlpm.ang,VALUE(J$1),_xlpm.th,$B64,_xlpm.v,$E64,_xlpm.r,_xlfn.XMATCH(1,(Tableau37[MaterialNumber2]=_xlpm.m)*(Tableau37[Angle]=_xlpm.ang)*(Tableau37[Thickness]=_xlpm.th),0),_xlpm.c,_xlfn.XMATCH(TEXT(_xlpm.v,"0"),Tableau37[#Headers],0),IFERROR(INDEX(Tableau37[],_xlpm.r,_xlpm.c),""))} -> 0 | K64: {=_xlfn.LET(_xlpm.m,$A64,_xlpm.ang,VALUE(K$1),_xlpm.th,$B64,_xlpm.v,$E64,_xlpm.r,_xlfn.XMATCH(1,(Tableau37[MaterialNumber2]=_xlpm.m)*(Tableau37[Angle]=_xlpm.ang)*(Tableau37[Thickness]=_xlpm.th),0),_xlpm.c,_xlfn.XMATCH(TEXT(_xlpm.v,"0"),Tableau37[#Headers],0),IFERROR(INDEX(Tableau37[],_xlpm.r,_xlpm.c),""))} -> 0 | L64: {=_xlfn.LET(_xlpm.m,$A64,_xlpm.ang,VALUE(L$1),_xlpm.th,$B64,_xlpm.v,$E64,_xlpm.r,_xlfn.XMATCH(1,(Tableau37[MaterialNumber2]=_xlpm.m)*(Tableau37[Angle]=_xlpm.ang)*(Tableau37[Thickness]=_xlpm.th),0),_xlpm.c,_xlfn.XMATCH(TEXT(_xlpm.v,"0"),Tableau37[#Headers],0),IFERROR(INDEX(Tableau37[],_xlpm.r,_xlpm.c),""))} -> 0 | M64: {=_xlfn.LET(_xlpm.m,$A64,_xlpm.ang,VALUE(M$1),_xlpm.th,$B64,_xlpm.v,$E64,_xlpm.r,_xlfn.XMATCH(1,(Tableau37[MaterialNumber2]=_xlpm.m)*(Tableau37[Angle]=_xlpm.ang)*(Tableau37[Thickness]=_xlpm.th),0),_xlpm.c,_xlfn.XMATCH(TEXT(_xlpm.v,"0"),Tableau37[#Headers],0),IFERROR(INDEX(Tableau37[],_xlpm.r,_xlpm.c),""))} -> 0 | N64: {=_xlfn.LET(_xlpm.m,$A64,_xlpm.ang,VALUE(N$1),_xlpm.th,$B64,_xlpm.v,$E64,_xlpm.r,_xlfn.XMATCH(1,(Tableau37[MaterialNumber2]=_xlpm.m)*(Tableau37[Angle]=_xlpm.ang)*(Tableau37[Thickness]=_xlpm.th),0),_xlpm.c,_xlfn.XMATCH(TEXT(_xlpm.v,"0"),Tableau37[#Headers],0),IFERROR(INDEX(Tableau37[],_xlpm.r,_xlpm.c),""))} -> 0 | O64: 0
A65: 0 | B65: 1.2 | C65: 1 | D65: 0.7 | E65: 4 | F65: 0 | G65: 0 | H65: {=_xlfn.LET(_xlpm.m,$A65,_xlpm.ang,VALUE(H$1),_xlpm.th,$B65,_xlpm.v,$E65,_xlpm.r,_xlfn.XMATCH(1,(Tableau37[MaterialNumber2]=_xlpm.m)*(Tableau37[Angle]=_xlpm.ang)*(Tableau37[Thickness]=_xlpm.th),0),_xlpm.c,_xlfn.XMATCH(TEXT(_xlpm.v,"0"),Tableau37[#Headers],0),IFERROR(INDEX(Tableau37[],_xlpm.r,_xlpm.c),""))} -> 0 | I65: {=_xlfn.LET(_xlpm.m,$A65,_xlpm.ang,VALUE(I$1),_xlpm.th,$B65,_xlpm.v,$E65,_xlpm.r,_xlfn.XMATCH(1,(Tableau37[MaterialNumber2]=_xlpm.m)*(Tableau37[Angle]=_xlpm.ang)*(Tableau37[Thickness]=_xlpm.th),0),_xlpm.c,_xlfn.XMATCH(TEXT(_xlpm.v,"0"),Tableau37[#Headers],0),IFERROR(INDEX(Tableau37[],_xlpm.r,_xlpm.c),""))} -> 0 | J65: {=_xlfn.LET(_xlpm.m,$A65,_xlpm.ang,VALUE(J$1),_xlpm.th,$B65,_xlpm.v,$E65,_xlpm.r,_xlfn.XMATCH(1,(Tableau37[MaterialNumber2]=_xlpm.m)*(Tableau37[Angle]=_xlpm.ang)*(Tableau37[Thickness]=_xlpm.th),0),_xlpm.c,_xlfn.XMATCH(TEXT(_xlpm.v,"0"),Tableau37[#Headers],0),IFERROR(INDEX(Tableau37[],_xlpm.r,_xlpm.c),""))} -> 0 | K65: {=_xlfn.LET(_xlpm.m,$A65,_xlpm.ang,VALUE(K$1),_xlpm.th,$B65,_xlpm.v,$E65,_xlpm.r,_xlfn.XMATCH(1,(Tableau37[MaterialNumber2]=_xlpm.m)*(Tableau37[Angle]=_xlpm.ang)*(Tableau37[Thickness]=_xlpm.th),0),_xlpm.c,_xlfn.XMATCH(TEXT(_xlpm.v,"0"),Tableau37[#Headers],0),IFERROR(INDEX(Tableau37[],_xlpm.r,_xlpm.c),""))} -> 0 | L65: {=_xlfn.LET(_xlpm.m,$A65,_xlpm.ang,VALUE(L$1),_xlpm.th,$B65,_xlpm.v,$E65,_xlpm.r,_xlfn.XMATCH(1,(Tableau37[MaterialNumber2]=_xlpm.m)*(Tableau37[Angle]=_xlpm.ang)*(Tableau37[Thickness]=_xlpm.th),0),_xlpm.c,_xlfn.XMATCH(TEXT(_xlpm.v,"0"),Tableau37[#Headers],0),IFERROR(INDEX(Tableau37[],_xlpm.r,_xlpm.c),""))} -> 0 | M65: {=_xlfn.LET(_xlpm.m,$A65,_xlpm.ang,VALUE(M$1),_xlpm.th,$B65,_xlpm.v,$E65,_xlpm.r,_xlfn.XMATCH(1,(Tableau37[MaterialNumber2]=_xlpm.m)*(Tableau37[Angle]=_xlpm.ang)*(Tableau37[Thickness]=_xlpm.th),0),_xlpm.c,_xlfn.XMATCH(TEXT(_xlpm.v,"0"),Tableau37[#Headers],0),IFERROR(INDEX(Tableau37[],_xlpm.r,_xlpm.c),""))} -> 0 | N65: {=_xlfn.LET(_xlpm.m,$A65,_xlpm.ang,VALUE(N$1),_xlpm.th,$B65,_xlpm.v,$E65,_xlpm.r,_xlfn.XMATCH(1,(Tableau37[MaterialNumber2]=_xlpm.m)*(Tableau37[Angle]=_xlpm.ang)*(Tableau37[Thickness]=_xlpm.th),0),_xlpm.c,_xlfn.XMATCH(TEXT(_xlpm.v,"0"),Tableau37[#Headers],0),IFERROR(INDEX(Tableau37[],_xlpm.r,_xlpm.c),""))} -> 0 | O65: 0
A66: 0 | B66: 1.2 | C66: 1 | D66: 1 | E66: 6 | F66: 0 | G66: 0 | H66: {=_xlfn.LET(_xlpm.m,$A66,_xlpm.ang,VALUE(H$1),_xlpm.th,$B66,_xlpm.v,$E66,_xlpm.r,_xlfn.XMATCH(1,(Tableau37[MaterialNumber2]=_xlpm.m)*(Tableau37[Angle]=_xlpm.ang)*(Tableau37[Thickness]=_xlpm.th),0),_xlpm.c,_xlfn.XMATCH(TEXT(_xlpm.v,"0"),Tableau37[#Headers],0),IFERROR(INDEX(Tableau37[],_xlpm.r,_xlpm.c),""))} -> 0.352 | I66: {=_xlfn.LET(_xlpm.m,$A66,_xlpm.ang,VALUE(I$1),_xlpm.th,$B66,_xlpm.v,$E66,_xlpm.r,_xlfn.XMATCH(1,(Tableau37[MaterialNumber2]=_xlpm.m)*(Tableau37[Angle]=_xlpm.ang)*(Tableau37[Thickness]=_xlpm.th),0),_xlpm.c,_xlfn.XMATCH(TEXT(_xlpm.v,"0"),Tableau37[#Headers],0),IFERROR(INDEX(Tableau37[],_xlpm.r,_xlpm.c),""))} -> 0.748 | J66: {=_xlfn.LET(_xlpm.m,$A66,_xlpm.ang,VALUE(J$1),_xlpm.th,$B66,_xlpm.v,$E66,_xlpm.r,_xlfn.XMATCH(1,(Tableau37[MaterialNumber2]=_xlpm.m)*(Tableau37[Angle]=_xlpm.ang)*(Tableau37[Thickness]=_xlpm.th),0),_xlpm.c,_xlfn.XMATCH(TEXT(_xlpm.v,"0"),Tableau37[#Headers],0),IFERROR(INDEX(Tableau37[],_xlpm.r,_xlpm.c),""))} -> 1.166 | K66: {=_xlfn.LET(_xlpm.m,$A66,_xlpm.ang,VALUE(K$1),_xlpm.th,$B66,_xlpm.v,$E66,_xlpm.r,_xlfn.XMATCH(1,(Tableau37[MaterialNumber2]=_xlpm.m)*(Tableau37[Angle]=_xlpm.ang)*(Tableau37[Thickness]=_xlpm.th),0),_xlpm.c,_xlfn.XMATCH(TEXT(_xlpm.v,"0"),Tableau37[#Headers],0),IFERROR(INDEX(Tableau37[],_xlpm.r,_xlpm.c),""))} -> 2 | L66: {=_xlfn.LET(_xlpm.m,$A66,_xlpm.ang,VALUE(L$1),_xlpm.th,$B66,_xlpm.v,$E66,_xlpm.r,_xlfn.XMATCH(1,(Tableau37[MaterialNumber2]=_xlpm.m)*(Tableau37[Angle]=_xlpm.ang)*(Tableau37[Thickness]=_xlpm.th),0),_xlpm.c,_xlfn.XMATCH(TEXT(_xlpm.v,"0"),Tableau37[#Headers],0),IFERROR(INDEX(Tableau37[],_xlpm.r,_xlpm.c),""))} -> 0.584 | M66: {=_xlfn.LET(_xlpm.m,$A66,_xlpm.ang,VALUE(M$1),_xlpm.th,$B66,_xlpm.v,$E66,_xlpm.r,_xlfn.XMATCH(1,(Tableau37[MaterialNumber2]=_xlpm.m)*(Tableau37[Angle]=_xlpm.ang)*(Tableau37[Thickness]=_xlpm.th),0),_xlpm.c,_xlfn.XMATCH(TEXT(_xlpm.v,"0"),Tableau37[#Headers],0),IFERROR(INDEX(Tableau37[],_xlpm.r,_xlpm.c),""))} -> 0.636 | N66: {=_xlfn.LET(_xlpm.m,$A66,_xlpm.ang,VALUE(N$1),_xlpm.th,$B66,_xlpm.v,$E66,_xlpm.r,_xlfn.XMATCH(1,(Tableau37[MaterialNumber2]=_xlpm.m)*(Tableau37[Angle]=_xlpm.ang)*(Tableau37[Thickness]=_xlpm.th),0),_xlpm.c,_xlfn.XMATCH(TEXT(_xlpm.v,"0"),Tableau37[#Headers],0),IFERROR(INDEX(Tableau37[],_xlpm.r,_xlpm.c),""))} -> 0.334 | O66: 0
A67: 0 | B67: 1.2 | C67: 1 | D67: 1.1 | E67: 7 | F67: 0 | G67: 0 | H67: {=_xlfn.LET(_xlpm.m,$A67,_xlpm.ang,VALUE(H$1),_xlpm.th,$B67,_xlpm.v,$E67,_xlpm.r,_xlfn.XMATCH(1,(Tableau37[MaterialNumber2]=_xlpm.m)*(Tableau37[Angle]=_xlpm.ang)*(Tableau37[Thickness]=_xlpm.th),0),_xlpm.c,_xlfn.XMATCH(TEXT(_xlpm.v,"0"),Tableau37[#Headers],0),IFERROR(INDEX(Tableau37[],_xlpm.r,_xlpm.c),""))} -> 0.364 | I67: {=_xlfn.LET(_xlpm.m,$A67,_xlpm.ang,VALUE(I$1),_xlpm.th,$B67,_xlpm.v,$E67,_xlpm.r,_xlfn.XMATCH(1,(Tableau37[MaterialNumber2]=_xlpm.m)*(Tableau37[Angle]=_xlpm.ang)*(Tableau37[Thickness]=_xlpm.th),0),_xlpm.c,_xlfn.XMATCH(TEXT(_xlpm.v,"0"),Tableau37[#Headers],0),IFERROR(INDEX(Tableau37[],_xlpm.r,_xlpm.c),""))} -> 0.776 | J67: {=_xlfn.LET(_xlpm.m,$A67,_xlpm.ang,VALUE(J$1),_xlpm.th,$B67,_xlpm.v,$E67,_xlpm.r,_xlfn.XMATCH(1,(Tableau37[MaterialNumber2]=_xlpm.m)*(Tableau37[Angle]=_xlpm.ang)*(Tableau37[Thickness]=_xlpm.th),0),_xlpm.c,_xlfn.XMATCH(TEXT(_xlpm.v,"0"),Tableau37[#Headers],0),IFERROR(INDEX(Tableau37[],_xlpm.r,_xlpm.c),""))} -> 1.21 | K67: {=_xlfn.LET(_xlpm.m,$A67,_xlpm.ang,VALUE(K$1),_xlpm.th,$B67,_xlpm.v,$E67,_xlpm.r,_xlfn.XMATCH(1,(Tableau37[MaterialNumber2]=_xlpm.m)*(Tableau37[Angle]=_xlpm.ang)*(Tableau37[Thickness]=_xlpm.th),0),_xlpm.c,_xlfn.XMATCH(TEXT(_xlpm.v,"0"),Tableau37[#Headers],0),IFERROR(INDEX(Tableau37[],_xlpm.r,_xlpm.c),""))} -> 2.076 | L67: {=_xlfn.LET(_xlpm.m,$A67,_xlpm.ang,VALUE(L$1),_xlpm.th,$B67,_xlpm.v,$E67,_xlpm.r,_xlfn.XMATCH(1,(Tableau37[MaterialNumber2]=_xlpm.m)*(Tableau37[Angle]=_xlpm.ang)*(Tableau37[Thickness]=_xlpm.th),0),_xlpm.c,_xlfn.XMATCH(TEXT(_xlpm.v,"0"),Tableau37[#Headers],0),IFERROR(INDEX(Tableau37[],_xlpm.r,_xlpm.c),""))} -> 1.02 | M67: {=_xlfn.LET(_xlpm.m,$A67,_xlpm.ang,VALUE(M$1),_xlpm.th,$B67,_xlpm.v,$E67,_xlpm.r,_xlfn.XMATCH(1,(Tableau37[MaterialNumber2]=_xlpm.m)*(Tableau37[Angle]=_xlpm.ang)*(Tableau37[Thickness]=_xlpm.th),0),_xlpm.c,_xlfn.XMATCH(TEXT(_xlpm.v,"0"),Tableau37[#Headers],0),IFERROR(INDEX(Tableau37[],_xlpm.r,_xlpm.c),""))} -> 0.66 | N67: {=_xlfn.LET(_xlpm.m,$A67,_xlpm.ang,VALUE(N$1),_xlpm.th,$B67,_xlpm.v,$E67,_xlpm.r,_xlfn.XMATCH(1,(Tableau37[MaterialNumber2]=_xlpm.m)*(Tableau37[Angle]=_xlpm.ang)*(Tableau37[Thickness]=_xlpm.th),0),_xlpm.c,_xlfn.XMATCH(TEXT(_xlpm.v,"0"),Tableau37[#Headers],0),IFERROR(INDEX(Tableau37[],_xlpm.r,_xlpm.c),""))} -> 0.346 | O67: 0
A68: 0 | B68: 1.2 | C68: 1 | D68: 1.3 | E68: 8 | F68: 0 | G68: 0 | H68: {=_xlfn.LET(_xlpm.m,$A68,_xlpm.ang,VALUE(H$1),_xlpm.th,$B68,_xlpm.v,$E68,_xlpm.r,_xlfn.XMATCH(1,(Tableau37[MaterialNumber2]=_xlpm.m)*(Tableau37[Angle]=_xlpm.ang)*(Tableau37[Thickness]=_xlpm.th),0),_xlpm.c,_xlfn.XMATCH(TEXT(_xlpm.v,"0"),Tableau37[#Headers],0),IFERROR(INDEX(Tableau37[],_xlpm.r,_xlpm.c),""))} -> 0.378 | I68: {=_xlfn.LET(_xlpm.m,$A68,_xlpm.ang,VALUE(I$1),_xlpm.th,$B68,_xlpm.v,$E68,_xlpm.r,_xlfn.XMATCH(1,(Tableau37[MaterialNumber2]=_xlpm.m)*(Tableau37[Angle]=_xlpm.ang)*(Tableau37[Thickness]=_xlpm.th),0),_xlpm.c,_xlfn.XMATCH(TEXT(_xlpm.v,"0"),Tableau37[#Headers],0),IFERROR(INDEX(Tableau37[],_xlpm.r,_xlpm.c),""))} -> 0.804 | J68: {=_xlfn.LET(_xlpm.m,$A68,_xlpm.ang,VALUE(J$1),_xlpm.th,$B68,_xlpm.v,$E68,_xlpm.r,_xlfn.XMATCH(1,(Tableau37[MaterialNumber2]=_xlpm.m)*(Tableau37[Angle]=_xlpm.ang)*(Tableau37[Thickness]=_xlpm.th),0),_xlpm.c,_xlfn.XMATCH(TEXT(_xlpm.v,"0"),Tableau37[#Headers],0),IFERROR(INDEX(Tableau37[],_xlpm.r,_xlpm.c),""))} -> 1.256 | K68: {=_xlfn.LET(_xlpm.m,$A68,_xlpm.ang,VALUE(K$1),_xlpm.th,$B68,_xlpm.v,$E68,_xlpm.r,_xlfn.XMATCH(1,(Tableau37[MaterialNumber2]=_xlpm.m)*(Tableau37[Angle]=_xlpm.ang)*(Tableau37[Thickness]=_xlpm.th),0),_xlpm.c,_xlfn.XMATCH(TEXT(_xlpm.v,"0"),Tableau37[#Headers],0),IFERROR(INDEX(Tableau37[],_xlpm.r,_xlpm.c),""))} -> 2.152 | L68: {=_xlfn.LET(_xlpm.m,$A68,_xlpm.ang,VALUE(L$1),_xlpm.th,$B68,_xlpm.v,$E68,_xlpm.r,_xlfn.XMATCH(1,(Tableau37[MaterialNumber2]=_xlpm.m)*(Tableau37[Angle]=_xlpm.ang)*(Tableau37[Thickness]=_xlpm.th),0),_xlpm.c,_xlfn.XMATCH(TEXT(_xlpm.v,"0"),Tableau37[#Headers],0),IFERROR(INDEX(Tableau37[],_xlpm.r,_xlpm.c),""))} -> 1.058 | M68: {=_xlfn.LET(_xlpm.m,$A68,_xlpm.ang,VALUE(M$1),_xlpm.th,$B68,_xlpm.v,$E68,_xlpm.r,_xlfn.XMATCH(1,(Tableau37[MaterialNumber2]=_xlpm.m)*(Tableau37[Angle]=_xlpm.ang)*(Tableau37[Thickness]=_xlpm.th),0),_xlpm.c,_xlfn.XMATCH(TEXT(_xlpm.v,"0"),Tableau37[#Headers],0),IFERROR(INDEX(Tableau37[],_xlpm.r,_xlpm.c),""))} -> 0.684 | N68: {=_xlfn.LET(_xlpm.m,$A68,_xlpm.ang,VALUE(N$1),_xlpm.th,$B68,_xlpm.v,$E68,_xlpm.r,_xlfn.XMATCH(1,(Tableau37[MaterialNumber2]=_xlpm.m)*(Tableau37[Angle]=_xlpm.ang)*(Tableau37[Thickness]=_xlpm.th),0),_xlpm.c,_xlfn.XMATCH(TEXT(_xlpm.v,"0"),Tableau37[#Headers],0),IFERROR(INDEX(Tableau37[],_xlpm.r,_xlpm.c),""))} -> 0.358 | O68: 0
A69: 0 | B69: 1.2 | C69: 1 | D69: 1.6 | E69: 10 | F69: 0 | G69: 0 | H69: {=_xlfn.LET(_xlpm.m,$A69,_xlpm.ang,VALUE(H$1),_xlpm.th,$B69,_xlpm.v,$E69,_xlpm.r,_xlfn.XMATCH(1,(Tableau37[MaterialNumber2]=_xlpm.m)*(Tableau37[Angle]=_xlpm.ang)*(Tableau37[Thickness]=_xlpm.th),0),_xlpm.c,_xlfn.XMATCH(TEXT(_xlpm.v,"0"),Tableau37[#Headers],0),IFERROR(INDEX(Tableau37[],_xlpm.r,_xlpm.c),""))} -> 0.406 | I69: {=_xlfn.LET(_xlpm.m,$A69,_xlpm.ang,VALUE(I$1),_xlpm.th,$B69,_xlpm.v,$E69,_xlpm.r,_xlfn.XMATCH(1,(Tableau37[MaterialNumber2]=_xlpm.m)*(Tableau37[Angle]=_xlpm.ang)*(Tableau37[Thickness]=_xlpm.th),0),_xlpm.c,_xlfn.XMATCH(TEXT(_xlpm.v,"0"),Tableau37[#Headers],0),IFERROR(INDEX(Tableau37[],_xlpm.r,_xlpm.c),""))} -> 0.862 | J69: {=_xlfn.LET(_xlpm.m,$A69,_xlpm.ang,VALUE(J$1),_xlpm.th,$B69,_xlpm.v,$E69,_xlpm.r,_xlfn.XMATCH(1,(Tableau37[MaterialNumber2]=_xlpm.m)*(Tableau37[Angle]=_xlpm.ang)*(Tableau37[Thickness]=_xlpm.th),0),_xlpm.c,_xlfn.XMATCH(TEXT(_xlpm.v,"0"),Tableau37[#Headers],0),IFERROR(INDEX(Tableau37[],_xlpm.r,_xlpm.c),""))} -> 1.346 | K69: {=_xlfn.LET(_xlpm.m,$A69,_xlpm.ang,VALUE(K$1),_xlpm.th,$B69,_xlpm.v,$E69,_xlpm.r,_xlfn.XMATCH(1,(Tableau37[MaterialNumber2]=_xlpm.m)*(Tableau37[Angle]=_xlpm.ang)*(Tableau37[Thickness]=_xlpm.th),0),_xlpm.c,_xlfn.XMATCH(TEXT(_xlpm.v,"0"),Tableau37[#Headers],0),IFERROR(INDEX(Tableau37[],_xlpm.r,_xlpm.c),""))} -> 2.306 | L69: {=_xlfn.LET(_xlpm.m,$A69,_xlpm.ang,VALUE(L$1),_xlpm.th,$B69,_xlpm.v,$E69,_xlpm.r,_xlfn.XMATCH(1,(Tableau37[MaterialNumber2]=_xlpm.m)*(Tableau37[Angle]=_xlpm.ang)*(Tableau37[Thickness]=_xlpm.th),0),_xlpm.c,_xlfn.XMATCH(TEXT(_xlpm.v,"0"),Tableau37[#Headers],0),IFERROR(INDEX(Tableau37[],_xlpm.r,_xlpm.c),""))} -> 1.134 | M69: {=_xlfn.LET(_xlpm.m,$A69,_xlpm.ang,VALUE(M$1),_xlpm.th,$B69,_xlpm.v,$E69,_xlpm.r,_xlfn.XMATCH(1,(Tableau37[MaterialNumber2]=_xlpm.m)*(Tableau37[Angle]=_xlpm.ang)*(Tableau37[Thickness]=_xlpm.th),0),_xlpm.c,_xlfn.XMATCH(TEXT(_xlpm.v,"0"),Tableau37[#Headers],0),IFERROR(INDEX(Tableau37[],_xlpm.r,_xlpm.c),""))} -> 0.734 | N69: {=_xlfn.LET(_xlpm.m,$A69,_xlpm.ang,VALUE(N$1),_xlpm.th,$B69,_xlpm.v,$E69,_xlpm.r,_xlfn.XMATCH(1,(Tableau37[MaterialNumber2]=_xlpm.m)*(Tableau37[Angle]=_xlpm.ang)*(Tableau37[Thickness]=_xlpm.th),0),_xlpm.c,_xlfn.XMATCH(TEXT(_xlpm.v,"0"),Tableau37[#Headers],0),IFERROR(INDEX(Tableau37[],_xlpm.r,_xlpm.c),""))} -> 0.384 | O69: 0
... A71: 0 | B71: 1.2 | C71: 1 | D71: 2.3 | E71: 14 | F71: 0 | G71: 0 | H71: {=_xlfn.LET(_xlpm.m,$A71,_xlpm.ang,VALUE(H$1),_xlpm.th,$B71,_xlpm.v,$E71,_xlpm.r,_xlfn.XMATCH(1,(Tableau37[MaterialNumber2]=_xlpm.m)*(Tableau37[Angle]=_xlpm.ang)*(Tableau37[Thickness]=_xlpm.th),0),_xlpm.c,_xlfn.XMATCH(TEXT(_xlpm.v,"0"),Tableau37[#Headers],0),IFERROR(INDEX(Tableau37[],_xlpm.r,_xlpm.c),""))} -> 0.458 | I71: {=_xlfn.LET(_xlpm.m,$A71,_xlpm.ang,VALUE(I$1),_xlpm.th,$B71,_xlpm.v,$E71,_xlpm.r,_xlfn.XMATCH(1,(Tableau37[MaterialNumber2]=_xlpm.m)*(Tableau37[Angle]=_xlpm.ang)*(Tableau37[Thickness]=_xlpm.th),0),_xlpm.c,_xlfn.XMATCH(TEXT(_xlpm.v,"0"),Tableau37[#Headers],0),IFERROR(INDEX(Tableau37[],_xlpm.r,_xlpm.c),""))} -> 0.976 | J71: {=_xlfn.LET(_xlpm.m,$A71,_xlpm.ang,VALUE(J$1),_xlpm.th,$B71,_xlpm.v,$E71,_xlpm.r,_xlfn.XMATCH(1,(Tableau37[MaterialNumber2]=_xlpm.m)*(Tableau37[Angle]=_xlpm.ang)*(Tableau37[Thickness]=_xlpm.th),0),_xlpm.c,_xlfn.XMATCH(TEXT(_xlpm.v,"0"),Tableau37[#Headers],0),IFERROR(INDEX(Tableau37[],_xlpm.r,_xlpm.c),""))} -> 1.524 | K71: {=_xlfn.LET(_xlpm.m,$A71,_xlpm.ang,VALUE(K$1),_xlpm.th,$B71,_xlpm.v,$E71,_xlpm.r,_xlfn.XMATCH(1,(Tableau37[MaterialNumber2]=_xlpm.m)*(Tableau37[Angle]=_xlpm.ang)*(Tableau37[Thickness]=_xlpm.th),0),_xlpm.c,_xlfn.XMATCH(TEXT(_xlpm.v,"0"),Tableau37[#Headers],0),IFERROR(INDEX(Tableau37[],_xlpm.r,_xlpm.c),""))} -> 2.612 | L71: {=_xlfn.LET(_xlpm.m,$A71,_xlpm.ang,VALUE(L$1),_xlpm.th,$B71,_xlpm.v,$E71,_xlpm.r,_xlfn.XMATCH(1,(Tableau37[MaterialNumber2]=_xlpm.m)*(Tableau37[Angle]=_xlpm.ang)*(Tableau37[Thickness]=_xlpm.th),0),_xlpm.c,_xlfn.XMATCH(TEXT(_xlpm.v,"0"),Tableau37[#Headers],0),IFERROR(INDEX(Tableau37[],_xlpm.r,_xlpm.c),""))} -> 1.284 | M71: {=_xlfn.LET(_xlpm.m,$A71,_xlpm.ang,VALUE(M$1),_xlpm.th,$B71,_xlpm.v,$E71,_xlpm.r,_xlfn.XMATCH(1,(Tableau37[MaterialNumber2]=_xlpm.m)*(Tableau37[Angle]=_xlpm.ang)*(Tableau37[Thickness]=_xlpm.th),0),_xlpm.c,_xlfn.XMATCH(TEXT(_xlpm.v,"0"),Tableau37[#Headers],0),IFERROR(INDEX(Tableau37[],_xlpm.r,_xlpm.c),""))} -> 0.832 | N71: {=_xlfn.LET(_xlpm.m,$A71,_xlpm.ang,VALUE(N$1),_xlpm.th,$B71,_xlpm.v,$E71,_xlpm.r,_xlfn.XMATCH(1,(Tableau37[MaterialNumber2]=_xlpm.m)*(Tableau37[Angle]=_xlpm.ang)*(Tableau37[Thickness]=_xlpm.th),0),_xlpm.c,_xlfn.XMATCH(TEXT(_xlpm.v,"0"),Tableau37[#Headers],0),IFERROR(INDEX(Tableau37[],_xlpm.r,_xlpm.c),""))} -> 0.436 | O71: 0
A72: 0 | B72: 1.2 | C72: 1 | E72: 15 | F72: 0 | G72: 0 | H72: {=_xlfn.LET(_xlpm.m,$A72,_xlpm.ang,VALUE(H$1),_xlpm.th,$B72,_xlpm.v,$E72,_xlpm.r,_xlfn.XMATCH(1,(Tableau37[MaterialNumber2]=_xlpm.m)*(Tableau37[Angle]=_xlpm.ang)*(Tableau37[Thickness]=_xlpm.th),0),_xlpm.c,_xlfn.XMATCH(TEXT(_xlpm.v,"0"),Tableau37[#Headers],0),IFERROR(INDEX(Tableau37[],_xlpm.r,_xlpm.c),""))} | I72: {=_xlfn.LET(_xlpm.m,$A72,_xlpm.ang,VALUE(I$1),_xlpm.th,$B72,_xlpm.v,$E72,_xlpm.r,_xlfn.XMATCH(1,(Tableau37[MaterialNumber2]=_xlpm.m)*(Tableau37[Angle]=_xlpm.ang)*(Tableau37[Thickness]=_xlpm.th),0),_xlpm.c,_xlfn.XMATCH(TEXT(_xlpm.v,"0"),Tableau37[#Headers],0),IFERROR(INDEX(Tableau37[],_xlpm.r,_xlpm.c),""))} | J72: {=_xlfn.LET(_xlpm.m,$A72,_xlpm.ang,VALUE(J$1),_xlpm.th,$B72,_xlpm.v,$E72,_xlpm.r,_xlfn.XMATCH(1,(Tableau37[MaterialNumber2]=_xlpm.m)*(Tableau37[Angle]=_xlpm.ang)*(Tableau37[Thickness]=_xlpm.th),0),_xlpm.c,_xlfn.XMATCH(TEXT(_xlpm.v,"0"),Tableau37[#Headers],0),IFERROR(INDEX(Tableau37[],_xlpm.r,_xlpm.c),""))} | K72: {=_xlfn.LET(_xlpm.m,$A72,_xlpm.ang,VALUE(K$1),_xlpm.th,$B72,_xlpm.v,$E72,_xlpm.r,_xlfn.XMATCH(1,(Tableau37[MaterialNumber2]=_xlpm.m)*(Tableau37[Angle]=_xlpm.ang)*(Tableau37[Thickness]=_xlpm.th),0),_xlpm.c,_xlfn.XMATCH(TEXT(_xlpm.v,"0"),Tableau37[#Headers],0),IFERROR(INDEX(Tableau37[],_xlpm.r,_xlpm.c),""))} | L72: {=_xlfn.LET(_xlpm.m,$A72,_xlpm.ang,VALUE(L$1),_xlpm.th,$B72,_xlpm.v,$E72,_xlpm.r,_xlfn.XMATCH(1,(Tableau37[MaterialNumber2]=_xlpm.m)*(Tableau37[Angle]=_xlpm.ang)*(Tableau37[Thickness]=_xlpm.th),0),_xlpm.c,_xlfn.XMATCH(TEXT(_xlpm.v,"0"),Tableau37[#Headers],0),IFERROR(INDEX(Tableau37[],_xlpm.r,_xlpm.c),""))} | M72: {=_xlfn.LET(_xlpm.m,$A72,_xlpm.ang,VALUE(M$1),_xlpm.th,$B72,_xlpm.v,$E72,_xlpm.r,_xlfn.XMATCH(1,(Tableau37[MaterialNumber2]=_xlpm.m)*(Tableau37[Angle]=_xlpm.ang)*(Tableau37[Thickness]=_xlpm.th),0),_xlpm.c,_xlfn.XMATCH(TEXT(_xlpm.v,"0"),Tableau37[#Headers],0),IFERROR(INDEX(Tableau37[],_xlpm.r,_xlpm.c),""))} | N72: {=_xlfn.LET(_xlpm.m,$A72,_xlpm.ang,VALUE(N$1),_xlpm.th,$B72,_xlpm.v,$E72,_xlpm.r,_xlfn.XMATCH(1,(Tableau37[MaterialNumber2]=_xlpm.m)*(Tableau37[Angle]=_xlpm.ang)*(Tableau37[Thickness]=_xlpm.th),0),_xlpm.c,_xlfn.XMATCH(TEXT(_xlpm.v,"0"),Tableau37[#Headers],0),IFERROR(INDEX(Tableau37[],_xlpm.r,_xlpm.c),""))} | O72: 0
A73: 0 | B73: 1.2 | C73: 1 | D73: 2.6 | E73: 16 | F73: 0 | G73: 0 | H73: {=_xlfn.LET(_xlpm.m,$A73,_xlpm.ang,VALUE(H$1),_xlpm.th,$B73,_xlpm.v,$E73,_xlpm.r,_xlfn.XMATCH(1,(Tableau37[MaterialNumber2]=_xlpm.m)*(Tableau37[Angle]=_xlpm.ang)*(Tableau37[Thickness]=_xlpm.th),0),_xlpm.c,_xlfn.XMATCH(TEXT(_xlpm.v,"0"),Tableau37[#Headers],0),IFERROR(INDEX(Tableau37[],_xlpm.r,_xlpm.c),""))} -> 0.486 | I73: {=_xlfn.LET(_xlpm.m,$A73,_xlpm.ang,VALUE(I$1),_xlpm.th,$B73,_xlpm.v,$E73,_xlpm.r,_xlfn.XMATCH(1,(Tableau37[MaterialNumber2]=_xlpm.m)*(Tableau37[Angle]=_xlpm.ang)*(Tableau37[Thickness]=_xlpm.th),0),_xlpm.c,_xlfn.XMATCH(TEXT(_xlpm.v,"0"),Tableau37[#Headers],0),IFERROR(INDEX(Tableau37[],_xlpm.r,_xlpm.c),""))} -> 1.034 | J73: {=_xlfn.LET(_xlpm.m,$A73,_xlpm.ang,VALUE(J$1),_xlpm.th,$B73,_xlpm.v,$E73,_xlpm.r,_xlfn.XMATCH(1,(Tableau37[MaterialNumber2]=_xlpm.m)*(Tableau37[Angle]=_xlpm.ang)*(Tableau37[Thickness]=_xlpm.th),0),_xlpm.c,_xlfn.XMATCH(TEXT(_xlpm.v,"0"),Tableau37[#Headers],0),IFERROR(INDEX(Tableau37[],_xlpm.r,_xlpm.c),""))} -> 1.524 | K73: {=_xlfn.LET(_xlpm.m,$A73,_xlpm.ang,VALUE(K$1),_xlpm.th,$B73,_xlpm.v,$E73,_xlpm.r,_xlfn.XMATCH(1,(Tableau37[MaterialNumber2]=_xlpm.m)*(Tableau37[Angle]=_xlpm.ang)*(Tableau37[Thickness]=_xlpm.th),0),_xlpm.c,_xlfn.XMATCH(TEXT(_xlpm.v,"0"),Tableau37[#Headers],0),IFERROR(INDEX(Tableau37[],_xlpm.r,_xlpm.c),""))} -> 2.766 | L73: {=_xlfn.LET(_xlpm.m,$A73,_xlpm.ang,VALUE(L$1),_xlpm.th,$B73,_xlpm.v,$E73,_xlpm.r,_xlfn.XMATCH(1,(Tableau37[MaterialNumber2]=_xlpm.m)*(Tableau37[Angle]=_xlpm.ang)*(Tableau37[Thickness]=_xlpm.th),0),_xlpm.c,_xlfn.XMATCH(TEXT(_xlpm.v,"0"),Tableau37[#Headers],0),IFERROR(INDEX(Tableau37[],_xlpm.r,_xlpm.c),""))} -> 1.36 | M73: {=_xlfn.LET(_xlpm.m,$A73,_xlpm.ang,VALUE(M$1),_xlpm.th,$B73,_xlpm.v,$E73,_xlpm.r,_xlfn.XMATCH(1,(Tableau37[MaterialNumber2]=_xlpm.m)*(Tableau37[Angle]=_xlpm.ang)*(Tableau37[Thickness]=_xlpm.th),0),_xlpm.c,_xlfn.XMATCH(TEXT(_xlpm.v,"0"),Tableau37[#Headers],0),IFERROR(INDEX(Tableau37[],_xlpm.r,_xlpm.c),""))} -> 0.88 | N73: {=_xlfn.LET(_xlpm.m,$A73,_xlpm.ang,VALUE(N$1),_xlpm.th,$B73,_xlpm.v,$E73,_xlpm.r,_xlfn.XMATCH(1,(Tableau37[MaterialNumber2]=_xlpm.m)*(Tableau37[Angle]=_xlpm.ang)*(Tableau37[Thickness]=_xlpm.th),0),_xlpm.c,_xlfn.XMATCH(TEXT(_xlpm.v,"0"),Tableau37[#Headers],0),IFERROR(INDEX(Tableau37[],_xlpm.r,_xlpm.c),""))} -> 0.462 | O73: 0
A74: 0 | B74: 1.2 | C74: 1 | D74: 3 | E74: 18 | F74: 0 | G74: 0 | H74: {=_xlfn.LET(_xlpm.m,$A74,_xlpm.ang,VALUE(H$1),_xlpm.th,$B74,_xlpm.v,$E74,_xlpm.r,_xlfn.XMATCH(1,(Tableau37[MaterialNumber2]=_xlpm.m)*(Tableau37[Angle]=_xlpm.ang)*(Tableau37[Thickness]=_xlpm.th),0),_xlpm.c,_xlfn.XMATCH(TEXT(_xlpm.v,"0"),Tableau37[#Headers],0),IFERROR(INDEX(Tableau37[],_xlpm.r,_xlpm.c),""))} -> 0.512 | I74: {=_xlfn.LET(_xlpm.m,$A74,_xlpm.ang,VALUE(I$1),_xlpm.th,$B74,_xlpm.v,$E74,_xlpm.r,_xlfn.XMATCH(1,(Tableau37[MaterialNumber2]=_xlpm.m)*(Tableau37[Angle]=_xlpm.ang)*(Tableau37[Thickness]=_xlpm.th),0),_xlpm.c,_xlfn.XMATCH(TEXT(_xlpm.v,"0"),Tableau37[#Headers],0),IFERROR(INDEX(Tableau37[],_xlpm.r,_xlpm.c),""))} -> 1.092 | J74: {=_xlfn.LET(_xlpm.m,$A74,_xlpm.ang,VALUE(J$1),_xlpm.th,$B74,_xlpm.v,$E74,_xlpm.r,_xlfn.XMATCH(1,(Tableau37[MaterialNumber2]=_xlpm.m)*(Tableau37[Angle]=_xlpm.ang)*(Tableau37[Thickness]=_xlpm.th),0),_xlpm.c,_xlfn.XMATCH(TEXT(_xlpm.v,"0"),Tableau37[#Headers],0),IFERROR(INDEX(Tableau37[],_xlpm.r,_xlpm.c),""))} -> 1.614 | K74: {=_xlfn.LET(_xlpm.m,$A74,_xlpm.ang,VALUE(K$1),_xlpm.th,$B74,_xlpm.v,$E74,_xlpm.r,_xlfn.XMATCH(1,(Tableau37[MaterialNumber2]=_xlpm.m)*(Tableau37[Angle]=_xlpm.ang)*(Tableau37[Thickness]=_xlpm.th),0),_xlpm.c,_xlfn.XMATCH(TEXT(_xlpm.v,"0"),Tableau37[#Headers],0),IFERROR(INDEX(Tableau37[],_xlpm.r,_xlpm.c),""))} -> 2.92 | L74: {=_xlfn.LET(_xlpm.m,$A74,_xlpm.ang,VALUE(L$1),_xlpm.th,$B74,_xlpm.v,$E74,_xlpm.r,_xlfn.XMATCH(1,(Tableau37[MaterialNumber2]=_xlpm.m)*(Tableau37[Angle]=_xlpm.ang)*(Tableau37[Thickness]=_xlpm.th),0),_xlpm.c,_xlfn.XMATCH(TEXT(_xlpm.v,"0"),Tableau37[#Headers],0),IFERROR(INDEX(Tableau37[],_xlpm.r,_xlpm.c),""))} -> 1.436 | M74: {=_xlfn.LET(_xlpm.m,$A74,_xlpm.ang,VALUE(M$1),_xlpm.th,$B74,_xlpm.v,$E74,_xlpm.r,_xlfn.XMATCH(1,(Tableau37[MaterialNumber2]=_xlpm.m)*(Tableau37[Angle]=_xlpm.ang)*(Tableau37[Thickness]=_xlpm.th),0),_xlpm.c,_xlfn.XMATCH(TEXT(_xlpm.v,"0"),Tableau37[#Headers],0),IFERROR(INDEX(Tableau37[],_xlpm.r,_xlpm.c),""))} -> 0.93 | N74: {=_xlfn.LET(_xlpm.m,$A74,_xlpm.ang,VALUE(N$1),_xlpm.th,$B74,_xlpm.v,$E74,_xlpm.r,_xlfn.XMATCH(1,(Tableau37[MaterialNumber2]=_xlpm.m)*(Tableau37[Angle]=_xlpm.ang)*(Tableau37[Thickness]=_xlpm.th),0),_xlpm.c,_xlfn.XMATCH(TEXT(_xlpm.v,"0"),Tableau37[#Headers],0),IFERROR(INDEX(Tableau37[],_xlpm.r,_xlpm.c),""))} -> 0.486 | O74: 0
